BEGIN:VCALENDAR
VERSION:2.0
PRODID:-//Colorado Rocky Mountain School - ECPv6.9.0//NONSGML v1.0//EN
CALSCALE:GREGORIAN
METHOD:PUBLISH
X-WR-CALNAME:Colorado Rocky Mountain School
X-ORIGINAL-URL:https://www.crms.org
X-WR-CALDESC:Events for Colorado Rocky Mountain School
REFRESH-INTERVAL;VALUE=DURATION:PT1H
X-Robots-Tag:noindex
X-PUBLISHED-TTL:PT1H
BEGIN:VTIMEZONE
TZID:America/Denver
BEGIN:DAYLIGHT
TZOFFSETFROM:-0700
TZOFFSETTO:-0600
TZNAME:MDT
DTSTART:20230312T090000
END:DAYLIGHT
BEGIN:STANDARD
TZOFFSETFROM:-0600
TZOFFSETTO:-0700
TZNAME:MST
DTSTART:20231105T080000
END:STANDARD
END:VTIMEZONE
BEGIN:VEVENT
DTSTART;VALUE=DATE:20230912
DTEND;VALUE=DATE:20230913
DTSTAMP:20260421T025200
CREATED:20230802T152154Z
LAST-MODIFIED:20230907T210014Z
UID:7484-1694476800-1694563199@www.crms.org
SUMMARY:Boys Soccer: Roaring Fork @ CRMS
DESCRIPTION:4:00 p.m.
URL:https://www.crms.org/calendar/boys-soccer-roaring-fork-crms-3/
CATEGORIES:Sports
END:VEVENT
BEGIN:VEVENT
DTSTART;TZID=America/Denver:20230913T163000
DTEND;TZID=America/Denver:20230913T180000
DTSTAMP:20260421T025200
CREATED:20230907T035521Z
LAST-MODIFIED:20230907T035931Z
UID:7817-1694622600-1694628000@www.crms.org
SUMMARY:Oystermeister: Pond Swim
DESCRIPTION:Wednesday\, September 13\, 4:30 – 6:00 p.m.\nMeet at the Kayak Pond \nWhat is Oystermeister? Seven times each school year\, students and faculty come together for a school-wide\, fun-for-all athletic event. Students pay an entry fee of $1 each to participate and all funds raised support student clubs. Regardless of ability\, we invite the entire CRMS community to join in – and don’t forget your school spirit\, costume\, and friendly competition! \nThe 7 events are: \n\nOpen water pond swim and party\n2.5-mile trail run on Tick Ridge\nCampus course cycling time trial\nRock climbing – bouldering in the CRMS Gym\n5K Nordic ski (skate or classic) at Spring Gulch\nAlpine downhill at the Snowmass Ski Area NASTAR course\nKayaking race starting at River Valley Ranch and ending at CRMS\n\nTo read more about the CRMS Oystermeiser tradition\, visit the CRMS blog.
URL:https://www.crms.org/calendar/oystermeister-pond-swim-2/
CATEGORIES:Community
END:VEVENT
BEGIN:VEVENT
DTSTART;VALUE=DATE:20230915
DTEND;VALUE=DATE:20230916
DTSTAMP:20260421T025200
CREATED:20230228T210341Z
LAST-MODIFIED:20230905T162911Z
UID:7131-1694736000-1694822399@www.crms.org
SUMMARY:Q1 Active Scholarships Deadline
DESCRIPTION:Apply here. \nStudents may also apply for a scholarship if their Fall Trip has a fee. \nPlease contact Molly Dorais\, Director of Enrollment\, with any questions.
URL:https://www.crms.org/calendar/q1-active-scholarships-deadline/
CATEGORIES:Community
END:VEVENT
BEGIN:VEVENT
DTSTART;VALUE=DATE:20230916
DTEND;VALUE=DATE:20230917
DTSTAMP:20260421T025200
CREATED:20230802T152319Z
LAST-MODIFIED:20230907T210040Z
UID:7486-1694822400-1694908799@www.crms.org
SUMMARY:Boys Soccer: CRMS @ Crested Butte
DESCRIPTION:1:00 p.m.
URL:https://www.crms.org/calendar/boys-soccer-crms-crested-butte-4/
CATEGORIES:Sports
END:VEVENT
BEGIN:VEVENT
DTSTART;VALUE=DATE:20230916
DTEND;VALUE=DATE:20230917
DTSTAMP:20260421T025200
CREATED:20230802T153632Z
LAST-MODIFIED:20230802T153632Z
UID:7507-1694822400-1694908799@www.crms.org
SUMMARY:XC Team: Eagle Valley
DESCRIPTION:
URL:https://www.crms.org/calendar/xc-team-eagle-valley/
CATEGORIES:Sports
END:VEVENT
END:VCALENDAR