BEGIN:VCALENDAR
VERSION:2.0
PRODID:-//Colorado Rocky Mountain School - ECPv6.9.0//NONSGML v1.0//EN
CALSCALE:GREGORIAN
METHOD:PUBLISH
X-ORIGINAL-URL:https://www.crms.org
X-WR-CALDESC:Events for Colorado Rocky Mountain School
REFRESH-INTERVAL;VALUE=DURATION:PT1H
X-Robots-Tag:noindex
X-PUBLISHED-TTL:PT1H
BEGIN:VTIMEZONE
TZID:America/Denver
BEGIN:DAYLIGHT
TZOFFSETFROM:-0700
TZOFFSETTO:-0600
TZNAME:MDT
DTSTART:20220313T090000
END:DAYLIGHT
BEGIN:STANDARD
TZOFFSETFROM:-0600
TZOFFSETTO:-0700
TZNAME:MST
DTSTART:20221106T080000
END:STANDARD
END:VTIMEZONE
BEGIN:VEVENT
DTSTART;VALUE=DATE:20220920
DTEND;VALUE=DATE:20220921
DTSTAMP:20260421T095910
CREATED:20220616T202221Z
LAST-MODIFIED:20220616T202221Z
UID:6161-1663632000-1663718399@www.crms.org
SUMMARY:Boys Soccer: Aspen @ CRMS
DESCRIPTION:
URL:https://www.crms.org/calendar/boys-soccer-aspen-crms/
CATEGORIES:Sports
END:VEVENT
BEGIN:VEVENT
DTSTART;VALUE=DATE:20220923
DTEND;VALUE=DATE:20220925
DTSTAMP:20260421T095910
CREATED:20220719T152540Z
LAST-MODIFIED:20220719T152540Z
UID:6389-1663891200-1664063999@www.crms.org
SUMMARY:XC Team: Crested Butte 5K
DESCRIPTION:
URL:https://www.crms.org/calendar/xc-team-crested-butte-5k/
CATEGORIES:Sports
END:VEVENT
BEGIN:VEVENT
DTSTART;VALUE=DATE:20220924
DTEND;VALUE=DATE:20220925
DTSTAMP:20260421T095910
CREATED:20220616T202243Z
LAST-MODIFIED:20220616T202243Z
UID:6163-1663977600-1664063999@www.crms.org
SUMMARY:Boys Soccer: CRMS @ Telluride
DESCRIPTION:
URL:https://www.crms.org/calendar/boys-soccer-crms-telluride-2/
CATEGORIES:Sports
END:VEVENT
BEGIN:VEVENT
DTSTART;VALUE=DATE:20220925
DTEND;VALUE=DATE:20220926
DTSTAMP:20260421T095910
CREATED:20220616T202314Z
LAST-MODIFIED:20220616T202314Z
UID:6165-1664064000-1664150399@www.crms.org
SUMMARY:Bike Team Race #3: Snowmass
DESCRIPTION:
URL:https://www.crms.org/calendar/bike-team-race-3-snowmass-2/
CATEGORIES:Sports
END:VEVENT
END:VCALENDAR