BEGIN:VCALENDAR
VERSION:2.0
PRODID:-//Colorado Rocky Mountain School - ECPv6.9.0//NONSGML v1.0//EN
CALSCALE:GREGORIAN
METHOD:PUBLISH
X-ORIGINAL-URL:https://www.crms.org
X-WR-CALDESC:Events for Colorado Rocky Mountain School
REFRESH-INTERVAL;VALUE=DURATION:PT1H
X-Robots-Tag:noindex
X-PUBLISHED-TTL:PT1H
BEGIN:VTIMEZONE
TZID:America/Denver
BEGIN:DAYLIGHT
TZOFFSETFROM:-0700
TZOFFSETTO:-0600
TZNAME:MDT
DTSTART:20240310T090000
END:DAYLIGHT
BEGIN:STANDARD
TZOFFSETFROM:-0600
TZOFFSETTO:-0700
TZNAME:MST
DTSTART:20241103T080000
END:STANDARD
END:VTIMEZONE
BEGIN:VEVENT
DTSTART;VALUE=DATE:20241005
DTEND;VALUE=DATE:20241006
DTSTAMP:20260420T215523
CREATED:20240812T155802Z
LAST-MODIFIED:20240812T155802Z
UID:9656-1728086400-1728172799@www.crms.org
SUMMARY:XC Running: Chris Severy Invitational
DESCRIPTION:Aspen High School\nAspen\, CO
URL:https://www.crms.org/calendar/xc-running-chris-severy-invitational/
CATEGORIES:Sports
END:VEVENT
BEGIN:VEVENT
DTSTART;VALUE=DATE:20241005
DTEND;VALUE=DATE:20241007
DTSTAMP:20260420T215523
CREATED:20241005T060000Z
LAST-MODIFIED:20240804T183238Z
UID:8931-1728086400-1728259199@www.crms.org
SUMMARY:Bike Team: Race #4: Fruita
DESCRIPTION:CRMS Race Day: Saturday\, October 5th\nN. Fruita Desert Classic
URL:https://www.crms.org/calendar/bike-team-race-3-eagle/
CATEGORIES:Sports
END:VEVENT
END:VCALENDAR