BEGIN:VCALENDAR
VERSION:2.0
PRODID:-//Colorado Rocky Mountain School - ECPv6.9.0//NONSGML v1.0//EN
CALSCALE:GREGORIAN
METHOD:PUBLISH
X-ORIGINAL-URL:https://www.crms.org
X-WR-CALDESC:Events for Colorado Rocky Mountain School
REFRESH-INTERVAL;VALUE=DURATION:PT1H
X-Robots-Tag:noindex
X-PUBLISHED-TTL:PT1H
BEGIN:VTIMEZONE
TZID:America/Denver
BEGIN:DAYLIGHT
TZOFFSETFROM:-0700
TZOFFSETTO:-0600
TZNAME:MDT
DTSTART:20240310T090000
END:DAYLIGHT
BEGIN:STANDARD
TZOFFSETFROM:-0600
TZOFFSETTO:-0700
TZNAME:MST
DTSTART:20241103T080000
END:STANDARD
END:VTIMEZONE
BEGIN:VEVENT
DTSTART;VALUE=DATE:20240124
DTEND;VALUE=DATE:20240125
DTSTAMP:20260422T162443
CREATED:20231205T175705Z
LAST-MODIFIED:20231205T175705Z
UID:8506-1706054400-1706140799@www.crms.org
SUMMARY:Nordic Team: Vail Nordic Center
DESCRIPTION:
URL:https://www.crms.org/calendar/nordic-team-vail-nordic-center-2/
CATEGORIES:Sports
END:VEVENT
BEGIN:VEVENT
DTSTART;VALUE=DATE:20240126
DTEND;VALUE=DATE:20240128
DTSTAMP:20260422T162443
CREATED:20231020T200909Z
LAST-MODIFIED:20231020T201003Z
UID:8255-1706227200-1706399999@www.crms.org
SUMMARY:Climb Team: Western Colorado Climbing Competition
DESCRIPTION:
URL:https://www.crms.org/calendar/climb-team-western-colorado-climbing-competition/
CATEGORIES:Sports
END:VEVENT
END:VCALENDAR