BEGIN:VCALENDAR
VERSION:2.0
PRODID:-//Colorado Rocky Mountain School - ECPv6.9.0//NONSGML v1.0//EN
CALSCALE:GREGORIAN
METHOD:PUBLISH
X-ORIGINAL-URL:https://www.crms.org
X-WR-CALDESC:Events for Colorado Rocky Mountain School
REFRESH-INTERVAL;VALUE=DURATION:PT1H
X-Robots-Tag:noindex
X-PUBLISHED-TTL:PT1H
BEGIN:VTIMEZONE
TZID:America/Denver
BEGIN:DAYLIGHT
TZOFFSETFROM:-0700
TZOFFSETTO:-0600
TZNAME:MDT
DTSTART:20230312T090000
END:DAYLIGHT
BEGIN:STANDARD
TZOFFSETFROM:-0600
TZOFFSETTO:-0700
TZNAME:MST
DTSTART:20231105T080000
END:STANDARD
END:VTIMEZONE
BEGIN:VEVENT
DTSTART;VALUE=DATE:20231007
DTEND;VALUE=DATE:20231008
DTSTAMP:20260422T235601
CREATED:20230802T152825Z
LAST-MODIFIED:20230907T210301Z
UID:7496-1696636800-1696723199@www.crms.org
SUMMARY:Boys Soccer: Telluride @ CRMS
DESCRIPTION:1:00 p.m.
URL:https://www.crms.org/calendar/boys-soccer-telluride-crms-3/
CATEGORIES:Sports
END:VEVENT
BEGIN:VEVENT
DTSTART;VALUE=DATE:20231007
DTEND;VALUE=DATE:20231008
DTSTAMP:20260422T235601
CREATED:20230802T153931Z
LAST-MODIFIED:20230802T153931Z
UID:7515-1696636800-1696723199@www.crms.org
SUMMARY:XC Team: Aspen
DESCRIPTION:
URL:https://www.crms.org/calendar/xc-team-aspen-2/
CATEGORIES:Sports
END:VEVENT
BEGIN:VEVENT
DTSTART;VALUE=DATE:20231008
DTEND;VALUE=DATE:20231009
DTSTAMP:20260422T235601
CREATED:20230802T154701Z
LAST-MODIFIED:20230802T154701Z
UID:7532-1696723200-1696809599@www.crms.org
SUMMARY:Bike Team: Race #4: Eagle
DESCRIPTION:
URL:https://www.crms.org/calendar/bike-team-race-4-eagle-3/
CATEGORIES:Sports
END:VEVENT
END:VCALENDAR