BEGIN:VCALENDAR
VERSION:2.0
PRODID:-//Colorado Rocky Mountain School - ECPv6.9.0//NONSGML v1.0//EN
CALSCALE:GREGORIAN
METHOD:PUBLISH
X-WR-CALNAME:Colorado Rocky Mountain School
X-ORIGINAL-URL:https://www.crms.org
X-WR-CALDESC:Events for Colorado Rocky Mountain School
REFRESH-INTERVAL;VALUE=DURATION:PT1H
X-Robots-Tag:noindex
X-PUBLISHED-TTL:PT1H
BEGIN:VTIMEZONE
TZID:America/Denver
BEGIN:DAYLIGHT
TZOFFSETFROM:-0700
TZOFFSETTO:-0600
TZNAME:MDT
DTSTART:20230312T090000
END:DAYLIGHT
BEGIN:STANDARD
TZOFFSETFROM:-0600
TZOFFSETTO:-0700
TZNAME:MST
DTSTART:20231105T080000
END:STANDARD
END:VTIMEZONE
BEGIN:VEVENT
DTSTART;VALUE=DATE:20230908
DTEND;VALUE=DATE:20230909
DTSTAMP:20260423T045252
CREATED:20230802T151539Z
LAST-MODIFIED:20230907T205915Z
UID:7480-1694131200-1694217599@www.crms.org
SUMMARY:Boys Soccer: Crested Butte @ CRMS
DESCRIPTION:3:00 p.m.
URL:https://www.crms.org/calendar/boys-soccer-crms-crested-butte-3/
CATEGORIES:Sports
END:VEVENT
BEGIN:VEVENT
DTSTART;VALUE=DATE:20230910
DTEND;VALUE=DATE:20230911
DTSTAMP:20260423T045252
CREATED:20230802T154338Z
LAST-MODIFIED:20230802T154541Z
UID:7525-1694304000-1694390399@www.crms.org
SUMMARY:Bike Team: Race #2: Glenwood Springs
DESCRIPTION:
URL:https://www.crms.org/calendar/bike-team-race-2-glenwood-springs/
CATEGORIES:Sports
END:VEVENT
END:VCALENDAR