BEGIN:VCALENDAR
VERSION:2.0
PRODID:-//Colorado Rocky Mountain School - ECPv6.9.0//NONSGML v1.0//EN
CALSCALE:GREGORIAN
METHOD:PUBLISH
X-ORIGINAL-URL:https://www.crms.org
X-WR-CALDESC:Events for Colorado Rocky Mountain School
REFRESH-INTERVAL;VALUE=DURATION:PT1H
X-Robots-Tag:noindex
X-PUBLISHED-TTL:PT1H
BEGIN:VTIMEZONE
TZID:America/Denver
BEGIN:DAYLIGHT
TZOFFSETFROM:-0700
TZOFFSETTO:-0600
TZNAME:MDT
DTSTART:20250309T090000
END:DAYLIGHT
BEGIN:STANDARD
TZOFFSETFROM:-0600
TZOFFSETTO:-0700
TZNAME:MST
DTSTART:20251102T080000
END:STANDARD
END:VTIMEZONE
BEGIN:VEVENT
DTSTART;VALUE=DATE:20250916
DTEND;VALUE=DATE:20250917
DTSTAMP:20260419T175512
CREATED:20250829T160250Z
LAST-MODIFIED:20250829T160250Z
UID:11996-1757980800-1758067199@www.crms.org
SUMMARY:Boys Soccer: Aspen @ CRMS
DESCRIPTION:4:30 p.m. Varsity\n6:00 p.m. JV
URL:https://www.crms.org/calendar/boys-soccer-aspen-crms-4/
CATEGORIES:Sports
END:VEVENT
BEGIN:VEVENT
DTSTART;VALUE=DATE:20250909
DTEND;VALUE=DATE:20250910
DTSTAMP:20260419T175512
CREATED:20250829T160146Z
LAST-MODIFIED:20250829T160153Z
UID:11997-1757376000-1757462399@www.crms.org
SUMMARY:Boys Soccer: CRMS @ Caprock
DESCRIPTION:4:00 p.m. Varsity\n5:30 p.m. JV
URL:https://www.crms.org/calendar/boys-soccer-crms-caprock-5/
CATEGORIES:Sports
END:VEVENT
BEGIN:VEVENT
DTSTART;VALUE=DATE:20250906
DTEND;VALUE=DATE:20250907
DTSTAMP:20260419T175512
CREATED:20250903T153852Z
LAST-MODIFIED:20250903T153852Z
UID:12032-1757116800-1757203199@www.crms.org
SUMMARY:XC Running: Eagle Valley Invitational
DESCRIPTION:Siena Valley Club\nGypsum\, CO
URL:https://www.crms.org/calendar/xc-running-eagle-valley-invitational/
CATEGORIES:Sports
END:VEVENT
BEGIN:VEVENT
DTSTART;VALUE=DATE:20250827
DTEND;VALUE=DATE:20250828
DTSTAMP:20260419T175512
CREATED:20250612T204652Z
LAST-MODIFIED:20250612T204652Z
UID:11489-1756252800-1756339199@www.crms.org
SUMMARY:Bike Team: Preseason Training
DESCRIPTION:
URL:https://www.crms.org/calendar/bike-team-preseason-training-2/
CATEGORIES:Sports
END:VEVENT
BEGIN:VEVENT
DTSTART;VALUE=DATE:20250825
DTEND;VALUE=DATE:20250826
DTSTAMP:20260419T175512
CREATED:20250612T204615Z
LAST-MODIFIED:20250612T204635Z
UID:11490-1756080000-1756166399@www.crms.org
SUMMARY:Bike Team: Preseason Training
DESCRIPTION:
URL:https://www.crms.org/calendar/bike-team-preseason-training/
CATEGORIES:Sports
END:VEVENT
BEGIN:VEVENT
DTSTART;VALUE=DATE:20250824
DTEND;VALUE=DATE:20250831
DTSTAMP:20260419T175512
CREATED:20250612T204829Z
LAST-MODIFIED:20250612T205151Z
UID:11494-1755993600-1756598399@www.crms.org
SUMMARY:Fall Soccer Team: Preseason Training
DESCRIPTION:Start: Sunday\, August 24\, 4:00 p.m.\nEnd: Saturday\, August 30\, 12:00 p.m.
URL:https://www.crms.org/calendar/preseason-training-for-soccer-team-2/
CATEGORIES:Sports
END:VEVENT
BEGIN:VEVENT
DTSTART;VALUE=DATE:20250820
DTEND;VALUE=DATE:20250824
DTSTAMP:20260419T175512
CREATED:20250612T204424Z
LAST-MODIFIED:20250612T204510Z
UID:11487-1755648000-1755993599@www.crms.org
SUMMARY:Bike Team: Preseason Training
DESCRIPTION:
URL:https://www.crms.org/calendar/preseason-training-for-bike-team-4/
CATEGORIES:Sports
END:VEVENT
BEGIN:VEVENT
DTSTART;VALUE=DATE:20250424
DTEND;VALUE=DATE:20250425
DTSTAMP:20260419T175512
CREATED:20250115T195051Z
LAST-MODIFIED:20250115T195051Z
UID:10537-1745452800-1745539199@www.crms.org
SUMMARY:Girls Soccer: CRMS @ Grand Valley
DESCRIPTION:
URL:https://www.crms.org/calendar/girls-soccer-crms-grand-valley-3/
CATEGORIES:Sports
END:VEVENT
BEGIN:VEVENT
DTSTART;VALUE=DATE:20250422
DTEND;VALUE=DATE:20250423
DTSTAMP:20260419T175512
CREATED:20250115T194911Z
LAST-MODIFIED:20250115T194959Z
UID:10534-1745280000-1745366399@www.crms.org
SUMMARY:Girls Soccer@ Moffat
DESCRIPTION:
URL:https://www.crms.org/calendar/girls-soccer-moffat-crms-5/
CATEGORIES:Sports
END:VEVENT
BEGIN:VEVENT
DTSTART;VALUE=DATE:20250419
DTEND;VALUE=DATE:20250420
DTSTAMP:20260419T175512
CREATED:20250220T205318Z
LAST-MODIFIED:20250220T205318Z
UID:10982-1745020800-1745107199@www.crms.org
SUMMARY:Girls Soccer: Rifle @ CRMS
DESCRIPTION:
URL:https://www.crms.org/calendar/girls-soccer-rifle-crms/
CATEGORIES:Sports
END:VEVENT
BEGIN:VEVENT
DTSTART;VALUE=DATE:20250417
DTEND;VALUE=DATE:20250418
DTSTAMP:20260419T175512
CREATED:20250115T194541Z
LAST-MODIFIED:20250115T194541Z
UID:10532-1744848000-1744934399@www.crms.org
SUMMARY:Girls Soccer @ Vail Christian
DESCRIPTION:
URL:https://www.crms.org/calendar/girls-soccer-vail-christian-3/
LOCATION:Freedom Park Soccer Fields\, 300 Miller Ranch Rd.\, Edwards\, CO\, 81632\, United States
CATEGORIES:Sports
END:VEVENT
BEGIN:VEVENT
DTSTART;VALUE=DATE:20250410
DTEND;VALUE=DATE:20250411
DTSTAMP:20260419T175512
CREATED:20250115T194317Z
LAST-MODIFIED:20250115T194638Z
UID:10526-1744243200-1744329599@www.crms.org
SUMMARY:Girls Soccer: Vail Christian @ CRMS
DESCRIPTION:
URL:https://www.crms.org/calendar/girls-soccer-vail-christian-crms-4/
CATEGORIES:Sports
END:VEVENT
BEGIN:VEVENT
DTSTART;VALUE=DATE:20250408
DTEND;VALUE=DATE:20250409
DTSTAMP:20260419T175512
CREATED:20250114T220235Z
LAST-MODIFIED:20250115T194658Z
UID:10522-1744070400-1744156799@www.crms.org
SUMMARY:Girls Soccer: Aspen @ CRMS
DESCRIPTION:
URL:https://www.crms.org/calendar/girls-soccer-aspen-crms-4/
CATEGORIES:Sports
END:VEVENT
BEGIN:VEVENT
DTSTART;VALUE=DATE:20250403
DTEND;VALUE=DATE:20250404
DTSTAMP:20260419T175512
CREATED:20250114T215031Z
LAST-MODIFIED:20250115T194721Z
UID:10520-1743638400-1743724799@www.crms.org
SUMMARY:Girls Soccer: Grand Valley @ CRMS
DESCRIPTION:
URL:https://www.crms.org/calendar/girls-soccer-grand-valley-crms-5/
CATEGORIES:Sports
END:VEVENT
BEGIN:VEVENT
DTSTART;VALUE=DATE:20250311
DTEND;VALUE=DATE:20250312
DTSTAMP:20260419T175512
CREATED:20250114T214926Z
LAST-MODIFIED:20250115T194740Z
UID:10518-1741651200-1741737599@www.crms.org
SUMMARY:Girls Soccer @ Delta
DESCRIPTION:
URL:https://www.crms.org/calendar/girls-soccer-delta-3/
CATEGORIES:Sports
END:VEVENT
BEGIN:VEVENT
DTSTART;VALUE=DATE:20250306
DTEND;VALUE=DATE:20250307
DTSTAMP:20260419T175512
CREATED:20250114T214804Z
LAST-MODIFIED:20250115T194759Z
UID:10516-1741219200-1741305599@www.crms.org
SUMMARY:Girls Soccer: Moffat @ CRMS
DESCRIPTION:
URL:https://www.crms.org/calendar/girls-soccer-moffat-crms-4/
CATEGORIES:Sports
END:VEVENT
BEGIN:VEVENT
DTSTART;VALUE=DATE:20250305
DTEND;VALUE=DATE:20250306
DTSTAMP:20260419T175512
CREATED:20250114T213818Z
LAST-MODIFIED:20250114T213818Z
UID:10512-1741132800-1741219199@www.crms.org
SUMMARY:Big Mountain Team: Vail IFSA Competition
DESCRIPTION:
URL:https://www.crms.org/calendar/big-mountain-team-vail-ifsa-competition/
CATEGORIES:Sports
END:VEVENT
BEGIN:VEVENT
DTSTART;VALUE=DATE:20250304
DTEND;VALUE=DATE:20250305
DTSTAMP:20260419T175512
CREATED:20241108T155846Z
LAST-MODIFIED:20241108T155846Z
UID:10161-1741046400-1741132799@www.crms.org
SUMMARY:Nordic Team: Ski Cooper
DESCRIPTION:Ski Meister @ Ski Cooper – 9:30 am
URL:https://www.crms.org/calendar/nordic-team-ski-cooper/
CATEGORIES:Sports
END:VEVENT
BEGIN:VEVENT
DTSTART;VALUE=DATE:20250301
DTEND;VALUE=DATE:20250303
DTSTAMP:20260419T175512
CREATED:20250114T213725Z
LAST-MODIFIED:20250114T213725Z
UID:10510-1740787200-1740959999@www.crms.org
SUMMARY:Big Mountain Team: Winter Park IFSA Competition
DESCRIPTION:
URL:https://www.crms.org/calendar/big-mountain-team-winter-park-ifsa-competition/
CATEGORIES:Sports
END:VEVENT
BEGIN:VEVENT
DTSTART;VALUE=DATE:20250227
DTEND;VALUE=DATE:20250301
DTSTAMP:20260419T175512
CREATED:20241108T155602Z
LAST-MODIFIED:20241108T155602Z
UID:10162-1740614400-1740787199@www.crms.org
SUMMARY:Nordic Team: State Championships in Steamboat Springs
DESCRIPTION:State Championship @ Steamboat Springs – time TBD
URL:https://www.crms.org/calendar/nordic-team-state-championships-in-steamboat-springs/
CATEGORIES:Sports
END:VEVENT
BEGIN:VEVENT
DTSTART;VALUE=DATE:20250224
DTEND;VALUE=DATE:20250225
DTSTAMP:20260419T175512
CREATED:20250114T213603Z
LAST-MODIFIED:20250114T213603Z
UID:10508-1740355200-1740441599@www.crms.org
SUMMARY:Telemark Team: Taos IFSA Competition
DESCRIPTION:
URL:https://www.crms.org/calendar/telemark-team-taos-ifsa-competition/
CATEGORIES:Sports
END:VEVENT
BEGIN:VEVENT
DTSTART;VALUE=DATE:20250222
DTEND;VALUE=DATE:20250223
DTSTAMP:20260419T175512
CREATED:20241104T025819Z
LAST-MODIFIED:20241104T030115Z
UID:10131-1740182400-1740268799@www.crms.org
SUMMARY:Climb Team: Colorado State Climbing Championship @ Colorado Springs
DESCRIPTION:Gripstone Climbing Gym\n6220 TUTT Boulevard\nColorado Springs\, CO
URL:https://www.crms.org/calendar/climb-team-colorado-state-climbing-championship-colorado-springs/
CATEGORIES:Sports
END:VEVENT
BEGIN:VEVENT
DTSTART;VALUE=DATE:20250215
DTEND;VALUE=DATE:20250216
DTSTAMP:20260419T175512
CREATED:20241108T155453Z
LAST-MODIFIED:20241108T155453Z
UID:10153-1739577600-1739663999@www.crms.org
SUMMARY:Nordic Team: CMC Leadville
DESCRIPTION:Classic Race @ Colorado Mountain College in Leadville – 11:00 am
URL:https://www.crms.org/calendar/nordic-team-cmc-leadville/
CATEGORIES:Sports
END:VEVENT
BEGIN:VEVENT
DTSTART;VALUE=DATE:20250207
DTEND;VALUE=DATE:20250208
DTSTAMP:20260419T175512
CREATED:20241108T155403Z
LAST-MODIFIED:20241108T155403Z
UID:10154-1738886400-1738972799@www.crms.org
SUMMARY:Nordic Team: Breckenridge
DESCRIPTION:Skate Race @ Gold Run Nordic Center in Breckenridge – 12:00 pm
URL:https://www.crms.org/calendar/nordic-team-breckenridge/
CATEGORIES:Sports
END:VEVENT
BEGIN:VEVENT
DTSTART;VALUE=DATE:20250201
DTEND;VALUE=DATE:20250202
DTSTAMP:20260419T175512
CREATED:20250114T213336Z
LAST-MODIFIED:20250114T213336Z
UID:10506-1738368000-1738454399@www.crms.org
SUMMARY:Telemark Team: Winter Park IFSA Competition
DESCRIPTION:
URL:https://www.crms.org/calendar/telemark-team-winter-park-ifsa-competition/
CATEGORIES:Sports
END:VEVENT
BEGIN:VEVENT
DTSTART;VALUE=DATE:20250201
DTEND;VALUE=DATE:20250202
DTSTAMP:20260419T175512
CREATED:20241104T025708Z
LAST-MODIFIED:20241104T030231Z
UID:10129-1738368000-1738454399@www.crms.org
SUMMARY:Climb Team: Regionals at Grand Junction
DESCRIPTION:Grand Valley Climbing Gym\n611 25 Road\nGrand Junction\, CO
URL:https://www.crms.org/calendar/climb-team-regionals-at-grand-junction/
CATEGORIES:Sports
END:VEVENT
BEGIN:VEVENT
DTSTART;VALUE=DATE:20250129
DTEND;VALUE=DATE:20250130
DTSTAMP:20260419T175512
CREATED:20241108T155250Z
LAST-MODIFIED:20241108T155250Z
UID:10155-1738108800-1738195199@www.crms.org
SUMMARY:Nordic Team: Eldora
DESCRIPTION:Classic Race @ Eldora Nordic Center in Nederland – 2:00 pm
URL:https://www.crms.org/calendar/nordic-team-eldora/
CATEGORIES:Sports
END:VEVENT
BEGIN:VEVENT
DTSTART;VALUE=DATE:20250126
DTEND;VALUE=DATE:20250127
DTSTAMP:20260419T175512
CREATED:20250114T213204Z
LAST-MODIFIED:20250114T213237Z
UID:10503-1737849600-1737935999@www.crms.org
SUMMARY:Telemark Team: Steamboat IFSA Competition
DESCRIPTION:
URL:https://www.crms.org/calendar/telemark-team-steamboart-ifsa-competition/
CATEGORIES:Sports
END:VEVENT
BEGIN:VEVENT
DTSTART;VALUE=DATE:20250125
DTEND;VALUE=DATE:20250126
DTSTAMP:20260419T175512
CREATED:20241108T155140Z
LAST-MODIFIED:20241108T155140Z
UID:10156-1737763200-1737849599@www.crms.org
SUMMARY:Nordic Team: Snow Mountain Ranch
DESCRIPTION:Skate Race @ Snow Mountain Ranch in Granby – 11:00 am
URL:https://www.crms.org/calendar/nordic-team-snow-mountain-ranch-2/
CATEGORIES:Sports
END:VEVENT
BEGIN:VEVENT
DTSTART;VALUE=DATE:20250125
DTEND;VALUE=DATE:20250126
DTSTAMP:20260419T175512
CREATED:20241104T031054Z
LAST-MODIFIED:20241104T031054Z
UID:10142-1737763200-1737849599@www.crms.org
SUMMARY:Climb Team (Optional): Gunnison
DESCRIPTION:Western Colorado University\n1 Western Way\nGunnison\, CO
URL:https://www.crms.org/calendar/climb-team-optional-gunnison/
CATEGORIES:Sports
END:VEVENT
END:VCALENDAR