BEGIN:VCALENDAR
VERSION:2.0
PRODID:-//Colorado Rocky Mountain School - ECPv6.9.0//NONSGML v1.0//EN
CALSCALE:GREGORIAN
METHOD:PUBLISH
X-WR-CALNAME:Colorado Rocky Mountain School
X-ORIGINAL-URL:https://www.crms.org
X-WR-CALDESC:Events for Colorado Rocky Mountain School
REFRESH-INTERVAL;VALUE=DURATION:PT1H
X-Robots-Tag:noindex
X-PUBLISHED-TTL:PT1H
BEGIN:VTIMEZONE
TZID:America/Denver
BEGIN:DAYLIGHT
TZOFFSETFROM:-0700
TZOFFSETTO:-0600
TZNAME:MDT
DTSTART:20200308T090000
END:DAYLIGHT
BEGIN:STANDARD
TZOFFSETFROM:-0600
TZOFFSETTO:-0700
TZNAME:MST
DTSTART:20201101T080000
END:STANDARD
BEGIN:DAYLIGHT
TZOFFSETFROM:-0700
TZOFFSETTO:-0600
TZNAME:MDT
DTSTART:20210314T090000
END:DAYLIGHT
BEGIN:STANDARD
TZOFFSETFROM:-0600
TZOFFSETTO:-0700
TZNAME:MST
DTSTART:20211107T080000
END:STANDARD
END:VTIMEZONE
BEGIN:VEVENT
DTSTART;VALUE=DATE:20210316
DTEND;VALUE=DATE:20210317
DTSTAMP:20260421T060223
CREATED:20210208T200802Z
LAST-MODIFIED:20210316T164551Z
UID:4130-1615852800-1615939199@www.crms.org
SUMMARY:Boys Soccer at Caprock
DESCRIPTION:The Boys Soccer Team will compete at Caprock.
URL:https://www.crms.org/calendar/boys-soccer-at-caprock/
CATEGORIES:Sports
END:VEVENT
BEGIN:VEVENT
DTSTART;VALUE=DATE:20210312
DTEND;VALUE=DATE:20210313
DTSTAMP:20260421T060223
CREATED:20210309T154602Z
LAST-MODIFIED:20210309T154602Z
UID:4222-1615507200-1615593599@www.crms.org
SUMMARY:Climb Team: Monkey House
DESCRIPTION:The CRMS Climb Team will compete against other Roaring Fork Valley youth in the first official league competition held at Monkey House in Carbondale. The competition will take place over the course of the week to ensure social distancing guidelines with various teams and individuals trying to complete as many climbs as possible within a 2-hour time frame.
URL:https://www.crms.org/calendar/climb-team-monkey-house/
CATEGORIES:Sports
END:VEVENT
BEGIN:VEVENT
DTSTART;VALUE=DATE:20210309
DTEND;VALUE=DATE:20210310
DTSTAMP:20260421T060223
CREATED:20210208T200649Z
LAST-MODIFIED:20210208T200714Z
UID:4127-1615248000-1615334399@www.crms.org
SUMMARY:Telemark Team: Aspen Competition
DESCRIPTION:The Telemark Team will compete in Aspen.
URL:https://www.crms.org/calendar/telemark-team-aspen-competition/
CATEGORIES:Sports
END:VEVENT
BEGIN:VEVENT
DTSTART;VALUE=DATE:20210306
DTEND;VALUE=DATE:20210307
DTSTAMP:20260421T060223
CREATED:20210126T155820Z
LAST-MODIFIED:20210126T155820Z
UID:4035-1614988800-1615075199@www.crms.org
SUMMARY:Nordic Team State Competition
DESCRIPTION:at Gold Run Breckenridge
URL:https://www.crms.org/calendar/nordic-team-state-competition/
CATEGORIES:Sports
END:VEVENT
BEGIN:VEVENT
DTSTART;VALUE=DATE:20210227
DTEND;VALUE=DATE:20210228
DTSTAMP:20260421T060223
CREATED:20210126T155710Z
LAST-MODIFIED:20210129T145909Z
UID:4033-1614384000-1614470399@www.crms.org
SUMMARY:Nordic Team event
DESCRIPTION:Spring Gulch 5k
URL:https://www.crms.org/calendar/nordic-team-event-3/
CATEGORIES:Sports
END:VEVENT
BEGIN:VEVENT
DTSTART;VALUE=DATE:20210213
DTEND;VALUE=DATE:20210214
DTSTAMP:20260421T060223
CREATED:20210126T155349Z
LAST-MODIFIED:20210129T145809Z
UID:4029-1613174400-1613260799@www.crms.org
SUMMARY:Nordic Team Event
DESCRIPTION:AVSC HS Course 5k Skate v Aspen
URL:https://www.crms.org/calendar/nordic-team-event-2/
CATEGORIES:Sports
END:VEVENT
BEGIN:VEVENT
DTSTART;VALUE=DATE:20210130
DTEND;VALUE=DATE:20210131
DTSTAMP:20260421T060223
CREATED:20210126T154231Z
LAST-MODIFIED:20210129T145700Z
UID:4022-1611964800-1612051199@www.crms.org
SUMMARY:Nordic Team Event
DESCRIPTION:AVSC HS Course 5k Classic v Aspen
URL:https://www.crms.org/calendar/nordic-team-event/
CATEGORIES:Sports
END:VEVENT
BEGIN:VEVENT
DTSTART;VALUE=DATE:20201024
DTEND;VALUE=DATE:20201025
DTSTAMP:20260421T060223
CREATED:20201015T203214Z
LAST-MODIFIED:20201124T141218Z
UID:2917-1603497600-1603583999@www.crms.org
SUMMARY:Bike Team: Challenge #5
DESCRIPTION:
URL:https://www.crms.org/calendar/bike-team-challenge-5/
CATEGORIES:Community,Sports
END:VEVENT
BEGIN:VEVENT
DTSTART;VALUE=DATE:20201017
DTEND;VALUE=DATE:20201018
DTSTAMP:20260421T060223
CREATED:20201015T202024Z
LAST-MODIFIED:20201124T141547Z
UID:2898-1602892800-1602979199@www.crms.org
SUMMARY:XC Team: States in CO Springs
DESCRIPTION:
URL:https://www.crms.org/calendar/xc-team-states-in-co-springs/
CATEGORIES:Community,Sports
END:VEVENT
END:VCALENDAR