BEGIN:VCALENDAR
VERSION:2.0
PRODID:-//Colorado Rocky Mountain School - ECPv6.9.0//NONSGML v1.0//EN
CALSCALE:GREGORIAN
METHOD:PUBLISH
X-ORIGINAL-URL:https://www.crms.org
X-WR-CALDESC:Events for Colorado Rocky Mountain School
REFRESH-INTERVAL;VALUE=DURATION:PT1H
X-Robots-Tag:noindex
X-PUBLISHED-TTL:PT1H
BEGIN:VTIMEZONE
TZID:America/Denver
BEGIN:DAYLIGHT
TZOFFSETFROM:-0700
TZOFFSETTO:-0600
TZNAME:MDT
DTSTART:20210314T090000
END:DAYLIGHT
BEGIN:STANDARD
TZOFFSETFROM:-0600
TZOFFSETTO:-0700
TZNAME:MST
DTSTART:20211107T080000
END:STANDARD
END:VTIMEZONE
BEGIN:VEVENT
DTSTART;VALUE=DATE:20210926
DTEND;VALUE=DATE:20210927
DTSTAMP:20260421T024224
CREATED:20210614T205743Z
LAST-MODIFIED:20210614T205743Z
UID:4871-1632614400-1632700799@www.crms.org
SUMMARY:Bike Team: Race #3 Snowmass
DESCRIPTION:
URL:https://www.crms.org/calendar/bike-team-race-3-snowmass/
CATEGORIES:Sports
END:VEVENT
BEGIN:VEVENT
DTSTART;TZID=America/Denver:20210925T110000
DTEND;TZID=America/Denver:20210925T120000
DTSTAMP:20260421T024224
CREATED:20210614T205655Z
LAST-MODIFIED:20210923T160214Z
UID:4869-1632567600-1632571200@www.crms.org
SUMMARY:Boys Soccer: Telluride @ CRMS
DESCRIPTION:
URL:https://www.crms.org/calendar/boys-soccer-telluride-crms/
CATEGORIES:Sports
END:VEVENT
BEGIN:VEVENT
DTSTART;VALUE=DATE:20210925
DTEND;VALUE=DATE:20210926
DTSTAMP:20260421T024224
CREATED:20210810T014449Z
LAST-MODIFIED:20210810T014449Z
UID:5098-1632528000-1632614399@www.crms.org
SUMMARY:XC Team: Emma Coburn's Elk Run\, Crested Butte
DESCRIPTION:
URL:https://www.crms.org/calendar/xc-team-emma-coburns-elk-run-crested-butte/
CATEGORIES:Sports
END:VEVENT
BEGIN:VEVENT
DTSTART;TZID=America/Denver:20210924T160000
DTEND;TZID=America/Denver:20210924T170000
DTSTAMP:20260421T024224
CREATED:20210614T205625Z
LAST-MODIFIED:20210923T160135Z
UID:4867-1632499200-1632502800@www.crms.org
SUMMARY:Boys Soccer: CRMS @ Ridgeway
DESCRIPTION:
URL:https://www.crms.org/calendar/boys-soccer-crms-ridgeway/
CATEGORIES:Sports
END:VEVENT
BEGIN:VEVENT
DTSTART;VALUE=DATE:20210918
DTEND;VALUE=DATE:20210919
DTSTAMP:20260421T024224
CREATED:20210614T205548Z
LAST-MODIFIED:20210614T205548Z
UID:4864-1631923200-1632009599@www.crms.org
SUMMARY:Boys Soccer: CRMS @ Crested Butte
DESCRIPTION:
URL:https://www.crms.org/calendar/boys-soccer-crms-crested-butte/
CATEGORIES:Sports
END:VEVENT
BEGIN:VEVENT
DTSTART;VALUE=DATE:20210917
DTEND;VALUE=DATE:20210918
DTSTAMP:20260421T024224
CREATED:20210810T014416Z
LAST-MODIFIED:20210810T014416Z
UID:5096-1631836800-1631923199@www.crms.org
SUMMARY:XC Team: Ramble at the Reservoir\, Ridgeway
DESCRIPTION:
URL:https://www.crms.org/calendar/xc-team-ramble-at-the-reservoir-ridgeway/
CATEGORIES:Sports
END:VEVENT
BEGIN:VEVENT
DTSTART;VALUE=DATE:20210917
DTEND;VALUE=DATE:20210918
DTSTAMP:20260421T024224
CREATED:20210611T211243Z
LAST-MODIFIED:20210611T211243Z
UID:4851-1631836800-1631923199@www.crms.org
SUMMARY:Boys Soccer: CRMS @ Caprock
DESCRIPTION:
URL:https://www.crms.org/calendar/boys-soccer-crms-caprock/
CATEGORIES:Sports
END:VEVENT
BEGIN:VEVENT
DTSTART;VALUE=DATE:20210911
DTEND;VALUE=DATE:20210912
DTSTAMP:20260421T024224
CREATED:20210811T143838Z
LAST-MODIFIED:20210811T143838Z
UID:5107-1631318400-1631404799@www.crms.org
SUMMARY:XC Team: Grand Junction Tiger Invitational\, Grand Junction
DESCRIPTION:
URL:https://www.crms.org/calendar/xc-team-grand-junction-tiger-invitational-grand-junction/
CATEGORIES:Sports
END:VEVENT
BEGIN:VEVENT
DTSTART;VALUE=DATE:20210910
DTEND;VALUE=DATE:20210911
DTSTAMP:20260421T024224
CREATED:20210611T211209Z
LAST-MODIFIED:20210611T211209Z
UID:4849-1631232000-1631318399@www.crms.org
SUMMARY:Boys Soccer: Crested Butte @ CRMS
DESCRIPTION:
URL:https://www.crms.org/calendar/boys-soccer-crested-butte-crms/
CATEGORIES:Sports
END:VEVENT
BEGIN:VEVENT
DTSTART;VALUE=DATE:20210909
DTEND;VALUE=DATE:20210910
DTSTAMP:20260421T024224
CREATED:20210611T211117Z
LAST-MODIFIED:20210611T211117Z
UID:4847-1631145600-1631231999@www.crms.org
SUMMARY:Boys Soccer: Roaring Fork @ CRMS
DESCRIPTION:
URL:https://www.crms.org/calendar/boys-soccer-roaring-fork-crms/
CATEGORIES:Sports
END:VEVENT
BEGIN:VEVENT
DTSTART;VALUE=DATE:20210829
DTEND;VALUE=DATE:20210830
DTSTAMP:20260421T024224
CREATED:20210611T211017Z
LAST-MODIFIED:20210611T211017Z
UID:4845-1630195200-1630281599@www.crms.org
SUMMARY:Bike Team: Race #1 Leadville
DESCRIPTION:
URL:https://www.crms.org/calendar/bike-team-race-1-leadville/
CATEGORIES:Sports
END:VEVENT
BEGIN:VEVENT
DTSTART;VALUE=DATE:20210518
DTEND;VALUE=DATE:20210519
DTSTAMP:20260421T024224
CREATED:20210426T220831Z
LAST-MODIFIED:20210430T154033Z
UID:4639-1621296000-1621382399@www.crms.org
SUMMARY:Girls Soccer vs. Grand Valley
DESCRIPTION:at CRMS\nV only at 5:00 p.m.
URL:https://www.crms.org/calendar/girls-soccer-vs-grand-valley/
CATEGORIES:Sports
END:VEVENT
BEGIN:VEVENT
DTSTART;VALUE=DATE:20210515
DTEND;VALUE=DATE:20210516
DTSTAMP:20260421T024224
CREATED:20210426T220804Z
LAST-MODIFIED:20210430T153746Z
UID:4636-1621036800-1621123199@www.crms.org
SUMMARY:Girls Soccer vs. Vail Mountain
DESCRIPTION:at CRMS \nV only at 11 :00 a.m.
URL:https://www.crms.org/calendar/girls-soccer-vs-vail-mountain/
CATEGORIES:Sports
END:VEVENT
BEGIN:VEVENT
DTSTART;VALUE=DATE:20210513
DTEND;VALUE=DATE:20210514
DTSTAMP:20260421T024224
CREATED:20210426T220719Z
LAST-MODIFIED:20210430T153948Z
UID:4634-1620864000-1620950399@www.crms.org
SUMMARY:Girls Soccer vs. Vail Christian
DESCRIPTION:at CRMS\nV only at 4:00 p.m.
URL:https://www.crms.org/calendar/girls-soccer-vs-vail-christian/
CATEGORIES:Sports
END:VEVENT
BEGIN:VEVENT
DTSTART;VALUE=DATE:20210508
DTEND;VALUE=DATE:20210509
DTSTAMP:20260421T024224
CREATED:20210426T220638Z
LAST-MODIFIED:20210430T154058Z
UID:4632-1620432000-1620518399@www.crms.org
SUMMARY:Girls Soccer at Vail Christian
DESCRIPTION:V only at 1 p.m.
URL:https://www.crms.org/calendar/girls-soccer-at-vail-christian/
CATEGORIES:Sports
END:VEVENT
BEGIN:VEVENT
DTSTART;VALUE=DATE:20210506
DTEND;VALUE=DATE:20210507
DTSTAMP:20260421T024224
CREATED:20210426T220549Z
LAST-MODIFIED:20210430T153511Z
UID:4629-1620259200-1620345599@www.crms.org
SUMMARY:Girls Soccer at Grand Valley
DESCRIPTION:JV 7 vs 7 at 4:00 p.m. \nV at 6 p.m.
URL:https://www.crms.org/calendar/girls-soccer-at-grand-valley/
CATEGORIES:Sports
END:VEVENT
BEGIN:VEVENT
DTSTART;VALUE=DATE:20210501
DTEND;VALUE=DATE:20210502
DTSTAMP:20260421T024224
CREATED:20210426T220954Z
LAST-MODIFIED:20210426T220954Z
UID:4641-1619827200-1619913599@www.crms.org
SUMMARY:Climb Team: States at Eagle
DESCRIPTION:
URL:https://www.crms.org/calendar/climb-team-states-at-eagle/
CATEGORIES:Sports
END:VEVENT
BEGIN:VEVENT
DTSTART;TZID=America/Denver:20210406T160000
DTEND;TZID=America/Denver:20210406T170000
DTSTAMP:20260421T024224
CREATED:20210405T190511Z
LAST-MODIFIED:20210405T190511Z
UID:4458-1617724800-1617728400@www.crms.org
SUMMARY:Boys Soccer vs. Caprock
DESCRIPTION:The varsity boys game will be played at the CRMS field at 4:00 p.m. The game will be streamed on our Youtube channel.
URL:https://www.crms.org/calendar/boys-soccer-vs-caprock/
CATEGORIES:Sports
END:VEVENT
BEGIN:VEVENT
DTSTART;VALUE=DATE:20210403
DTEND;VALUE=DATE:20210404
DTSTAMP:20260421T024224
CREATED:20210208T201210Z
LAST-MODIFIED:20210402T224940Z
UID:4139-1617408000-1617494399@www.crms.org
SUMMARY:Boys Soccer vs. Vail Mountain - CANCELED
DESCRIPTION:This game has been canceled.
URL:https://www.crms.org/calendar/boys-soccer-vs-vail-mountain/
CATEGORIES:Sports
END:VEVENT
BEGIN:VEVENT
DTSTART;VALUE=DATE:20210327
DTEND;VALUE=DATE:20210328
DTSTAMP:20260421T024224
CREATED:20210324T192609Z
LAST-MODIFIED:20210324T200236Z
UID:4411-1616803200-1616889599@www.crms.org
SUMMARY:Climb Team at Montrose
DESCRIPTION:The Climb Team will compete at Montrose.
URL:https://www.crms.org/calendar/climb-team-at-montrose/
CATEGORIES:Sports
END:VEVENT
BEGIN:VEVENT
DTSTART;VALUE=DATE:20210327
DTEND;VALUE=DATE:20210328
DTSTAMP:20260421T024224
CREATED:20210208T201103Z
LAST-MODIFIED:20210327T011408Z
UID:4137-1616803200-1616889599@www.crms.org
SUMMARY:Boys Soccer vs. Ridgeway - CANCELED
DESCRIPTION:This game has been canceled. We hope to reschedule soon.
URL:https://www.crms.org/calendar/boys-soccer-vs-ridgeway/
CATEGORIES:Sports
END:VEVENT
BEGIN:VEVENT
DTSTART;VALUE=DATE:20210323
DTEND;VALUE=DATE:20210324
DTSTAMP:20260421T024224
CREATED:20210208T201016Z
LAST-MODIFIED:20210208T201016Z
UID:4135-1616457600-1616543999@www.crms.org
SUMMARY:Boys Soccer vs. Telluride
DESCRIPTION:The Boys Soccer Team will compete at Telluride.
URL:https://www.crms.org/calendar/boys-soccer-vs-telluride/
CATEGORIES:Sports
END:VEVENT
BEGIN:VEVENT
DTSTART;VALUE=DATE:20210320
DTEND;VALUE=DATE:20210321
DTSTAMP:20260421T024224
CREATED:20210208T200932Z
LAST-MODIFIED:20210319T144513Z
UID:4133-1616198400-1616284799@www.crms.org
SUMMARY:Boys Soccer vs. Crested Butte
DESCRIPTION:The Boys Soccer Team will compete at home vs. Crested Butte at 11:00 a.m. While spectators are not permitted at home games this season\, we will be live streaming the event on our Youtube channel.
URL:https://www.crms.org/calendar/boys-soccer-vs-crested-butte/
CATEGORIES:Sports
END:VEVENT
BEGIN:VEVENT
DTSTART;VALUE=DATE:20210316
DTEND;VALUE=DATE:20210317
DTSTAMP:20260421T024224
CREATED:20210315T190520Z
LAST-MODIFIED:20210315T190520Z
UID:4332-1615852800-1615939199@www.crms.org
SUMMARY:Climb Team: Grand Valley
DESCRIPTION:
URL:https://www.crms.org/calendar/climb-team-grand-valley/
CATEGORIES:Sports
END:VEVENT
BEGIN:VEVENT
DTSTART;VALUE=DATE:20210316
DTEND;VALUE=DATE:20210317
DTSTAMP:20260421T024224
CREATED:20210208T200802Z
LAST-MODIFIED:20210316T164551Z
UID:4130-1615852800-1615939199@www.crms.org
SUMMARY:Boys Soccer at Caprock
DESCRIPTION:The Boys Soccer Team will compete at Caprock.
URL:https://www.crms.org/calendar/boys-soccer-at-caprock/
CATEGORIES:Sports
END:VEVENT
BEGIN:VEVENT
DTSTART;VALUE=DATE:20210312
DTEND;VALUE=DATE:20210313
DTSTAMP:20260421T024224
CREATED:20210309T154602Z
LAST-MODIFIED:20210309T154602Z
UID:4222-1615507200-1615593599@www.crms.org
SUMMARY:Climb Team: Monkey House
DESCRIPTION:The CRMS Climb Team will compete against other Roaring Fork Valley youth in the first official league competition held at Monkey House in Carbondale. The competition will take place over the course of the week to ensure social distancing guidelines with various teams and individuals trying to complete as many climbs as possible within a 2-hour time frame.
URL:https://www.crms.org/calendar/climb-team-monkey-house/
CATEGORIES:Sports
END:VEVENT
BEGIN:VEVENT
DTSTART;VALUE=DATE:20210309
DTEND;VALUE=DATE:20210310
DTSTAMP:20260421T024224
CREATED:20210208T200649Z
LAST-MODIFIED:20210208T200714Z
UID:4127-1615248000-1615334399@www.crms.org
SUMMARY:Telemark Team: Aspen Competition
DESCRIPTION:The Telemark Team will compete in Aspen.
URL:https://www.crms.org/calendar/telemark-team-aspen-competition/
CATEGORIES:Sports
END:VEVENT
BEGIN:VEVENT
DTSTART;VALUE=DATE:20210306
DTEND;VALUE=DATE:20210307
DTSTAMP:20260421T024224
CREATED:20210126T155820Z
LAST-MODIFIED:20210126T155820Z
UID:4035-1614988800-1615075199@www.crms.org
SUMMARY:Nordic Team State Competition
DESCRIPTION:at Gold Run Breckenridge
URL:https://www.crms.org/calendar/nordic-team-state-competition/
CATEGORIES:Sports
END:VEVENT
BEGIN:VEVENT
DTSTART;VALUE=DATE:20210227
DTEND;VALUE=DATE:20210228
DTSTAMP:20260421T024224
CREATED:20210126T155710Z
LAST-MODIFIED:20210129T145909Z
UID:4033-1614384000-1614470399@www.crms.org
SUMMARY:Nordic Team event
DESCRIPTION:Spring Gulch 5k
URL:https://www.crms.org/calendar/nordic-team-event-3/
CATEGORIES:Sports
END:VEVENT
BEGIN:VEVENT
DTSTART;VALUE=DATE:20210213
DTEND;VALUE=DATE:20210214
DTSTAMP:20260421T024224
CREATED:20210126T155349Z
LAST-MODIFIED:20210129T145809Z
UID:4029-1613174400-1613260799@www.crms.org
SUMMARY:Nordic Team Event
DESCRIPTION:AVSC HS Course 5k Skate v Aspen
URL:https://www.crms.org/calendar/nordic-team-event-2/
CATEGORIES:Sports
END:VEVENT
END:VCALENDAR