BEGIN:VCALENDAR
VERSION:2.0
PRODID:-//Colorado Rocky Mountain School - ECPv6.9.0//NONSGML v1.0//EN
CALSCALE:GREGORIAN
METHOD:PUBLISH
X-WR-CALNAME:Colorado Rocky Mountain School
X-ORIGINAL-URL:https://www.crms.org
X-WR-CALDESC:Events for Colorado Rocky Mountain School
REFRESH-INTERVAL;VALUE=DURATION:PT1H
X-Robots-Tag:noindex
X-PUBLISHED-TTL:PT1H
BEGIN:VTIMEZONE
TZID:America/Denver
BEGIN:DAYLIGHT
TZOFFSETFROM:-0700
TZOFFSETTO:-0600
TZNAME:MDT
DTSTART:20210314T090000
END:DAYLIGHT
BEGIN:STANDARD
TZOFFSETFROM:-0600
TZOFFSETTO:-0700
TZNAME:MST
DTSTART:20211107T080000
END:STANDARD
BEGIN:DAYLIGHT
TZOFFSETFROM:-0700
TZOFFSETTO:-0600
TZNAME:MDT
DTSTART:20220313T090000
END:DAYLIGHT
BEGIN:STANDARD
TZOFFSETFROM:-0600
TZOFFSETTO:-0700
TZNAME:MST
DTSTART:20221106T080000
END:STANDARD
END:VTIMEZONE
BEGIN:VEVENT
DTSTART;VALUE=DATE:20220414
DTEND;VALUE=DATE:20220415
DTSTAMP:20260420T205201
CREATED:20220216T201739Z
LAST-MODIFIED:20220411T174549Z
UID:5732-1649894400-1649980799@www.crms.org
SUMMARY:Girls Soccer: Grand Valley @ CRMS
DESCRIPTION:Varsity Game: 4 pm\nJV Game: 6 pm
URL:https://www.crms.org/calendar/girls-soccer-grand-valley-crms/
CATEGORIES:Sports
END:VEVENT
BEGIN:VEVENT
DTSTART;VALUE=DATE:20220412
DTEND;VALUE=DATE:20220413
DTSTAMP:20260420T205201
CREATED:20220216T201714Z
LAST-MODIFIED:20220411T174512Z
UID:5730-1649721600-1649807999@www.crms.org
SUMMARY:Girls Soccer: CRMS @ Ridgeway
DESCRIPTION:Varsity Game: 4 pm
URL:https://www.crms.org/calendar/girls-soccer-crms-ridgeway/
CATEGORIES:Sports
END:VEVENT
BEGIN:VEVENT
DTSTART;VALUE=DATE:20220409
DTEND;VALUE=DATE:20220410
DTSTAMP:20260420T205201
CREATED:20220216T201644Z
LAST-MODIFIED:20220301T184147Z
UID:5728-1649462400-1649548799@www.crms.org
SUMMARY:Girls Soccer: RFHS @ CRMS
DESCRIPTION:Varsity Game: 11 am\nJV Game: 1 pm
URL:https://www.crms.org/calendar/girls-soccer-rfhs-crms/
CATEGORIES:Sports
END:VEVENT
BEGIN:VEVENT
DTSTART;VALUE=DATE:20220407
DTEND;VALUE=DATE:20220408
DTSTAMP:20260420T205201
CREATED:20220216T201619Z
LAST-MODIFIED:20220301T184234Z
UID:5726-1649289600-1649375999@www.crms.org
SUMMARY:Girls Soccer: Vail Christian @ CRMS
DESCRIPTION:Varsity Game: 4 pm\nJV Game: 6 pm
URL:https://www.crms.org/calendar/girls-soccer-vail-christian-crms/
CATEGORIES:Sports
END:VEVENT
BEGIN:VEVENT
DTSTART;VALUE=DATE:20220405
DTEND;VALUE=DATE:20220406
DTSTAMP:20260420T205201
CREATED:20220216T201547Z
LAST-MODIFIED:20220301T184307Z
UID:5724-1649116800-1649203199@www.crms.org
SUMMARY:Girls Soccer: CRMS @ Grand Valley
DESCRIPTION:Varsity Game: 4:30 pm\nJV Game: 6:30 pm
URL:https://www.crms.org/calendar/girls-soccer-crms-grand-valley/
CATEGORIES:Sports
END:VEVENT
BEGIN:VEVENT
DTSTART;VALUE=DATE:20220317
DTEND;VALUE=DATE:20220318
DTSTAMP:20260420T205201
CREATED:20220301T184433Z
LAST-MODIFIED:20220301T184433Z
UID:5767-1647475200-1647561599@www.crms.org
SUMMARY:Girls Soccer @ Rifle
DESCRIPTION:Varsity Game: 4 pm\nJV Game: 6 pm
URL:https://www.crms.org/calendar/girls-soccer-rifle/
CATEGORIES:Sports
END:VEVENT
BEGIN:VEVENT
DTSTART;VALUE=DATE:20220316
DTEND;VALUE=DATE:20220317
DTSTAMP:20260420T205201
CREATED:20211207T171338Z
LAST-MODIFIED:20211207T171338Z
UID:5514-1647388800-1647475199@www.crms.org
SUMMARY:Telemark Team: Aspen
DESCRIPTION:
URL:https://www.crms.org/calendar/telemark-team-aspen/
CATEGORIES:Sports
END:VEVENT
BEGIN:VEVENT
DTSTART;VALUE=DATE:20220315
DTEND;VALUE=DATE:20220316
DTSTAMP:20260420T205201
CREATED:20220216T201516Z
LAST-MODIFIED:20220301T184356Z
UID:5722-1647302400-1647388799@www.crms.org
SUMMARY:Girls Soccer: CRMS @ Aspen
DESCRIPTION:Varsity Game: 4:30 pm\nJV Game: 6:30 pm
URL:https://www.crms.org/calendar/girls-soccer-crms-aspen/
CATEGORIES:Sports
END:VEVENT
BEGIN:VEVENT
DTSTART;VALUE=DATE:20220226
DTEND;VALUE=DATE:20220227
DTSTAMP:20260420T205201
CREATED:20211022T162432Z
LAST-MODIFIED:20211022T162432Z
UID:5374-1645833600-1645919999@www.crms.org
SUMMARY:Climb Team: States at Broomfield
DESCRIPTION:
URL:https://www.crms.org/calendar/climb-team-states-at-broomfield/
CATEGORIES:Sports
END:VEVENT
BEGIN:VEVENT
DTSTART;VALUE=DATE:20220217
DTEND;VALUE=DATE:20220219
DTSTAMP:20260420T205201
CREATED:20211018T162528Z
LAST-MODIFIED:20211207T171259Z
UID:5343-1645056000-1645228799@www.crms.org
SUMMARY:Nordic Team State Competition: Snow Mountain Ranch
DESCRIPTION:The Nordic Team State Competition will be held in Granby.
URL:https://www.crms.org/calendar/nordic-team-state-competition-granby/
CATEGORIES:Sports
END:VEVENT
BEGIN:VEVENT
DTSTART;VALUE=DATE:20220217
DTEND;VALUE=DATE:20220219
DTSTAMP:20260420T205201
CREATED:20211018T162434Z
LAST-MODIFIED:20211018T162434Z
UID:5341-1645056000-1645228799@www.crms.org
SUMMARY:Alpine Team State Competition: Winter Park
DESCRIPTION:The Alpine Team State Competition is at Winter Park.
URL:https://www.crms.org/calendar/alpine-team-state-competition-winter-park/
CATEGORIES:Sports
END:VEVENT
BEGIN:VEVENT
DTSTART;VALUE=DATE:20220212
DTEND;VALUE=DATE:20220213
DTSTAMP:20260420T205201
CREATED:20211207T171150Z
LAST-MODIFIED:20211207T171150Z
UID:5511-1644624000-1644710399@www.crms.org
SUMMARY:Nordic Team: Steamboat Springs
DESCRIPTION:
URL:https://www.crms.org/calendar/nordic-team-steamboat-springs/
CATEGORIES:Sports
END:VEVENT
BEGIN:VEVENT
DTSTART;VALUE=DATE:20220211
DTEND;VALUE=DATE:20220212
DTSTAMP:20260420T205201
CREATED:20211018T161408Z
LAST-MODIFIED:20211018T162310Z
UID:5337-1644537600-1644623999@www.crms.org
SUMMARY:Alpine Team: Ski Cooper
DESCRIPTION:The Alpine Team will compete at Ski Cooper.
URL:https://www.crms.org/calendar/alpine-team-aspen/
CATEGORIES:Sports
END:VEVENT
BEGIN:VEVENT
DTSTART;VALUE=DATE:20220205
DTEND;VALUE=DATE:20220206
DTSTAMP:20260420T205201
CREATED:20211207T171056Z
LAST-MODIFIED:20211207T171056Z
UID:5507-1644019200-1644105599@www.crms.org
SUMMARY:Nordic Team: Leadville
DESCRIPTION:
URL:https://www.crms.org/calendar/nordic-team-leadville/
CATEGORIES:Sports
END:VEVENT
BEGIN:VEVENT
DTSTART;VALUE=DATE:20220205
DTEND;VALUE=DATE:20220206
DTSTAMP:20260420T205201
CREATED:20211022T162333Z
LAST-MODIFIED:20211022T162333Z
UID:5372-1644019200-1644105599@www.crms.org
SUMMARY:Climb Team: Regionals at Eagle
DESCRIPTION:
URL:https://www.crms.org/calendar/climb-team-regionals-at-eagle/
CATEGORIES:Sports
END:VEVENT
BEGIN:VEVENT
DTSTART;VALUE=DATE:20220204
DTEND;VALUE=DATE:20220205
DTSTAMP:20260420T205201
CREATED:20211018T162638Z
LAST-MODIFIED:20211018T162638Z
UID:5345-1643932800-1644019199@www.crms.org
SUMMARY:Alpine Team: Aspen
DESCRIPTION:The Alpine Team will compete at Aspen Mountain.
URL:https://www.crms.org/calendar/alpine-team-aspen-2/
CATEGORIES:Sports
END:VEVENT
BEGIN:VEVENT
DTSTART;VALUE=DATE:20220129
DTEND;VALUE=DATE:20220130
DTSTAMP:20260420T205201
CREATED:20211207T171007Z
LAST-MODIFIED:20211207T171007Z
UID:5503-1643414400-1643500799@www.crms.org
SUMMARY:Nordic Team: Maloit Park
DESCRIPTION:
URL:https://www.crms.org/calendar/nordic-team-maloit-park/
CATEGORIES:Sports
END:VEVENT
BEGIN:VEVENT
DTSTART;VALUE=DATE:20220128
DTEND;VALUE=DATE:20220129
DTSTAMP:20260420T205201
CREATED:20211018T160645Z
LAST-MODIFIED:20211018T160645Z
UID:5335-1643328000-1643414399@www.crms.org
SUMMARY:Alpine Team: Ski Cooper
DESCRIPTION:The Alpine Team will compete at Ski Cooper.
URL:https://www.crms.org/calendar/alpine-team-ski-cooper/
CATEGORIES:Sports
END:VEVENT
BEGIN:VEVENT
DTSTART;VALUE=DATE:20220122
DTEND;VALUE=DATE:20220124
DTSTAMP:20260420T205201
CREATED:20211207T170905Z
LAST-MODIFIED:20211207T170905Z
UID:5499-1642809600-1642982399@www.crms.org
SUMMARY:Telemark Team: Steamboat
DESCRIPTION:
URL:https://www.crms.org/calendar/telemark-team-steamboat/
CATEGORIES:Sports
END:VEVENT
BEGIN:VEVENT
DTSTART;VALUE=DATE:20220122
DTEND;VALUE=DATE:20220123
DTSTAMP:20260420T205201
CREATED:20211022T162249Z
LAST-MODIFIED:20211022T162249Z
UID:5370-1642809600-1642895999@www.crms.org
SUMMARY:Climb Team: Grand Junction
DESCRIPTION:
URL:https://www.crms.org/calendar/climb-team-grand-junction-2/
CATEGORIES:Sports
END:VEVENT
BEGIN:VEVENT
DTSTART;VALUE=DATE:20220121
DTEND;VALUE=DATE:20220122
DTSTAMP:20260420T205201
CREATED:20211018T160601Z
LAST-MODIFIED:20211018T160710Z
UID:5333-1642723200-1642809599@www.crms.org
SUMMARY:Alpine Team: Copper
DESCRIPTION:The Alpine Team will compete at Copper Mountain.
URL:https://www.crms.org/calendar/alpine-team-copper/
CATEGORIES:Sports
END:VEVENT
BEGIN:VEVENT
DTSTART;VALUE=DATE:20220108
DTEND;VALUE=DATE:20220109
DTSTAMP:20260420T205201
CREATED:20211207T170759Z
LAST-MODIFIED:20211207T170759Z
UID:5495-1641600000-1641686399@www.crms.org
SUMMARY:Nordic Team: Aspen
DESCRIPTION:
URL:https://www.crms.org/calendar/nordic-team-aspen/
CATEGORIES:Sports
END:VEVENT
BEGIN:VEVENT
DTSTART;VALUE=DATE:20211204
DTEND;VALUE=DATE:20211205
DTSTAMP:20260420T205201
CREATED:20211022T162142Z
LAST-MODIFIED:20211022T162142Z
UID:5366-1638576000-1638662399@www.crms.org
SUMMARY:Climb Team: Eagle
DESCRIPTION:
URL:https://www.crms.org/calendar/climb-team-eagle/
CATEGORIES:Sports
END:VEVENT
BEGIN:VEVENT
DTSTART;VALUE=DATE:20211120
DTEND;VALUE=DATE:20211121
DTSTAMP:20260420T205201
CREATED:20211022T162112Z
LAST-MODIFIED:20211022T162112Z
UID:5364-1637366400-1637452799@www.crms.org
SUMMARY:Climb Team: Grand Junction
DESCRIPTION:
URL:https://www.crms.org/calendar/climb-team-grand-junction/
CATEGORIES:Sports
END:VEVENT
BEGIN:VEVENT
DTSTART;VALUE=DATE:20211113
DTEND;VALUE=DATE:20211114
DTSTAMP:20260420T205201
CREATED:20211022T153141Z
LAST-MODIFIED:20211022T162015Z
UID:5362-1636761600-1636847999@www.crms.org
SUMMARY:Climb Team: Monkey House
DESCRIPTION:The Climb Team season kicks off at Monkey House in Carbondale. \n 
URL:https://www.crms.org/calendar/climb-team-monkey-house-2/
CATEGORIES:Sports
END:VEVENT
BEGIN:VEVENT
DTSTART;VALUE=DATE:20211030
DTEND;VALUE=DATE:20211031
DTSTAMP:20260420T205201
CREATED:20210810T014627Z
LAST-MODIFIED:20210810T014627Z
UID:5104-1635552000-1635638399@www.crms.org
SUMMARY:XC Team: State Championships\, Colorado Springs
DESCRIPTION:
URL:https://www.crms.org/calendar/xc-team-state-championships-colorado-springs/
CATEGORIES:Sports
END:VEVENT
BEGIN:VEVENT
DTSTART;TZID=America/Denver:20211023T130000
DTEND;TZID=America/Denver:20211023T140000
DTSTAMP:20260420T205201
CREATED:20210614T210306Z
LAST-MODIFIED:20210923T160726Z
UID:4892-1634994000-1634997600@www.crms.org
SUMMARY:Boys Soccer: Ridgeway @ CRMS
DESCRIPTION:
URL:https://www.crms.org/calendar/boys-soccer-ridgeway-crms/
CATEGORIES:Sports
END:VEVENT
BEGIN:VEVENT
DTSTART;VALUE=DATE:20211022
DTEND;VALUE=DATE:20211023
DTSTAMP:20260420T205201
CREATED:20210810T014553Z
LAST-MODIFIED:20210810T014553Z
UID:5102-1634860800-1634947199@www.crms.org
SUMMARY:XC Team: 2A Region 4 Regional Championships\, Rangely
DESCRIPTION:
URL:https://www.crms.org/calendar/xc-team-2a-region-4-regional-championships-rangely/
CATEGORIES:Sports
END:VEVENT
BEGIN:VEVENT
DTSTART;VALUE=DATE:20211022
DTEND;VALUE=DATE:20211024
DTSTAMP:20260420T205201
CREATED:20210614T210240Z
LAST-MODIFIED:20210614T210240Z
UID:4889-1634860800-1635033599@www.crms.org
SUMMARY:Bike Team: States
DESCRIPTION:In Durango
URL:https://www.crms.org/calendar/bike-team-states/
CATEGORIES:Sports
END:VEVENT
BEGIN:VEVENT
DTSTART;TZID=America/Denver:20211021T160000
DTEND;TZID=America/Denver:20211021T170000
DTSTAMP:20260420T205201
CREATED:20210614T210143Z
LAST-MODIFIED:20210923T160600Z
UID:4887-1634832000-1634835600@www.crms.org
SUMMARY:Boys Soccer: Aspen vs. CRMS
DESCRIPTION:
URL:https://www.crms.org/calendar/boys-soccer-crms-vail-mountain/
CATEGORIES:Sports
END:VEVENT
END:VCALENDAR