BEGIN:VCALENDAR
VERSION:2.0
PRODID:-//Colorado Rocky Mountain School - ECPv6.9.0//NONSGML v1.0//EN
CALSCALE:GREGORIAN
METHOD:PUBLISH
X-ORIGINAL-URL:https://www.crms.org
X-WR-CALDESC:Events for Colorado Rocky Mountain School
REFRESH-INTERVAL;VALUE=DURATION:PT1H
X-Robots-Tag:noindex
X-PUBLISHED-TTL:PT1H
BEGIN:VTIMEZONE
TZID:America/Denver
BEGIN:DAYLIGHT
TZOFFSETFROM:-0700
TZOFFSETTO:-0600
TZNAME:MDT
DTSTART:20220313T090000
END:DAYLIGHT
BEGIN:STANDARD
TZOFFSETFROM:-0600
TZOFFSETTO:-0700
TZNAME:MST
DTSTART:20221106T080000
END:STANDARD
BEGIN:DAYLIGHT
TZOFFSETFROM:-0700
TZOFFSETTO:-0600
TZNAME:MDT
DTSTART:20230312T090000
END:DAYLIGHT
BEGIN:STANDARD
TZOFFSETFROM:-0600
TZOFFSETTO:-0700
TZNAME:MST
DTSTART:20231105T080000
END:STANDARD
END:VTIMEZONE
BEGIN:VEVENT
DTSTART;VALUE=DATE:20230121
DTEND;VALUE=DATE:20230122
DTSTAMP:20260420T151707
CREATED:20221004T011722Z
LAST-MODIFIED:20230102T223404Z
UID:6620-1674259200-1674345599@www.crms.org
SUMMARY:Climb Team: Grip Bouldering in Grand Junction
DESCRIPTION:This is an optional competition.
URL:https://www.crms.org/calendar/climb-team-grip-bouldering-in-grand-junction/
LOCATION:CO
CATEGORIES:Sports
END:VEVENT
BEGIN:VEVENT
DTSTART;VALUE=DATE:20230119
DTEND;VALUE=DATE:20230120
DTSTAMP:20260420T151707
CREATED:20221014T194641Z
LAST-MODIFIED:20221014T194641Z
UID:6694-1674086400-1674172799@www.crms.org
SUMMARY:Alpine Team: Steamboat Springs Slalom
DESCRIPTION:
URL:https://www.crms.org/calendar/alpine-team-steamboat-springs-slalom/
LOCATION:CO
CATEGORIES:Sports
END:VEVENT
BEGIN:VEVENT
DTSTART;VALUE=DATE:20230115
DTEND;VALUE=DATE:20230116
DTSTAMP:20260420T151707
CREATED:20221004T011643Z
LAST-MODIFIED:20230105T214657Z
UID:6618-1673740800-1673827199@www.crms.org
SUMMARY:Climb Team: Eagle
DESCRIPTION:The CRMS Team will be climbing in the 5:00 – 8:00 p.m. heat.
URL:https://www.crms.org/calendar/climb-team-eagle-2/
LOCATION:CO
CATEGORIES:Sports
END:VEVENT
BEGIN:VEVENT
DTSTART;VALUE=DATE:20230113
DTEND;VALUE=DATE:20230114
DTSTAMP:20260420T151707
CREATED:20221025T211305Z
LAST-MODIFIED:20221025T211305Z
UID:6720-1673568000-1673654399@www.crms.org
SUMMARY:Nordic Team: Snow Mountain Ranch
DESCRIPTION:
URL:https://www.crms.org/calendar/nordic-team-snow-mountain-ranch/
LOCATION:CO
CATEGORIES:Sports
END:VEVENT
BEGIN:VEVENT
DTSTART;VALUE=DATE:20230113
DTEND;VALUE=DATE:20230114
DTSTAMP:20260420T151707
CREATED:20221014T194317Z
LAST-MODIFIED:20221014T194615Z
UID:6692-1673568000-1673654399@www.crms.org
SUMMARY:Alpine Team: Loveland Slalom
DESCRIPTION:
URL:https://www.crms.org/calendar/alpine-team-loveland-slalom/
LOCATION:CO
CATEGORIES:Sports
END:VEVENT
BEGIN:VEVENT
DTSTART;VALUE=DATE:20230106
DTEND;VALUE=DATE:20230107
DTSTAMP:20260420T151707
CREATED:20221025T211151Z
LAST-MODIFIED:20221025T211151Z
UID:6718-1672963200-1673049599@www.crms.org
SUMMARY:Nordic Team: Vail
DESCRIPTION:
URL:https://www.crms.org/calendar/nordic-team-vail/
LOCATION:CO
CATEGORIES:Sports
END:VEVENT
BEGIN:VEVENT
DTSTART;VALUE=DATE:20221119
DTEND;VALUE=DATE:20221120
DTSTAMP:20260420T151707
CREATED:20221004T011454Z
LAST-MODIFIED:20221004T011454Z
UID:6612-1668816000-1668902399@www.crms.org
SUMMARY:Climb Team @ Grand Valley Climbing
DESCRIPTION:
URL:https://www.crms.org/calendar/climb-team-grand-valley-climbing/
LOCATION:CO
CATEGORIES:Sports
END:VEVENT
BEGIN:VEVENT
DTSTART;VALUE=DATE:20221112
DTEND;VALUE=DATE:20221113
DTSTAMP:20260420T151707
CREATED:20221004T011403Z
LAST-MODIFIED:20221004T011403Z
UID:6610-1668211200-1668297599@www.crms.org
SUMMARY:Climb Team: Monkey House in Carbondale
DESCRIPTION:
URL:https://www.crms.org/calendar/climb-team-monkey-house-in-carbondale/
LOCATION:CO
CATEGORIES:Sports
END:VEVENT
BEGIN:VEVENT
DTSTART;VALUE=DATE:20221028
DTEND;VALUE=DATE:20221030
DTSTAMP:20260420T151707
CREATED:20220719T152746Z
LAST-MODIFIED:20220915T221439Z
UID:6397-1666915200-1667087999@www.crms.org
SUMMARY:XC Team States: Colorado Springs
DESCRIPTION:
URL:https://www.crms.org/calendar/xc-team-states-tbd/
LOCATION:CO
CATEGORIES:Sports
END:VEVENT
BEGIN:VEVENT
DTSTART;VALUE=DATE:20221022
DTEND;VALUE=DATE:20221023
DTSTAMP:20260420T151707
CREATED:20220617T213017Z
LAST-MODIFIED:20220617T213017Z
UID:6195-1666396800-1666483199@www.crms.org
SUMMARY:Boys Soccer: CRMS @ Ridgeway
DESCRIPTION:
URL:https://www.crms.org/calendar/boys-soccer-crms-ridgeway-2/
LOCATION:CO
CATEGORIES:Sports
END:VEVENT
BEGIN:VEVENT
DTSTART;VALUE=DATE:20221022
DTEND;VALUE=DATE:20221024
DTSTAMP:20260420T151707
CREATED:20220617T212949Z
LAST-MODIFIED:20220617T212949Z
UID:6193-1666396800-1666569599@www.crms.org
SUMMARY:Bike Team: State Competition at CMC Spring Valley
DESCRIPTION:
URL:https://www.crms.org/calendar/bike-team-state-competition-at-cmc-spring-valley/
LOCATION:CO
CATEGORIES:Sports
END:VEVENT
BEGIN:VEVENT
DTSTART;VALUE=DATE:20221021
DTEND;VALUE=DATE:20221022
DTSTAMP:20260420T151707
CREATED:20220719T152712Z
LAST-MODIFIED:20220915T221153Z
UID:6395-1666310400-1666396799@www.crms.org
SUMMARY:XC Team: Regionals at Delta
DESCRIPTION:12:30 p.m. Girls Varsity Race\n1:10 p.m. Boys Varsity Race \nLocation: Confluence Park – Lions Pavilion\, 530 Gunnison River Drive\, Delta\, CO 81416
URL:https://www.crms.org/calendar/xc-team-regionals-tbd/
LOCATION:CO
CATEGORIES:Sports
END:VEVENT
BEGIN:VEVENT
DTSTART;VALUE=DATE:20221018
DTEND;VALUE=DATE:20221019
DTSTAMP:20260420T151707
CREATED:20220617T212911Z
LAST-MODIFIED:20220617T212911Z
UID:6191-1666051200-1666137599@www.crms.org
SUMMARY:Boys Soccer: CRMS @ Aspen
DESCRIPTION:
URL:https://www.crms.org/calendar/boys-soccer-crms-aspen/
LOCATION:CO
CATEGORIES:Sports
END:VEVENT
BEGIN:VEVENT
DTSTART;VALUE=DATE:20221015
DTEND;VALUE=DATE:20221016
DTSTAMP:20260420T151707
CREATED:20220719T152644Z
LAST-MODIFIED:20221007T202052Z
UID:6393-1665792000-1665878399@www.crms.org
SUMMARY:XC Team: Practice 5K
DESCRIPTION:
URL:https://www.crms.org/calendar/xc-team-delta-practice-5k/
LOCATION:CO
CATEGORIES:Sports
END:VEVENT
BEGIN:VEVENT
DTSTART;TZID=America/Denver:20221014T180000
DTEND;TZID=America/Denver:20221014T190000
DTSTAMP:20260420T151707
CREATED:20220617T212806Z
LAST-MODIFIED:20221011T150214Z
UID:6186-1665770400-1665774000@www.crms.org
SUMMARY:Boys Soccer: CRMS @ Roaring Fork
DESCRIPTION:
URL:https://www.crms.org/calendar/boys-soccer-crms-roaring-fork-2/
LOCATION:CO
CATEGORIES:Sports
END:VEVENT
BEGIN:VEVENT
DTSTART;VALUE=DATE:20221008
DTEND;VALUE=DATE:20221009
DTSTAMP:20260420T151707
CREATED:20220719T152611Z
LAST-MODIFIED:20220719T152611Z
UID:6391-1665187200-1665273599@www.crms.org
SUMMARY:XC Team: Aspen
DESCRIPTION:
URL:https://www.crms.org/calendar/xc-team-aspen/
LOCATION:CO
CATEGORIES:Sports
END:VEVENT
BEGIN:VEVENT
DTSTART;VALUE=DATE:20221008
DTEND;VALUE=DATE:20221009
DTSTAMP:20260420T151707
CREATED:20220617T212724Z
LAST-MODIFIED:20220919T155342Z
UID:6184-1665187200-1665273599@www.crms.org
SUMMARY:Boys Soccer: Telluride @CRMS
DESCRIPTION:Varsity game is at 1:00 p.m.
URL:https://www.crms.org/calendar/boys-soccer-telluride-crms-2/
LOCATION:CO
CATEGORIES:Sports
END:VEVENT
BEGIN:VEVENT
DTSTART;VALUE=DATE:20221008
DTEND;VALUE=DATE:20221009
DTSTAMP:20260420T151707
CREATED:20220617T212655Z
LAST-MODIFIED:20220617T212655Z
UID:6182-1665187200-1665273599@www.crms.org
SUMMARY:Bike Team: Race #4 Eagle
DESCRIPTION:
URL:https://www.crms.org/calendar/bike-team-race-4-eagle-2/
LOCATION:CO
CATEGORIES:Sports
END:VEVENT
BEGIN:VEVENT
DTSTART;VALUE=DATE:20221006
DTEND;VALUE=DATE:20221007
DTSTAMP:20260420T151707
CREATED:20220617T212630Z
LAST-MODIFIED:20220617T212630Z
UID:6180-1665014400-1665100799@www.crms.org
SUMMARY:Boys Soccer: CRMS @ Caprock
DESCRIPTION:
URL:https://www.crms.org/calendar/boys-soccer-crms-caprock-2/
LOCATION:CO
CATEGORIES:Sports
END:VEVENT
BEGIN:VEVENT
DTSTART;VALUE=DATE:20220925
DTEND;VALUE=DATE:20220926
DTSTAMP:20260420T151707
CREATED:20220616T202314Z
LAST-MODIFIED:20220616T202314Z
UID:6165-1664064000-1664150399@www.crms.org
SUMMARY:Bike Team Race #3: Snowmass
DESCRIPTION:
URL:https://www.crms.org/calendar/bike-team-race-3-snowmass-2/
LOCATION:CO
CATEGORIES:Sports
END:VEVENT
BEGIN:VEVENT
DTSTART;VALUE=DATE:20220924
DTEND;VALUE=DATE:20220925
DTSTAMP:20260420T151707
CREATED:20220616T202243Z
LAST-MODIFIED:20220616T202243Z
UID:6163-1663977600-1664063999@www.crms.org
SUMMARY:Boys Soccer: CRMS @ Telluride
DESCRIPTION:
URL:https://www.crms.org/calendar/boys-soccer-crms-telluride-2/
LOCATION:CO
CATEGORIES:Sports
END:VEVENT
BEGIN:VEVENT
DTSTART;VALUE=DATE:20220923
DTEND;VALUE=DATE:20220925
DTSTAMP:20260420T151707
CREATED:20220719T152540Z
LAST-MODIFIED:20220719T152540Z
UID:6389-1663891200-1664063999@www.crms.org
SUMMARY:XC Team: Crested Butte 5K
DESCRIPTION:
URL:https://www.crms.org/calendar/xc-team-crested-butte-5k/
LOCATION:CO
CATEGORIES:Sports
END:VEVENT
BEGIN:VEVENT
DTSTART;VALUE=DATE:20220920
DTEND;VALUE=DATE:20220921
DTSTAMP:20260420T151707
CREATED:20220616T202221Z
LAST-MODIFIED:20220616T202221Z
UID:6161-1663632000-1663718399@www.crms.org
SUMMARY:Boys Soccer: Aspen @ CRMS
DESCRIPTION:
URL:https://www.crms.org/calendar/boys-soccer-aspen-crms/
LOCATION:CO
CATEGORIES:Sports
END:VEVENT
BEGIN:VEVENT
DTSTART;VALUE=DATE:20220917
DTEND;VALUE=DATE:20220918
DTSTAMP:20260420T151707
CREATED:20220719T152454Z
LAST-MODIFIED:20220914T013403Z
UID:6387-1663372800-1663459199@www.crms.org
SUMMARY:XC Team: CMC Spring Valley
DESCRIPTION:
URL:https://www.crms.org/calendar/xc-team-cmc-spring-valley/
LOCATION:CO
CATEGORIES:Sports
END:VEVENT
BEGIN:VEVENT
DTSTART;VALUE=DATE:20220917
DTEND;VALUE=DATE:20220918
DTSTAMP:20260420T151707
CREATED:20220616T202158Z
LAST-MODIFIED:20220616T202158Z
UID:6158-1663372800-1663459199@www.crms.org
SUMMARY:Boys Soccer: Crested Butte @ CRMS
DESCRIPTION:
URL:https://www.crms.org/calendar/boys-soccer-crested-butte-crms-2/
LOCATION:CO
CATEGORIES:Sports
END:VEVENT
BEGIN:VEVENT
DTSTART;VALUE=DATE:20220915
DTEND;VALUE=DATE:20220916
DTSTAMP:20260420T151707
CREATED:20220616T202131Z
LAST-MODIFIED:20220616T202131Z
UID:6156-1663200000-1663286399@www.crms.org
SUMMARY:Boys Soccer: Caprock @ CRMS
DESCRIPTION:
URL:https://www.crms.org/calendar/boys-soccer-caprock-crms-2/
LOCATION:CO
CATEGORIES:Sports
END:VEVENT
BEGIN:VEVENT
DTSTART;VALUE=DATE:20220909
DTEND;VALUE=DATE:20220910
DTSTAMP:20260420T151707
CREATED:20220616T201953Z
LAST-MODIFIED:20220616T201953Z
UID:6152-1662681600-1662767999@www.crms.org
SUMMARY:Boys Soccer: CRMS @ Crested Butte
DESCRIPTION:
URL:https://www.crms.org/calendar/boys-soccer-crms-crested-butte-2/
LOCATION:CO
CATEGORIES:Sports
END:VEVENT
BEGIN:VEVENT
DTSTART;VALUE=DATE:20220909
DTEND;VALUE=DATE:20220911
DTSTAMP:20260420T151707
CREATED:20220616T201923Z
LAST-MODIFIED:20220616T201923Z
UID:6150-1662681600-1662854399@www.crms.org
SUMMARY:Bike Team: Race #2 Leadville
DESCRIPTION:
URL:https://www.crms.org/calendar/bike-team-race-2-leadville/
LOCATION:CO
CATEGORIES:Sports
END:VEVENT
BEGIN:VEVENT
DTSTART;VALUE=DATE:20220906
DTEND;VALUE=DATE:20220907
DTSTAMP:20260420T151707
CREATED:20220616T201849Z
LAST-MODIFIED:20220616T201849Z
UID:6148-1662422400-1662508799@www.crms.org
SUMMARY:Boys Soccer: Roaring Fork @ CRMS
DESCRIPTION:
URL:https://www.crms.org/calendar/boys-soccer-roaring-fork-crms-2/
LOCATION:CO
CATEGORIES:Sports
END:VEVENT
BEGIN:VEVENT
DTSTART;VALUE=DATE:20220903
DTEND;VALUE=DATE:20220904
DTSTAMP:20260420T151707
CREATED:20220616T201802Z
LAST-MODIFIED:20220616T201802Z
UID:6145-1662163200-1662249599@www.crms.org
SUMMARY:Boys Soccer: Ridgeway @ CRMS
DESCRIPTION:
URL:https://www.crms.org/calendar/boys-soccer-ridgeway-crms-2/
LOCATION:CO
CATEGORIES:Sports
END:VEVENT
END:VCALENDAR