BEGIN:VCALENDAR
VERSION:2.0
PRODID:-//Colorado Rocky Mountain School - ECPv6.9.0//NONSGML v1.0//EN
CALSCALE:GREGORIAN
METHOD:PUBLISH
X-ORIGINAL-URL:https://www.crms.org
X-WR-CALDESC:Events for Colorado Rocky Mountain School
REFRESH-INTERVAL;VALUE=DURATION:PT1H
X-Robots-Tag:noindex
X-PUBLISHED-TTL:PT1H
BEGIN:VTIMEZONE
TZID:America/Denver
BEGIN:DAYLIGHT
TZOFFSETFROM:-0700
TZOFFSETTO:-0600
TZNAME:MDT
DTSTART:20230312T090000
END:DAYLIGHT
BEGIN:STANDARD
TZOFFSETFROM:-0600
TZOFFSETTO:-0700
TZNAME:MST
DTSTART:20231105T080000
END:STANDARD
BEGIN:DAYLIGHT
TZOFFSETFROM:-0700
TZOFFSETTO:-0600
TZNAME:MDT
DTSTART:20240310T090000
END:DAYLIGHT
BEGIN:STANDARD
TZOFFSETFROM:-0600
TZOFFSETTO:-0700
TZNAME:MST
DTSTART:20241103T080000
END:STANDARD
END:VTIMEZONE
BEGIN:VEVENT
DTSTART;VALUE=DATE:20240120
DTEND;VALUE=DATE:20240121
DTSTAMP:20260420T061037
CREATED:20231205T175339Z
LAST-MODIFIED:20231205T175339Z
UID:8504-1705708800-1705795199@www.crms.org
SUMMARY:Nordic Team: Steamboat Springs
DESCRIPTION:
URL:https://www.crms.org/calendar/nordic-team-steamboat-springs-3/
CATEGORIES:Sports
END:VEVENT
BEGIN:VEVENT
DTSTART;VALUE=DATE:20240120
DTEND;VALUE=DATE:20240121
DTSTAMP:20260420T061037
CREATED:20231020T200025Z
LAST-MODIFIED:20231020T200025Z
UID:8247-1705708800-1705795199@www.crms.org
SUMMARY:Climb Team: Grip Bouldering in Grand Junction
DESCRIPTION:
URL:https://www.crms.org/calendar/climb-team-grip-bouldering-in-grand-junction-2/
CATEGORIES:Sports
END:VEVENT
BEGIN:VEVENT
DTSTART;VALUE=DATE:20240113
DTEND;VALUE=DATE:20240114
DTSTAMP:20260420T061037
CREATED:20231020T195759Z
LAST-MODIFIED:20231020T195809Z
UID:8241-1705104000-1705190399@www.crms.org
SUMMARY:Climb Team: Montrose
DESCRIPTION:
URL:https://www.crms.org/calendar/climb-team-montrose/
CATEGORIES:Sports
END:VEVENT
BEGIN:VEVENT
DTSTART;VALUE=DATE:20240112
DTEND;VALUE=DATE:20240113
DTSTAMP:20260420T061037
CREATED:20231205T175256Z
LAST-MODIFIED:20231205T175256Z
UID:8502-1705017600-1705103999@www.crms.org
SUMMARY:Nordic Team: Tennessee Pass/Leadville
DESCRIPTION:
URL:https://www.crms.org/calendar/nordic-team-tennessee-pass-leadville/
CATEGORIES:Sports
END:VEVENT
BEGIN:VEVENT
DTSTART;VALUE=DATE:20231216
DTEND;VALUE=DATE:20231217
DTSTAMP:20260420T061037
CREATED:20231020T195544Z
LAST-MODIFIED:20231020T195651Z
UID:8238-1702684800-1702771199@www.crms.org
SUMMARY:Climb Team: Grip Bouldering in Grand Junction
DESCRIPTION:
URL:https://www.crms.org/calendar/climb-team-grand-valley-grip-climbing-competition/
CATEGORIES:Sports
END:VEVENT
BEGIN:VEVENT
DTSTART;VALUE=DATE:20231202
DTEND;VALUE=DATE:20231203
DTSTAMP:20260420T061037
CREATED:20231020T195401Z
LAST-MODIFIED:20231020T195401Z
UID:8236-1701475200-1701561599@www.crms.org
SUMMARY:Climb Team: Eagle
DESCRIPTION:
URL:https://www.crms.org/calendar/climb-team-eagle-4/
CATEGORIES:Sports
END:VEVENT
BEGIN:VEVENT
DTSTART;VALUE=DATE:20231201
DTEND;VALUE=DATE:20231203
DTSTAMP:20260420T061037
CREATED:20231128T213444Z
LAST-MODIFIED:20231128T213444Z
UID:8456-1701388800-1701561599@www.crms.org
SUMMARY:SkiMo Team: Durango
DESCRIPTION:
URL:https://www.crms.org/calendar/skimo-team-durango/
CATEGORIES:Sports
END:VEVENT
BEGIN:VEVENT
DTSTART;VALUE=DATE:20231111
DTEND;VALUE=DATE:20231112
DTSTAMP:20260420T061037
CREATED:20231020T195257Z
LAST-MODIFIED:20231020T195257Z
UID:8234-1699660800-1699747199@www.crms.org
SUMMARY:Climb Team: Grand Valley
DESCRIPTION:
URL:https://www.crms.org/calendar/climb-team-grand-valley-2/
CATEGORIES:Sports
END:VEVENT
BEGIN:VEVENT
DTSTART;VALUE=DATE:20231104
DTEND;VALUE=DATE:20231105
DTSTAMP:20260420T061037
CREATED:20231020T195051Z
LAST-MODIFIED:20231020T195051Z
UID:8232-1699056000-1699142399@www.crms.org
SUMMARY:Climb Team: Eagle
DESCRIPTION:
URL:https://www.crms.org/calendar/climb-team-eagle-3/
CATEGORIES:Sports
END:VEVENT
BEGIN:VEVENT
DTSTART;VALUE=DATE:20231028
DTEND;VALUE=DATE:20231029
DTSTAMP:20260420T061037
CREATED:20230802T154126Z
LAST-MODIFIED:20230802T154126Z
UID:7521-1698451200-1698537599@www.crms.org
SUMMARY:XC Team: States TBD
DESCRIPTION:
URL:https://www.crms.org/calendar/xc-team-states/
CATEGORIES:Sports
END:VEVENT
BEGIN:VEVENT
DTSTART;VALUE=DATE:20231022
DTEND;VALUE=DATE:20231023
DTSTAMP:20260420T061037
CREATED:20230802T154850Z
LAST-MODIFIED:20230802T154850Z
UID:7536-1697932800-1698019199@www.crms.org
SUMMARY:Bike Team: States: Glenwood Springs (Day 2/2)
DESCRIPTION:
URL:https://www.crms.org/calendar/bike-team-states-glenwood-springs-day-2/
CATEGORIES:Sports
END:VEVENT
BEGIN:VEVENT
DTSTART;VALUE=DATE:20231021
DTEND;VALUE=DATE:20231022
DTSTAMP:20260420T061037
CREATED:20230802T154813Z
LAST-MODIFIED:20230802T154813Z
UID:7534-1697846400-1697932799@www.crms.org
SUMMARY:Bike Team: States: Glenwood Springs (Day 1/2)
DESCRIPTION:
URL:https://www.crms.org/calendar/bike-team-states-glenwood-springs-day-1/
CATEGORIES:Sports
END:VEVENT
BEGIN:VEVENT
DTSTART;VALUE=DATE:20231021
DTEND;VALUE=DATE:20231022
DTSTAMP:20260420T061037
CREATED:20230802T153310Z
LAST-MODIFIED:20230907T210442Z
UID:7504-1697846400-1697932799@www.crms.org
SUMMARY:Boys Soccer: Ridgway @ CRMS
DESCRIPTION:3:00 p.m.
URL:https://www.crms.org/calendar/boys-soccer-ridgway-crms/
CATEGORIES:Sports
END:VEVENT
BEGIN:VEVENT
DTSTART;VALUE=DATE:20231020
DTEND;VALUE=DATE:20231021
DTSTAMP:20260420T061037
CREATED:20230802T154057Z
LAST-MODIFIED:20230802T154057Z
UID:7518-1697760000-1697846399@www.crms.org
SUMMARY:XC Team: Regionals TBD
DESCRIPTION:
URL:https://www.crms.org/calendar/xc-team-regionals/
CATEGORIES:Sports
END:VEVENT
BEGIN:VEVENT
DTSTART;VALUE=DATE:20231020
DTEND;VALUE=DATE:20231021
DTSTAMP:20260420T061037
CREATED:20230802T153215Z
LAST-MODIFIED:20230907T210418Z
UID:7502-1697760000-1697846399@www.crms.org
SUMMARY:Boys Soccer: CRMS @ Roaring Fork
DESCRIPTION:6:00 p.m.
URL:https://www.crms.org/calendar/boys-soccer-crms-roaring-fork-3/
CATEGORIES:Sports
END:VEVENT
BEGIN:VEVENT
DTSTART;VALUE=DATE:20231017
DTEND;VALUE=DATE:20231018
DTSTAMP:20260420T061037
CREATED:20230802T153111Z
LAST-MODIFIED:20230907T210353Z
UID:7500-1697500800-1697587199@www.crms.org
SUMMARY:Boys Soccer: CRMS @ Aspen
DESCRIPTION:5:00 p.m.
URL:https://www.crms.org/calendar/boys-soccer-crms-aspen-2/
CATEGORIES:Sports
END:VEVENT
BEGIN:VEVENT
DTSTART;VALUE=DATE:20231013
DTEND;VALUE=DATE:20231014
DTSTAMP:20260420T061037
CREATED:20230802T153006Z
LAST-MODIFIED:20230907T210330Z
UID:7498-1697155200-1697241599@www.crms.org
SUMMARY:Boys Soccer: CRMS @ Caprock
DESCRIPTION:4:00 p.m.
URL:https://www.crms.org/calendar/boys-soccer-crms-caprock-3/
CATEGORIES:Sports
END:VEVENT
BEGIN:VEVENT
DTSTART;VALUE=DATE:20231008
DTEND;VALUE=DATE:20231009
DTSTAMP:20260420T061037
CREATED:20230802T154701Z
LAST-MODIFIED:20230802T154701Z
UID:7532-1696723200-1696809599@www.crms.org
SUMMARY:Bike Team: Race #4: Eagle
DESCRIPTION:
URL:https://www.crms.org/calendar/bike-team-race-4-eagle-3/
CATEGORIES:Sports
END:VEVENT
BEGIN:VEVENT
DTSTART;VALUE=DATE:20231007
DTEND;VALUE=DATE:20231008
DTSTAMP:20260420T061037
CREATED:20230802T153931Z
LAST-MODIFIED:20230802T153931Z
UID:7515-1696636800-1696723199@www.crms.org
SUMMARY:XC Team: Aspen
DESCRIPTION:
URL:https://www.crms.org/calendar/xc-team-aspen-2/
CATEGORIES:Sports
END:VEVENT
BEGIN:VEVENT
DTSTART;VALUE=DATE:20231007
DTEND;VALUE=DATE:20231008
DTSTAMP:20260420T061037
CREATED:20230802T152825Z
LAST-MODIFIED:20230907T210301Z
UID:7496-1696636800-1696723199@www.crms.org
SUMMARY:Boys Soccer: Telluride @ CRMS
DESCRIPTION:1:00 p.m.
URL:https://www.crms.org/calendar/boys-soccer-telluride-crms-3/
CATEGORIES:Sports
END:VEVENT
BEGIN:VEVENT
DTSTART;VALUE=DATE:20230930
DTEND;VALUE=DATE:20231001
DTSTAMP:20260420T061037
CREATED:20230802T153853Z
LAST-MODIFIED:20230802T153853Z
UID:7513-1696032000-1696118399@www.crms.org
SUMMARY:XC Team: Crested Butte (Day 2/2)
DESCRIPTION:
URL:https://www.crms.org/calendar/xc-team-crested-butte-day-2/
CATEGORIES:Sports
END:VEVENT
BEGIN:VEVENT
DTSTART;VALUE=DATE:20230929
DTEND;VALUE=DATE:20230930
DTSTAMP:20260420T061037
CREATED:20230802T153810Z
LAST-MODIFIED:20230802T153810Z
UID:7511-1695945600-1696031999@www.crms.org
SUMMARY:XC Team: Crested Butte (Day 1/2)
DESCRIPTION:
URL:https://www.crms.org/calendar/xc-team-crested-butte-day-1/
CATEGORIES:Sports
END:VEVENT
BEGIN:VEVENT
DTSTART;VALUE=DATE:20230926
DTEND;VALUE=DATE:20230927
DTSTAMP:20260420T061037
CREATED:20230802T152741Z
LAST-MODIFIED:20230907T210236Z
UID:7494-1695686400-1695772799@www.crms.org
SUMMARY:Boys Soccer: Aspen @ CRMS
DESCRIPTION:2:00 p.m.
URL:https://www.crms.org/calendar/boys-soccer-aspen-crms-2/
CATEGORIES:Sports
END:VEVENT
BEGIN:VEVENT
DTSTART;VALUE=DATE:20230923
DTEND;VALUE=DATE:20230924
DTSTAMP:20260420T061037
CREATED:20230802T154426Z
LAST-MODIFIED:20230802T154533Z
UID:7527-1695427200-1695513599@www.crms.org
SUMMARY:Bike Team: Race #3: Leadville
DESCRIPTION:
URL:https://www.crms.org/calendar/bike-team-race-3-leadville/
CATEGORIES:Sports
END:VEVENT
BEGIN:VEVENT
DTSTART;VALUE=DATE:20230923
DTEND;VALUE=DATE:20230924
DTSTAMP:20260420T061037
CREATED:20230802T152654Z
LAST-MODIFIED:20230907T210208Z
UID:7492-1695427200-1695513599@www.crms.org
SUMMARY:Boys Soccer: CRMS @ Telluride
DESCRIPTION:11:00 a.m.
URL:https://www.crms.org/calendar/boys-soccer-crms-telluride-3/
CATEGORIES:Sports
END:VEVENT
BEGIN:VEVENT
DTSTART;VALUE=DATE:20230922
DTEND;VALUE=DATE:20230923
DTSTAMP:20260420T061037
CREATED:20230802T152532Z
LAST-MODIFIED:20230907T210141Z
UID:7490-1695340800-1695427199@www.crms.org
SUMMARY:Boys Soccer: CRMS @ Ridgway
DESCRIPTION:4:00 p.m.
URL:https://www.crms.org/calendar/boys-soccer-crms-ridgway/
CATEGORIES:Sports
END:VEVENT
BEGIN:VEVENT
DTSTART;VALUE=DATE:20230919
DTEND;VALUE=DATE:20230920
DTSTAMP:20260420T061037
CREATED:20230802T152426Z
LAST-MODIFIED:20230907T210116Z
UID:7488-1695081600-1695167999@www.crms.org
SUMMARY:Boys Soccer: Caprock @ CRMS
DESCRIPTION:4:00 p.m.
URL:https://www.crms.org/calendar/boys-soccer-caprock-crms-3/
CATEGORIES:Sports
END:VEVENT
BEGIN:VEVENT
DTSTART;VALUE=DATE:20230916
DTEND;VALUE=DATE:20230917
DTSTAMP:20260420T061037
CREATED:20230802T153632Z
LAST-MODIFIED:20230802T153632Z
UID:7507-1694822400-1694908799@www.crms.org
SUMMARY:XC Team: Eagle Valley
DESCRIPTION:
URL:https://www.crms.org/calendar/xc-team-eagle-valley/
CATEGORIES:Sports
END:VEVENT
BEGIN:VEVENT
DTSTART;VALUE=DATE:20230916
DTEND;VALUE=DATE:20230917
DTSTAMP:20260420T061037
CREATED:20230802T152319Z
LAST-MODIFIED:20230907T210040Z
UID:7486-1694822400-1694908799@www.crms.org
SUMMARY:Boys Soccer: CRMS @ Crested Butte
DESCRIPTION:1:00 p.m.
URL:https://www.crms.org/calendar/boys-soccer-crms-crested-butte-4/
CATEGORIES:Sports
END:VEVENT
BEGIN:VEVENT
DTSTART;VALUE=DATE:20230912
DTEND;VALUE=DATE:20230913
DTSTAMP:20260420T061037
CREATED:20230802T152154Z
LAST-MODIFIED:20230907T210014Z
UID:7484-1694476800-1694563199@www.crms.org
SUMMARY:Boys Soccer: Roaring Fork @ CRMS
DESCRIPTION:4:00 p.m.
URL:https://www.crms.org/calendar/boys-soccer-roaring-fork-crms-3/
CATEGORIES:Sports
END:VEVENT
END:VCALENDAR