BEGIN:VCALENDAR
VERSION:2.0
PRODID:-//Colorado Rocky Mountain School - ECPv6.9.0//NONSGML v1.0//EN
CALSCALE:GREGORIAN
METHOD:PUBLISH
X-WR-CALNAME:Colorado Rocky Mountain School
X-ORIGINAL-URL:https://www.crms.org
X-WR-CALDESC:Events for Colorado Rocky Mountain School
REFRESH-INTERVAL;VALUE=DURATION:PT1H
X-Robots-Tag:noindex
X-PUBLISHED-TTL:PT1H
BEGIN:VTIMEZONE
TZID:America/Denver
BEGIN:DAYLIGHT
TZOFFSETFROM:-0700
TZOFFSETTO:-0600
TZNAME:MDT
DTSTART:20240310T090000
END:DAYLIGHT
BEGIN:STANDARD
TZOFFSETFROM:-0600
TZOFFSETTO:-0700
TZNAME:MST
DTSTART:20241103T080000
END:STANDARD
END:VTIMEZONE
BEGIN:VEVENT
DTSTART;TZID=America/Denver:20240411T150000
DTEND;TZID=America/Denver:20240411T170000
DTSTAMP:20260421T190642
CREATED:20240226T171455Z
LAST-MODIFIED:20240226T172107Z
UID:8910-1712847600-1712854800@www.crms.org
SUMMARY:Girls Soccer @ Vail Christian
DESCRIPTION:
URL:https://www.crms.org/calendar/girls-soccer-vail-christian-2/
LOCATION:Freedom Park Soccer Fields\, 300 Miller Ranch Rd.\, Edwards\, CO\, 81632\, United States
CATEGORIES:Sports
END:VEVENT
END:VCALENDAR