BEGIN:VCALENDAR
VERSION:2.0
PRODID:-//Colorado Rocky Mountain School - ECPv6.9.0//NONSGML v1.0//EN
CALSCALE:GREGORIAN
METHOD:PUBLISH
X-ORIGINAL-URL:https://www.crms.org
X-WR-CALDESC:Events for Colorado Rocky Mountain School
REFRESH-INTERVAL;VALUE=DURATION:PT1H
X-Robots-Tag:noindex
X-PUBLISHED-TTL:PT1H
BEGIN:VTIMEZONE
TZID:America/Denver
BEGIN:DAYLIGHT
TZOFFSETFROM:-0700
TZOFFSETTO:-0600
TZNAME:MDT
DTSTART:20230312T090000
END:DAYLIGHT
BEGIN:STANDARD
TZOFFSETFROM:-0600
TZOFFSETTO:-0700
TZNAME:MST
DTSTART:20231105T080000
END:STANDARD
END:VTIMEZONE
BEGIN:VEVENT
DTSTART;VALUE=DATE:20231021
DTEND;VALUE=DATE:20231022
DTSTAMP:20260422T220010
CREATED:20230802T153310Z
LAST-MODIFIED:20230907T210442Z
UID:7504-1697846400-1697932799@www.crms.org
SUMMARY:Boys Soccer: Ridgway @ CRMS
DESCRIPTION:3:00 p.m.
URL:https://www.crms.org/calendar/boys-soccer-ridgway-crms/
CATEGORIES:Sports
END:VEVENT
BEGIN:VEVENT
DTSTART;VALUE=DATE:20231021
DTEND;VALUE=DATE:20231022
DTSTAMP:20260422T220010
CREATED:20230802T154813Z
LAST-MODIFIED:20230802T154813Z
UID:7534-1697846400-1697932799@www.crms.org
SUMMARY:Bike Team: States: Glenwood Springs (Day 1/2)
DESCRIPTION:
URL:https://www.crms.org/calendar/bike-team-states-glenwood-springs-day-1/
CATEGORIES:Sports
END:VEVENT
END:VCALENDAR