BEGIN:VCALENDAR
VERSION:2.0
PRODID:-//Colorado Rocky Mountain School - ECPv6.9.0//NONSGML v1.0//EN
CALSCALE:GREGORIAN
METHOD:PUBLISH
X-WR-CALNAME:Colorado Rocky Mountain School
X-ORIGINAL-URL:https://www.crms.org
X-WR-CALDESC:Events for Colorado Rocky Mountain School
REFRESH-INTERVAL;VALUE=DURATION:PT1H
X-Robots-Tag:noindex
X-PUBLISHED-TTL:PT1H
BEGIN:VTIMEZONE
TZID:America/Denver
BEGIN:DAYLIGHT
TZOFFSETFROM:-0700
TZOFFSETTO:-0600
TZNAME:MDT
DTSTART:20230312T090000
END:DAYLIGHT
BEGIN:STANDARD
TZOFFSETFROM:-0600
TZOFFSETTO:-0700
TZNAME:MST
DTSTART:20231105T080000
END:STANDARD
END:VTIMEZONE
BEGIN:VEVENT
DTSTART;VALUE=DATE:20230113
DTEND;VALUE=DATE:20230114
DTSTAMP:20260424T050106
CREATED:20221014T194317Z
LAST-MODIFIED:20221014T194615Z
UID:6692-1673568000-1673654399@www.crms.org
SUMMARY:Alpine Team: Loveland Slalom
DESCRIPTION:
URL:https://www.crms.org/calendar/alpine-team-loveland-slalom/
CATEGORIES:Sports
END:VEVENT
BEGIN:VEVENT
DTSTART;VALUE=DATE:20230113
DTEND;VALUE=DATE:20230114
DTSTAMP:20260424T050106
CREATED:20221025T211305Z
LAST-MODIFIED:20221025T211305Z
UID:6720-1673568000-1673654399@www.crms.org
SUMMARY:Nordic Team: Snow Mountain Ranch
DESCRIPTION:
URL:https://www.crms.org/calendar/nordic-team-snow-mountain-ranch/
CATEGORIES:Sports
END:VEVENT
END:VCALENDAR