BEGIN:VCALENDAR
VERSION:2.0
PRODID:-//Colorado Rocky Mountain School - ECPv6.9.0//NONSGML v1.0//EN
CALSCALE:GREGORIAN
METHOD:PUBLISH
X-WR-CALNAME:Colorado Rocky Mountain School
X-ORIGINAL-URL:https://www.crms.org
X-WR-CALDESC:Events for Colorado Rocky Mountain School
REFRESH-INTERVAL;VALUE=DURATION:PT1H
X-Robots-Tag:noindex
X-PUBLISHED-TTL:PT1H
BEGIN:VTIMEZONE
TZID:America/Denver
BEGIN:DAYLIGHT
TZOFFSETFROM:-0700
TZOFFSETTO:-0600
TZNAME:MDT
DTSTART:20240310T090000
END:DAYLIGHT
BEGIN:STANDARD
TZOFFSETFROM:-0600
TZOFFSETTO:-0700
TZNAME:MST
DTSTART:20241103T080000
END:STANDARD
END:VTIMEZONE
BEGIN:VEVENT
DTSTART;VALUE=DATE:20240907
DTEND;VALUE=DATE:20240908
DTSTAMP:20260420T080958
CREATED:20240812T155524Z
LAST-MODIFIED:20240812T155702Z
UID:9653-1725667200-1725753599@www.crms.org
SUMMARY:XC Running: Eagle Valley Invitational
DESCRIPTION:Siena Valley Club\nGypsum\, CO
URL:https://www.crms.org/calendar/cross-country-running-eagle-valley-invitational/
CATEGORIES:Sports
END:VEVENT
BEGIN:VEVENT
DTSTART;VALUE=DATE:20240907
DTEND;VALUE=DATE:20240909
DTSTAMP:20260420T080958
CREATED:20240907T060000Z
LAST-MODIFIED:20240804T183338Z
UID:8929-1725667200-1725839999@www.crms.org
SUMMARY:Bike Team: Race #2: Eagle
DESCRIPTION:CRMS Race Day: Saturday\, September 7th\nHaymaker Classic
URL:https://www.crms.org/calendar/bike-team-race-2-eagle/
CATEGORIES:Sports
END:VEVENT
BEGIN:VEVENT
DTSTART;VALUE=DATE:20240910
DTEND;VALUE=DATE:20240911
DTSTAMP:20260420T080958
CREATED:20240812T203556Z
LAST-MODIFIED:20240812T203556Z
UID:9667-1725926400-1726012799@www.crms.org
SUMMARY:Boys Soccer: Caprock @ CRMS
DESCRIPTION:4:00 p.m. Varsity\n6:00 p.m. JV
URL:https://www.crms.org/calendar/boys-soccer-caprock-crms-4/
CATEGORIES:Sports
END:VEVENT
BEGIN:VEVENT
DTSTART;VALUE=DATE:20240917
DTEND;VALUE=DATE:20240918
DTSTAMP:20260420T080958
CREATED:20240812T203625Z
LAST-MODIFIED:20240812T203625Z
UID:9668-1726531200-1726617599@www.crms.org
SUMMARY:Boys Soccer: Aspen @ CRMS
DESCRIPTION:4:00 p.m. Varsity\n6:00 p.m. JV
URL:https://www.crms.org/calendar/boys-soccer-aspen-crms-3/
CATEGORIES:Sports
END:VEVENT
BEGIN:VEVENT
DTSTART;VALUE=DATE:20240919
DTEND;VALUE=DATE:20240920
DTSTAMP:20260420T080958
CREATED:20240812T203830Z
LAST-MODIFIED:20240812T203830Z
UID:9675-1726704000-1726790399@www.crms.org
SUMMARY:Boys Soccer: CRMS @ Moffat
DESCRIPTION:4:00 p.m. Varsity\n6:00 p.m. JV
URL:https://www.crms.org/calendar/boys-soccer-crms-moffat/
CATEGORIES:Sports
END:VEVENT
BEGIN:VEVENT
DTSTART;VALUE=DATE:20240921
DTEND;VALUE=DATE:20240922
DTSTAMP:20260420T080958
CREATED:20240812T155640Z
LAST-MODIFIED:20240812T155640Z
UID:9655-1726876800-1726963199@www.crms.org
SUMMARY:XC Running: Demon XC Invitational
DESCRIPTION:Glenwood Springs High School\nGlenwood Springs\, CO
URL:https://www.crms.org/calendar/xc-running-demon-xc-invitational/
CATEGORIES:Sports
END:VEVENT
BEGIN:VEVENT
DTSTART;VALUE=DATE:20240921
DTEND;VALUE=DATE:20240923
DTSTAMP:20260420T080958
CREATED:20240921T060000Z
LAST-MODIFIED:20240804T183053Z
UID:8933-1726876800-1727049599@www.crms.org
SUMMARY:Bike Team: Race #3: Colorado Springs
DESCRIPTION:CRMS Race Day: Sunday\, September 22nd\nLazy B Ranch Rally
URL:https://www.crms.org/calendar/bike-team-race-3-eagle-2/
CATEGORIES:Sports
END:VEVENT
BEGIN:VEVENT
DTSTART;VALUE=DATE:20240924
DTEND;VALUE=DATE:20240925
DTSTAMP:20260420T080958
CREATED:20240812T203945Z
LAST-MODIFIED:20240812T203945Z
UID:9670-1727136000-1727222399@www.crms.org
SUMMARY:Boys Soccer: CRMS @ Grand Valley
DESCRIPTION:4:00 p.m. Varsity\n6:00 p.m. JV
URL:https://www.crms.org/calendar/boys-soccer-crms-grand-valley/
CATEGORIES:Sports
END:VEVENT
BEGIN:VEVENT
DTSTART;VALUE=DATE:20240926
DTEND;VALUE=DATE:20240927
DTSTAMP:20260420T080958
CREATED:20240812T203913Z
LAST-MODIFIED:20240812T203913Z
UID:9674-1727308800-1727395199@www.crms.org
SUMMARY:Boys Soccer: CRMS @ Ridgway (Grand Junction)
DESCRIPTION:4:00 p.m. Varsity\n6:00 p.m. JV
URL:https://www.crms.org/calendar/boys-soccer-crms-ridgway-grand-junction/
CATEGORIES:Sports
END:VEVENT
END:VCALENDAR