BEGIN:VCALENDAR
VERSION:2.0
PRODID:-//Colorado Rocky Mountain School - ECPv6.9.0//NONSGML v1.0//EN
CALSCALE:GREGORIAN
METHOD:PUBLISH
X-WR-CALNAME:Colorado Rocky Mountain School
X-ORIGINAL-URL:https://www.crms.org
X-WR-CALDESC:Events for Colorado Rocky Mountain School
REFRESH-INTERVAL;VALUE=DURATION:PT1H
X-Robots-Tag:noindex
X-PUBLISHED-TTL:PT1H
BEGIN:VTIMEZONE
TZID:America/Denver
BEGIN:DAYLIGHT
TZOFFSETFROM:-0700
TZOFFSETTO:-0600
TZNAME:MDT
DTSTART:20240310T090000
END:DAYLIGHT
BEGIN:STANDARD
TZOFFSETFROM:-0600
TZOFFSETTO:-0700
TZNAME:MST
DTSTART:20241103T080000
END:STANDARD
END:VTIMEZONE
BEGIN:VEVENT
DTSTART;TZID=America/Denver:20240404T160000
DTEND;TZID=America/Denver:20240404T180000
DTSTAMP:20260421T151849
CREATED:20240226T171101Z
LAST-MODIFIED:20240226T171101Z
UID:8911-1712246400-1712253600@www.crms.org
SUMMARY:Girls Soccer: Vail Christian @ CRMS
DESCRIPTION:
URL:https://www.crms.org/calendar/girls-soccer-vail-christian-crms-3/
CATEGORIES:Sports
END:VEVENT
BEGIN:VEVENT
DTSTART;TZID=America/Denver:20240406T110000
DTEND;TZID=America/Denver:20240406T140000
DTSTAMP:20260421T151849
CREATED:20240226T171217Z
LAST-MODIFIED:20240226T171217Z
UID:8913-1712401200-1712412000@www.crms.org
SUMMARY:Girls Soccer: RFHS @ CRMS
DESCRIPTION:
URL:https://www.crms.org/calendar/girls-soccer-rfhs-crms-2/
CATEGORIES:Sports
END:VEVENT
BEGIN:VEVENT
DTSTART;TZID=America/Denver:20240409T160000
DTEND;TZID=America/Denver:20240409T180000
DTSTAMP:20260421T151849
CREATED:20240226T171322Z
LAST-MODIFIED:20240226T171322Z
UID:8915-1712678400-1712685600@www.crms.org
SUMMARY:Girls Soccer: Moffat @ CRMS
DESCRIPTION:
URL:https://www.crms.org/calendar/girls-soccer-moffat-crms-3/
CATEGORIES:Sports
END:VEVENT
BEGIN:VEVENT
DTSTART;TZID=America/Denver:20240411T150000
DTEND;TZID=America/Denver:20240411T170000
DTSTAMP:20260421T151849
CREATED:20240226T171455Z
LAST-MODIFIED:20240226T172107Z
UID:8910-1712847600-1712854800@www.crms.org
SUMMARY:Girls Soccer @ Vail Christian
DESCRIPTION:
URL:https://www.crms.org/calendar/girls-soccer-vail-christian-2/
LOCATION:Freedom Park Soccer Fields\, 300 Miller Ranch Rd.\, Edwards\, CO\, 81632\, United States
CATEGORIES:Sports
END:VEVENT
BEGIN:VEVENT
DTSTART;TZID=America/Denver:20240416T160000
DTEND;TZID=America/Denver:20240416T180000
DTSTAMP:20260421T151849
CREATED:20240226T171621Z
LAST-MODIFIED:20240226T171621Z
UID:8919-1713283200-1713290400@www.crms.org
SUMMARY:Girls Soccer: Aspen @ CRMS
DESCRIPTION:
URL:https://www.crms.org/calendar/girls-soccer-aspen-crms-3/
CATEGORIES:Sports
END:VEVENT
BEGIN:VEVENT
DTSTART;TZID=America/Denver:20240418T160000
DTEND;TZID=America/Denver:20240418T180000
DTSTAMP:20260421T151849
CREATED:20240226T171734Z
LAST-MODIFIED:20240226T171734Z
UID:8921-1713456000-1713463200@www.crms.org
SUMMARY:Girls Soccer: Grand Valley @ CRMS
DESCRIPTION:
URL:https://www.crms.org/calendar/girls-soccer-grand-valley-crms-4/
CATEGORIES:Sports
END:VEVENT
BEGIN:VEVENT
DTSTART;TZID=America/Denver:20240423T160000
DTEND;TZID=America/Denver:20240423T180000
DTSTAMP:20260421T151849
CREATED:20240226T171839Z
LAST-MODIFIED:20240226T171839Z
UID:8923-1713888000-1713895200@www.crms.org
SUMMARY:Girls Soccer: CRMS @ Grand Valley
DESCRIPTION:
URL:https://www.crms.org/calendar/girls-soccer-crms-grand-valley-2/
CATEGORIES:Sports
END:VEVENT
END:VCALENDAR