BEGIN:VCALENDAR
VERSION:2.0
PRODID:-//Colorado Rocky Mountain School - ECPv6.9.0//NONSGML v1.0//EN
CALSCALE:GREGORIAN
METHOD:PUBLISH
X-WR-CALNAME:Colorado Rocky Mountain School
X-ORIGINAL-URL:https://www.crms.org
X-WR-CALDESC:Events for Colorado Rocky Mountain School
REFRESH-INTERVAL;VALUE=DURATION:PT1H
X-Robots-Tag:noindex
X-PUBLISHED-TTL:PT1H
BEGIN:VTIMEZONE
TZID:America/Denver
BEGIN:DAYLIGHT
TZOFFSETFROM:-0700
TZOFFSETTO:-0600
TZNAME:MDT
DTSTART:20240310T090000
END:DAYLIGHT
BEGIN:STANDARD
TZOFFSETFROM:-0600
TZOFFSETTO:-0700
TZNAME:MST
DTSTART:20241103T080000
END:STANDARD
END:VTIMEZONE
BEGIN:VEVENT
DTSTART;VALUE=DATE:20240301
DTEND;VALUE=DATE:20240304
DTSTAMP:20260421T190545
CREATED:20240229T204546Z
LAST-MODIFIED:20240229T204655Z
UID:8956-1709251200-1709510399@www.crms.org
SUMMARY:Freeride Team: IFSA Big Mountain Competition @ Winter Park
DESCRIPTION:
URL:https://www.crms.org/calendar/freeride-team-winter-park/
CATEGORIES:Sports
END:VEVENT
BEGIN:VEVENT
DTSTART;VALUE=DATE:20240304
DTEND;VALUE=DATE:20240305
DTSTAMP:20260421T190545
CREATED:20240109T171118Z
LAST-MODIFIED:20240109T171118Z
UID:8720-1709510400-1709596799@www.crms.org
SUMMARY:Telemark Team: Championships at Keystone
DESCRIPTION:
URL:https://www.crms.org/calendar/telemark-team-championships-keystone/
CATEGORIES:Sports
END:VEVENT
BEGIN:VEVENT
DTSTART;VALUE=DATE:20240307
DTEND;VALUE=DATE:20240308
DTSTAMP:20260421T190545
CREATED:20231020T201548Z
LAST-MODIFIED:20231020T201548Z
UID:8264-1709769600-1709855999@www.crms.org
SUMMARY:Telemark Team: Snowmass ISFA Competition
DESCRIPTION:
URL:https://www.crms.org/calendar/telemark-team-snowmass-isfa-competition/
CATEGORIES:Sports
END:VEVENT
BEGIN:VEVENT
DTSTART;TZID=America/Denver:20240308T160000
DTEND;TZID=America/Denver:20240308T180000
DTSTAMP:20260421T190545
CREATED:20240215T210008Z
LAST-MODIFIED:20240215T210008Z
UID:8898-1709913600-1709920800@www.crms.org
SUMMARY:Girls Soccer @ Delta
DESCRIPTION:
URL:https://www.crms.org/calendar/girls-soccer-delta-2/
CATEGORIES:Sports
END:VEVENT
BEGIN:VEVENT
DTSTART;TZID=America/Denver:20240312T160000
DTEND;TZID=America/Denver:20240312T180000
DTSTAMP:20260421T190545
CREATED:20230404T220000Z
LAST-MODIFIED:20240215T210348Z
UID:7044-1710259200-1710266400@www.crms.org
SUMMARY:Girls Soccer vs Ridgway (in Grand Junction)
DESCRIPTION:CRMS vs Ridgeway – Game is in Grand Junction\, CO \nCanyon View Park – 730 24 Rd.\nGrand Junction\, CO 81505
URL:https://www.crms.org/calendar/girls-soccer-vs-ridgeway/
LOCATION:canyon view park\, 730 24 Rd.\, Grand Junction\, CO\, 81505
CATEGORIES:Sports
END:VEVENT
BEGIN:VEVENT
DTSTART;TZID=America/Denver:20240313T140000
DTEND;TZID=America/Denver:20240313T170000
DTSTAMP:20260421T190545
CREATED:20240226T170644Z
LAST-MODIFIED:20240226T170644Z
UID:8906-1710338400-1710349200@www.crms.org
SUMMARY:Girls Soccer Practice
DESCRIPTION:
URL:https://www.crms.org/calendar/girls-soccer-practice/
CATEGORIES:Sports
END:VEVENT
BEGIN:VEVENT
DTSTART;TZID=America/Denver:20240314T160000
DTEND;TZID=America/Denver:20240314T180000
DTSTAMP:20260421T190545
CREATED:20240226T170814Z
LAST-MODIFIED:20240226T170814Z
UID:8908-1710432000-1710439200@www.crms.org
SUMMARY:Girls Soccer @ Rifle
DESCRIPTION:CRMS @ Rifle \n 
URL:https://www.crms.org/calendar/girls-soccer-rifle-3/
CATEGORIES:Sports
END:VEVENT
END:VCALENDAR