BEGIN:VCALENDAR
VERSION:2.0
PRODID:-//Colorado Rocky Mountain School - ECPv6.9.0//NONSGML v1.0//EN
CALSCALE:GREGORIAN
METHOD:PUBLISH
X-ORIGINAL-URL:https://www.crms.org
X-WR-CALDESC:Events for Colorado Rocky Mountain School
REFRESH-INTERVAL;VALUE=DURATION:PT1H
X-Robots-Tag:noindex
X-PUBLISHED-TTL:PT1H
BEGIN:VTIMEZONE
TZID:America/Denver
BEGIN:DAYLIGHT
TZOFFSETFROM:-0700
TZOFFSETTO:-0600
TZNAME:MDT
DTSTART:20230312T090000
END:DAYLIGHT
BEGIN:STANDARD
TZOFFSETFROM:-0600
TZOFFSETTO:-0700
TZNAME:MST
DTSTART:20231105T080000
END:STANDARD
END:VTIMEZONE
BEGIN:VEVENT
DTSTART;VALUE=DATE:20230501
DTEND;VALUE=DATE:20230502
DTSTAMP:20260423T161353
CREATED:20230306T171242Z
LAST-MODIFIED:20230306T171242Z
UID:7207-1682899200-1682985599@www.crms.org
SUMMARY:Girls Soccer: Grand Valley @ CRMS
DESCRIPTION:Varsity at 4:00 p.m.\nJV at 6:00 p.m.
URL:https://www.crms.org/calendar/girls-soccer-grand-valley-crms-3/
CATEGORIES:Sports
END:VEVENT
BEGIN:VEVENT
DTSTART;TZID=America/Denver:20230512T150000
DTEND;TZID=America/Denver:20230512T170000
DTSTAMP:20260423T161353
CREATED:20230508T201636Z
LAST-MODIFIED:20230508T201654Z
UID:7311-1683903600-1683910800@www.crms.org
SUMMARY:Girls Soccer: Post Season Round 1: Flatirons Academy vs CRMS
DESCRIPTION:Location: Broomfield Commons Championship Field (Broomfield County Commons Dr\, Broomfield\, CO 80020) \n(Both teams will be on the east side\, and spectators will enter at the pavillon/home entrance)
URL:https://www.crms.org/calendar/girls-soccer-post-season-soccer-round-1-flatirons-academy-v-crms/
CATEGORIES:Sports
END:VEVENT
BEGIN:VEVENT
DTSTART;VALUE=DATE:20230514
DTEND;VALUE=DATE:20230515
DTSTAMP:20260423T161353
CREATED:20230224T161509Z
LAST-MODIFIED:20230224T161509Z
UID:7065-1684022400-1684108799@www.crms.org
SUMMARY:Kayak Team: Salida Run Off Slalom
DESCRIPTION:
URL:https://www.crms.org/calendar/kayak-team-salida-run-off-slalom/
CATEGORIES:Sports
END:VEVENT
BEGIN:VEVENT
DTSTART;VALUE=DATE:20230519
DTEND;VALUE=DATE:20230520
DTSTAMP:20260423T161353
CREATED:20230224T161541Z
LAST-MODIFIED:20230224T161541Z
UID:7067-1684454400-1684540799@www.crms.org
SUMMARY:Kayak Team: Dawson Derby Slalom
DESCRIPTION:
URL:https://www.crms.org/calendar/kayak-team-dawson-derby-slalom/
CATEGORIES:Sports
END:VEVENT
BEGIN:VEVENT
DTSTART;VALUE=DATE:20230526
DTEND;VALUE=DATE:20230529
DTSTAMP:20260423T161353
CREATED:20230224T161613Z
LAST-MODIFIED:20230224T161613Z
UID:7069-1685059200-1685318399@www.crms.org
SUMMARY:Kayak Team: CKS Paddlefest
DESCRIPTION:
URL:https://www.crms.org/calendar/kayak-team-cks-paddlefest/
CATEGORIES:Sports
END:VEVENT
END:VCALENDAR