BEGIN:VCALENDAR
VERSION:2.0
PRODID:-//Colorado Rocky Mountain School - ECPv6.9.0//NONSGML v1.0//EN
CALSCALE:GREGORIAN
METHOD:PUBLISH
X-ORIGINAL-URL:https://www.crms.org
X-WR-CALDESC:Events for Colorado Rocky Mountain School
REFRESH-INTERVAL;VALUE=DURATION:PT1H
X-Robots-Tag:noindex
X-PUBLISHED-TTL:PT1H
BEGIN:VTIMEZONE
TZID:America/Denver
BEGIN:DAYLIGHT
TZOFFSETFROM:-0700
TZOFFSETTO:-0600
TZNAME:MDT
DTSTART:20230312T090000
END:DAYLIGHT
BEGIN:STANDARD
TZOFFSETFROM:-0600
TZOFFSETTO:-0700
TZNAME:MST
DTSTART:20231105T080000
END:STANDARD
END:VTIMEZONE
BEGIN:VEVENT
DTSTART;TZID=America/Denver:20230406T160000
DTEND;TZID=America/Denver:20230406T170000
DTSTAMP:20260423T192941
CREATED:20230224T160719Z
LAST-MODIFIED:20230224T160719Z
UID:7046-1680796800-1680800400@www.crms.org
SUMMARY:Girls Soccer: Vail Christian @ CRMS
DESCRIPTION:4 pm Varsity
URL:https://www.crms.org/calendar/girls-soccer-vail-christian-crms-2/
CATEGORIES:Sports
END:VEVENT
BEGIN:VEVENT
DTSTART;VALUE=DATE:20230408
DTEND;VALUE=DATE:20230409
DTSTAMP:20260423T192941
CREATED:20230224T160753Z
LAST-MODIFIED:20230224T160753Z
UID:7050-1680912000-1680998399@www.crms.org
SUMMARY:Girls Soccer @ Roaring Fork
DESCRIPTION:
URL:https://www.crms.org/calendar/girls-soccer-roaring-fork/
CATEGORIES:Sports
END:VEVENT
BEGIN:VEVENT
DTSTART;VALUE=DATE:20230411
DTEND;VALUE=DATE:20230412
DTSTAMP:20260423T192941
CREATED:20230224T160837Z
LAST-MODIFIED:20230410T173127Z
UID:7052-1681171200-1681257599@www.crms.org
SUMMARY:Girls Soccer: Moffat @ CRMS
DESCRIPTION:Varsity at 4 pm
URL:https://www.crms.org/calendar/girls-soccer-moffat/
CATEGORIES:Sports
END:VEVENT
BEGIN:VEVENT
DTSTART;TZID=America/Denver:20230413T151500
DTEND;TZID=America/Denver:20230413T170000
DTSTAMP:20260423T192941
CREATED:20230224T160937Z
LAST-MODIFIED:20230224T160937Z
UID:7055-1681398900-1681405200@www.crms.org
SUMMARY:Girls Soccer @ Vail Christian
DESCRIPTION:Varsity only at 3:15 pm
URL:https://www.crms.org/calendar/girls-soccer-vail-christian/
CATEGORIES:Sports
END:VEVENT
BEGIN:VEVENT
DTSTART;VALUE=DATE:20230415
DTEND;VALUE=DATE:20230416
DTSTAMP:20260423T192941
CREATED:20230224T161044Z
LAST-MODIFIED:20230410T173042Z
UID:7057-1681516800-1681603199@www.crms.org
SUMMARY:Girls Soccer: Moffat @ CRMS
DESCRIPTION:Varsity: 4 pm
URL:https://www.crms.org/calendar/girls-soccer-moffat-crms-2/
CATEGORIES:Sports
END:VEVENT
BEGIN:VEVENT
DTSTART;TZID=America/Denver:20230417T160000
DTEND;TZID=America/Denver:20230417T170000
DTSTAMP:20260423T192941
CREATED:20230310T230725Z
LAST-MODIFIED:20230310T230725Z
UID:7217-1681747200-1681750800@www.crms.org
SUMMARY:Girls Soccer @ Delta
DESCRIPTION:
URL:https://www.crms.org/calendar/girls-soccer-delta/
CATEGORIES:Sports
END:VEVENT
BEGIN:VEVENT
DTSTART;VALUE=DATE:20230420
DTEND;VALUE=DATE:20230421
DTSTAMP:20260423T192941
CREATED:20230224T161151Z
LAST-MODIFIED:20230306T171103Z
UID:7059-1681948800-1682035199@www.crms.org
SUMMARY:Girls Soccer: CRMS @ Grand Valley
DESCRIPTION:Varsity: 4 pm and JV 6 pm
URL:https://www.crms.org/calendar/girls-soccer-grand-valley-crms-2/
CATEGORIES:Sports
END:VEVENT
BEGIN:VEVENT
DTSTART;VALUE=DATE:20230422
DTEND;VALUE=DATE:20230423
DTSTAMP:20260423T192941
CREATED:20230224T161233Z
LAST-MODIFIED:20230224T161233Z
UID:7061-1682121600-1682207999@www.crms.org
SUMMARY:Girls Soccer: Aspen @ CRMS
DESCRIPTION:11 am Varsity and 1 pm JV
URL:https://www.crms.org/calendar/girls-soccer-aspen-crms-2/
CATEGORIES:Sports
END:VEVENT
END:VCALENDAR