BEGIN:VCALENDAR
VERSION:2.0
PRODID:-//Colorado Rocky Mountain School - ECPv6.9.0//NONSGML v1.0//EN
CALSCALE:GREGORIAN
METHOD:PUBLISH
X-ORIGINAL-URL:https://www.crms.org
X-WR-CALDESC:Events for Colorado Rocky Mountain School
REFRESH-INTERVAL;VALUE=DURATION:PT1H
X-Robots-Tag:noindex
X-PUBLISHED-TTL:PT1H
BEGIN:VTIMEZONE
TZID:America/Denver
BEGIN:DAYLIGHT
TZOFFSETFROM:-0700
TZOFFSETTO:-0600
TZNAME:MDT
DTSTART:20210314T090000
END:DAYLIGHT
BEGIN:STANDARD
TZOFFSETFROM:-0600
TZOFFSETTO:-0700
TZNAME:MST
DTSTART:20211107T080000
END:STANDARD
END:VTIMEZONE
BEGIN:VEVENT
DTSTART;TZID=America/Denver:20211001T180000
DTEND;TZID=America/Denver:20211001T190000
DTSTAMP:20260425T204353
CREATED:20210614T205814Z
LAST-MODIFIED:20210923T160309Z
UID:4873-1633111200-1633114800@www.crms.org
SUMMARY:Boys Soccer: CRMS @ Roaring Fork
DESCRIPTION:
URL:https://www.crms.org/calendar/boys-soccer-crms-roaring-fork/
CATEGORIES:Sports
END:VEVENT
BEGIN:VEVENT
DTSTART;VALUE=DATE:20211009
DTEND;VALUE=DATE:20211010
DTSTAMP:20260425T204353
CREATED:20210810T014523Z
LAST-MODIFIED:20210810T014523Z
UID:5100-1633737600-1633823999@www.crms.org
SUMMARY:XC Team: Chris Severy Invitational\, Aspen
DESCRIPTION:
URL:https://www.crms.org/calendar/xc-team-chris-severy-invitational-aspen/
CATEGORIES:Sports
END:VEVENT
BEGIN:VEVENT
DTSTART;TZID=America/Denver:20211009T130000
DTEND;TZID=America/Denver:20211009T140000
DTSTAMP:20260425T204353
CREATED:20210614T205903Z
LAST-MODIFIED:20211002T214922Z
UID:4875-1633784400-1633788000@www.crms.org
SUMMARY:Boys Soccer: CRMS @ Telluride
DESCRIPTION:
URL:https://www.crms.org/calendar/boys-soccer-crms-telluride/
CATEGORIES:Sports
END:VEVENT
BEGIN:VEVENT
DTSTART;VALUE=DATE:20211010
DTEND;VALUE=DATE:20211011
DTSTAMP:20260425T204353
CREATED:20210614T205939Z
LAST-MODIFIED:20210614T205939Z
UID:4877-1633824000-1633910399@www.crms.org
SUMMARY:Bike Team: Race #4 Eagle
DESCRIPTION:
URL:https://www.crms.org/calendar/bike-team-race-4-eagle/
CATEGORIES:Sports
END:VEVENT
BEGIN:VEVENT
DTSTART;TZID=America/Denver:20211012T160000
DTEND;TZID=America/Denver:20211012T170000
DTSTAMP:20260425T204353
CREATED:20210705T154627Z
LAST-MODIFIED:20210923T160445Z
UID:4919-1634054400-1634058000@www.crms.org
SUMMARY:Boys Soccer: CRMS @ Middle Park
DESCRIPTION:
URL:https://www.crms.org/calendar/boys-soccer-crms-middle-park/
CATEGORIES:Sports
END:VEVENT
BEGIN:VEVENT
DTSTART;TZID=America/Denver:20211015T160000
DTEND;TZID=America/Denver:20211015T170000
DTSTAMP:20260425T204353
CREATED:20210614T210044Z
LAST-MODIFIED:20210923T160522Z
UID:4882-1634313600-1634317200@www.crms.org
SUMMARY:Boys Soccer: Caprock @ CRMS
DESCRIPTION:
URL:https://www.crms.org/calendar/boys-soccer-caprock-crms/
CATEGORIES:Sports
END:VEVENT
BEGIN:VEVENT
DTSTART;TZID=America/Denver:20211021T160000
DTEND;TZID=America/Denver:20211021T170000
DTSTAMP:20260425T204353
CREATED:20210614T210143Z
LAST-MODIFIED:20210923T160600Z
UID:4887-1634832000-1634835600@www.crms.org
SUMMARY:Boys Soccer: Aspen vs. CRMS
DESCRIPTION:
URL:https://www.crms.org/calendar/boys-soccer-crms-vail-mountain/
CATEGORIES:Sports
END:VEVENT
BEGIN:VEVENT
DTSTART;VALUE=DATE:20211022
DTEND;VALUE=DATE:20211024
DTSTAMP:20260425T204353
CREATED:20210614T210240Z
LAST-MODIFIED:20210614T210240Z
UID:4889-1634860800-1635033599@www.crms.org
SUMMARY:Bike Team: States
DESCRIPTION:In Durango
URL:https://www.crms.org/calendar/bike-team-states/
CATEGORIES:Sports
END:VEVENT
BEGIN:VEVENT
DTSTART;VALUE=DATE:20211022
DTEND;VALUE=DATE:20211023
DTSTAMP:20260425T204353
CREATED:20210810T014553Z
LAST-MODIFIED:20210810T014553Z
UID:5102-1634860800-1634947199@www.crms.org
SUMMARY:XC Team: 2A Region 4 Regional Championships\, Rangely
DESCRIPTION:
URL:https://www.crms.org/calendar/xc-team-2a-region-4-regional-championships-rangely/
CATEGORIES:Sports
END:VEVENT
BEGIN:VEVENT
DTSTART;TZID=America/Denver:20211023T130000
DTEND;TZID=America/Denver:20211023T140000
DTSTAMP:20260425T204353
CREATED:20210614T210306Z
LAST-MODIFIED:20210923T160726Z
UID:4892-1634994000-1634997600@www.crms.org
SUMMARY:Boys Soccer: Ridgeway @ CRMS
DESCRIPTION:
URL:https://www.crms.org/calendar/boys-soccer-ridgeway-crms/
CATEGORIES:Sports
END:VEVENT
BEGIN:VEVENT
DTSTART;VALUE=DATE:20211030
DTEND;VALUE=DATE:20211031
DTSTAMP:20260425T204353
CREATED:20210810T014627Z
LAST-MODIFIED:20210810T014627Z
UID:5104-1635552000-1635638399@www.crms.org
SUMMARY:XC Team: State Championships\, Colorado Springs
DESCRIPTION:
URL:https://www.crms.org/calendar/xc-team-state-championships-colorado-springs/
CATEGORIES:Sports
END:VEVENT
END:VCALENDAR