BEGIN:VCALENDAR
VERSION:2.0
PRODID:-//Colorado Rocky Mountain School - ECPv6.9.0//NONSGML v1.0//EN
CALSCALE:GREGORIAN
METHOD:PUBLISH
X-WR-CALNAME:Colorado Rocky Mountain School
X-ORIGINAL-URL:https://www.crms.org
X-WR-CALDESC:Events for Colorado Rocky Mountain School
REFRESH-INTERVAL;VALUE=DURATION:PT1H
X-Robots-Tag:noindex
X-PUBLISHED-TTL:PT1H
BEGIN:VTIMEZONE
TZID:America/Denver
BEGIN:DAYLIGHT
TZOFFSETFROM:-0700
TZOFFSETTO:-0600
TZNAME:MDT
DTSTART:20260308T090000
END:DAYLIGHT
BEGIN:STANDARD
TZOFFSETFROM:-0600
TZOFFSETTO:-0700
TZNAME:MST
DTSTART:20261101T080000
END:STANDARD
END:VTIMEZONE
BEGIN:VEVENT
DTSTART;TZID=America/Denver:20260424T183000
DTEND;TZID=America/Denver:20260424T210000
DTSTAMP:20260421T095507
CREATED:20260420T172910Z
LAST-MODIFIED:20260420T172910Z
UID:13244-1777055400-1777064400@www.crms.org
SUMMARY:Spring Fling Dance
DESCRIPTION:Spring Fling Dance\nHosted by Agenda\n6:30 – 9:00 p.m. in the Bar Fork \n 
URL:https://www.crms.org/calendar/spring-fling-dance/
CATEGORIES:Community
END:VEVENT
BEGIN:VEVENT
DTSTART;VALUE=DATE:20260425
DTEND;VALUE=DATE:20260426
DTSTAMP:20260421T095507
CREATED:20250728T154448Z
LAST-MODIFIED:20250728T154448Z
UID:11770-1777075200-1777161599@www.crms.org
SUMMARY:Closed Evening
DESCRIPTION:No overnight sign-outs.
URL:https://www.crms.org/calendar/closed-evening-5/
CATEGORIES:Community
END:VEVENT
BEGIN:VEVENT
DTSTART;VALUE=DATE:20260426
DTEND;VALUE=DATE:20260502
DTSTAMP:20260421T095507
CREATED:20250115T204509Z
LAST-MODIFIED:20250115T204509Z
UID:10601-1777161600-1777679999@www.crms.org
SUMMARY:Spring Trip
DESCRIPTION:
URL:https://www.crms.org/calendar/spring-trip-6/
CATEGORIES:Community
END:VEVENT
END:VCALENDAR