BEGIN:VCALENDAR
VERSION:2.0
PRODID:-//Colorado Rocky Mountain School - ECPv6.9.0//NONSGML v1.0//EN
CALSCALE:GREGORIAN
METHOD:PUBLISH
X-WR-CALNAME:Colorado Rocky Mountain School
X-ORIGINAL-URL:https://www.crms.org
X-WR-CALDESC:Events for Colorado Rocky Mountain School
REFRESH-INTERVAL;VALUE=DURATION:PT1H
X-Robots-Tag:noindex
X-PUBLISHED-TTL:PT1H
BEGIN:VTIMEZONE
TZID:America/Denver
BEGIN:DAYLIGHT
TZOFFSETFROM:-0700
TZOFFSETTO:-0600
TZNAME:MDT
DTSTART:20270314T090000
END:DAYLIGHT
BEGIN:STANDARD
TZOFFSETFROM:-0600
TZOFFSETTO:-0700
TZNAME:MST
DTSTART:20271107T080000
END:STANDARD
END:VTIMEZONE
BEGIN:VEVENT
DTSTART;VALUE=DATE:20270508
DTEND;VALUE=DATE:20270602
DTSTAMP:20260420T112306
CREATED:20260305T214648Z
LAST-MODIFIED:20260305T214648Z
UID:13038-1809734400-1811894399@www.crms.org
SUMMARY:Senior Projects
DESCRIPTION:
URL:https://www.crms.org/calendar/senior-projects-4/
CATEGORIES:Community
END:VEVENT
BEGIN:VEVENT
DTSTART;VALUE=DATE:20270526
DTEND;VALUE=DATE:20270527
DTSTAMP:20260420T112306
CREATED:20260305T215214Z
LAST-MODIFIED:20260305T215214Z
UID:13047-1811289600-1811375999@www.crms.org
SUMMARY:Informal Dinner
DESCRIPTION:CRMS students and faculty will come together for a casual dinner.
URL:https://www.crms.org/calendar/informal-dinner/
CATEGORIES:Community
END:VEVENT
END:VCALENDAR