BEGIN:VCALENDAR
VERSION:2.0
PRODID:-//Colorado Rocky Mountain School - ECPv6.9.0//NONSGML v1.0//EN
CALSCALE:GREGORIAN
METHOD:PUBLISH
X-WR-CALNAME:Colorado Rocky Mountain School
X-ORIGINAL-URL:https://www.crms.org
X-WR-CALDESC:Events for Colorado Rocky Mountain School
REFRESH-INTERVAL;VALUE=DURATION:PT1H
X-Robots-Tag:noindex
X-PUBLISHED-TTL:PT1H
BEGIN:VTIMEZONE
TZID:America/Denver
BEGIN:DAYLIGHT
TZOFFSETFROM:-0700
TZOFFSETTO:-0600
TZNAME:MDT
DTSTART:20270314T090000
END:DAYLIGHT
BEGIN:STANDARD
TZOFFSETFROM:-0600
TZOFFSETTO:-0700
TZNAME:MST
DTSTART:20271107T080000
END:STANDARD
END:VTIMEZONE
BEGIN:VEVENT
DTSTART;TZID=America/Denver:20270407T173000
DTEND;TZID=America/Denver:20270407T190000
DTSTAMP:20260420T112108
CREATED:20260305T213828Z
LAST-MODIFIED:20260305T213828Z
UID:13022-1807119000-1807124400@www.crms.org
SUMMARY:Formal Dinner: Art Show
DESCRIPTION:5:30 p.m. Visual Arts Show\n6:00 p.m. Dinner
URL:https://www.crms.org/calendar/formal-dinner-art-show-2/
CATEGORIES:Community
END:VEVENT
BEGIN:VEVENT
DTSTART;VALUE=DATE:20270409
DTEND;VALUE=DATE:20270410
DTSTAMP:20260420T112108
CREATED:20260317T201512Z
LAST-MODIFIED:20260317T201512Z
UID:13136-1807228800-1807315199@www.crms.org
SUMMARY:Q4 Active Scholarship Deadline
DESCRIPTION:4th Quarter Active Scholarships\nDue April 9\, 2027 at 5:00 p.m. MT \nCRMS provides need-based assistance to help ease the financial burden for quarterly active or trip fees. Any student who has received financial aid for tuition is welcome to apply. Active scholarships are only applied toward participation fees and do not support equipment purchases\, ski passes\, travel expenses\, etc.\nPlease apply here. \nIf you have any questions\, please contact Molly Dorais\, Director of Enrollment & Tuition Assistance.
URL:https://www.crms.org/calendar/q4-active-scholarship-deadline-3/
CATEGORIES:Community
END:VEVENT
END:VCALENDAR