BEGIN:VCALENDAR
VERSION:2.0
PRODID:-//Colorado Rocky Mountain School - ECPv6.9.0//NONSGML v1.0//EN
CALSCALE:GREGORIAN
METHOD:PUBLISH
X-ORIGINAL-URL:https://www.crms.org
X-WR-CALDESC:Events for Colorado Rocky Mountain School
REFRESH-INTERVAL;VALUE=DURATION:PT1H
X-Robots-Tag:noindex
X-PUBLISHED-TTL:PT1H
BEGIN:VTIMEZONE
TZID:America/Denver
BEGIN:DAYLIGHT
TZOFFSETFROM:-0700
TZOFFSETTO:-0600
TZNAME:MDT
DTSTART:20270314T090000
END:DAYLIGHT
BEGIN:STANDARD
TZOFFSETFROM:-0600
TZOFFSETTO:-0700
TZNAME:MST
DTSTART:20271107T080000
END:STANDARD
END:VTIMEZONE
BEGIN:VEVENT
DTSTART;VALUE=DATE:20270208
DTEND;VALUE=DATE:20270220
DTSTAMP:20260419T153530
CREATED:20260224T192653Z
LAST-MODIFIED:20260224T192653Z
UID:12851-1802044800-1803081599@www.crms.org
SUMMARY:Interim
DESCRIPTION:
URL:https://www.crms.org/calendar/interim-6/
CATEGORIES:Community
END:VEVENT
BEGIN:VEVENT
DTSTART;VALUE=DATE:20270215
DTEND;VALUE=DATE:20270216
DTSTAMP:20260419T153530
CREATED:20260227T202327Z
LAST-MODIFIED:20260227T202327Z
UID:12961-1802649600-1802735999@www.crms.org
SUMMARY:Oystermeister: Nordic
DESCRIPTION:Monday\, February 15\, 2027 \nWhat is Oystermeister? Seven times each school year\, students and faculty come together for a school-wide\, fun-for-all athletic event. Students pay an entry fee of $1 each to participate and all funds raised support student clubs. Regardless of ability\, we invite the entire CRMS community to join in – and don’t forget your school spirit\, costume\, and friendly competition! \nThe 7 events are: \n\nOpen water pond swim and party\nCampus course cycling time trial\n2.5-mile trail run on Tick Ridge\nRock climbing – bouldering in the CRMS Gym\n5K Nordic ski (skate or classic) at Spring Gulch\nAlpine downhill at the Snowmass Ski Area NASTAR course\nKayaking race starting at River Valley Ranch and ending at CRMS\n\nTo read more about the CRMS Oystermeiser tradition\, visit the CRMS blog.
URL:https://www.crms.org/calendar/oystermeister-nordic-5/
CATEGORIES:Community
END:VEVENT
BEGIN:VEVENT
DTSTART;VALUE=DATE:20270220
DTEND;VALUE=DATE:20270221
DTSTAMP:20260419T153530
CREATED:20260224T192735Z
LAST-MODIFIED:20260224T192735Z
UID:12850-1803081600-1803167999@www.crms.org
SUMMARY:Interim Presentation of Learning
DESCRIPTION:
URL:https://www.crms.org/calendar/interim-presentation-of-learning-4/
CATEGORIES:Community
END:VEVENT
END:VCALENDAR