BEGIN:VCALENDAR
VERSION:2.0
PRODID:-//Colorado Rocky Mountain School - ECPv6.9.0//NONSGML v1.0//EN
CALSCALE:GREGORIAN
METHOD:PUBLISH
X-WR-CALNAME:Colorado Rocky Mountain School
X-ORIGINAL-URL:https://www.crms.org
X-WR-CALDESC:Events for Colorado Rocky Mountain School
REFRESH-INTERVAL;VALUE=DURATION:PT1H
X-Robots-Tag:noindex
X-PUBLISHED-TTL:PT1H
BEGIN:VTIMEZONE
TZID:America/Denver
BEGIN:DAYLIGHT
TZOFFSETFROM:-0700
TZOFFSETTO:-0600
TZNAME:MDT
DTSTART:20260308T090000
END:DAYLIGHT
BEGIN:STANDARD
TZOFFSETFROM:-0600
TZOFFSETTO:-0700
TZNAME:MST
DTSTART:20261101T080000
END:STANDARD
END:VTIMEZONE
BEGIN:VEVENT
DTSTART;VALUE=DATE:20261130
DTEND;VALUE=DATE:20261201
DTSTAMP:20260421T134643
CREATED:20260226T214540Z
LAST-MODIFIED:20260226T214540Z
UID:12950-1795996800-1796083199@www.crms.org
SUMMARY:Classes Resume - Trimester 2 Begins
DESCRIPTION:
URL:https://www.crms.org/calendar/classes-resume-trimester-2-begins-3/
CATEGORIES:Community
END:VEVENT
BEGIN:VEVENT
DTSTART;TZID=America/Denver:20261202T173000
DTEND;TZID=America/Denver:20261202T190000
DTSTAMP:20260421T134643
CREATED:20260226T213942Z
LAST-MODIFIED:20260226T213942Z
UID:12937-1796232600-1796238000@www.crms.org
SUMMARY:Formal Dinner: Art Show
DESCRIPTION:5:30 p.m. Visual Arts Show\n6:00 p.m. Dinner
URL:https://www.crms.org/calendar/formal-dinner-art-show/
CATEGORIES:Community
END:VEVENT
BEGIN:VEVENT
DTSTART;TZID=America/Denver:20261204T190000
DTEND;TZID=America/Denver:20261204T220000
DTSTAMP:20260421T134643
CREATED:20260226T214033Z
LAST-MODIFIED:20260226T214054Z
UID:12939-1796410800-1796421600@www.crms.org
SUMMARY:"Sign In" Weekend #2
DESCRIPTION:“Sign-In” Weekend #2\n7:00 – 10:00 PM\n \nBig events are more fun when more people participate\, so this is a closed evening for boarding students and an opportunity for day students to spend a night in the dorms for a night of fun! Day students who wish to spend the night on campus need to talk to a boarding student who can host them\, and then the two of them need to contact BJ Sbarra\, Director of Residential Life\, to submit their request. Space is limited\, so if you are interested in participating\, don’t hesitate to sign up! \nDay students are always invited to attend the festivities on Friday night\, even if not spending the night in the dorms. 
URL:https://www.crms.org/calendar/sign-in-weekend-2-2/
CATEGORIES:Community
END:VEVENT
BEGIN:VEVENT
DTSTART;VALUE=DATE:20261205
DTEND;VALUE=DATE:20261206
DTSTAMP:20260421T134643
CREATED:20260210T205617Z
LAST-MODIFIED:20260210T205617Z
UID:12823-1796428800-1796515199@www.crms.org
SUMMARY:SAT: Optional (for 12th or 11th graders)
DESCRIPTION:
URL:https://www.crms.org/calendar/sat-optional-for-12th-or-11th-graders-2/
CATEGORIES:Community
END:VEVENT
END:VCALENDAR