BEGIN:VCALENDAR
VERSION:2.0
PRODID:-//Colorado Rocky Mountain School - ECPv6.9.0//NONSGML v1.0//EN
CALSCALE:GREGORIAN
METHOD:PUBLISH
X-ORIGINAL-URL:https://www.crms.org
X-WR-CALDESC:Events for Colorado Rocky Mountain School
REFRESH-INTERVAL;VALUE=DURATION:PT1H
X-Robots-Tag:noindex
X-PUBLISHED-TTL:PT1H
BEGIN:VTIMEZONE
TZID:America/Denver
BEGIN:DAYLIGHT
TZOFFSETFROM:-0700
TZOFFSETTO:-0600
TZNAME:MDT
DTSTART:20260308T090000
END:DAYLIGHT
BEGIN:STANDARD
TZOFFSETFROM:-0600
TZOFFSETTO:-0700
TZNAME:MST
DTSTART:20261101T080000
END:STANDARD
END:VTIMEZONE
BEGIN:VEVENT
DTSTART;TZID=America/Denver:20261106T190000
DTEND;TZID=America/Denver:20261106T220000
DTSTAMP:20260421T042322
CREATED:20260226T211551Z
LAST-MODIFIED:20260226T211551Z
UID:12923-1793991600-1794002400@www.crms.org
SUMMARY:"Sign In" Weekend #1
DESCRIPTION:“Sign-In” Weekend #1 \nBig events are more fun when more people participate\, so this is a closed evening for boarding students and an opportunity for day students to spend a night in the dorms for a night of fun! Day students who wish to spend the night on campus need to talk to a boarding student who can host them\, and then the two of them need to contact BJ Sbarra\, Director of Residential Life\, to submit their request. Space is limited\, so if you are interested in participating\, don’t hesitate to sign up! \nDay students are always invited to attend the festivities on Friday night\, even if not spending the night in the dorms. 
URL:https://www.crms.org/calendar/sign-in-weekend-1/
CATEGORIES:Community
END:VEVENT
BEGIN:VEVENT
DTSTART;VALUE=DATE:20261107
DTEND;VALUE=DATE:20261108
DTSTAMP:20260421T042322
CREATED:20260210T205521Z
LAST-MODIFIED:20260211T160852Z
UID:12824-1794009600-1794095999@www.crms.org
SUMMARY:SAT: Primary for 12th Graders
DESCRIPTION:
URL:https://www.crms.org/calendar/sat-optional-13/
CATEGORIES:Community
END:VEVENT
END:VCALENDAR