BEGIN:VCALENDAR
VERSION:2.0
PRODID:-//Colorado Rocky Mountain School - ECPv6.9.0//NONSGML v1.0//EN
CALSCALE:GREGORIAN
METHOD:PUBLISH
X-ORIGINAL-URL:https://www.crms.org
X-WR-CALDESC:Events for Colorado Rocky Mountain School
REFRESH-INTERVAL;VALUE=DURATION:PT1H
X-Robots-Tag:noindex
X-PUBLISHED-TTL:PT1H
BEGIN:VTIMEZONE
TZID:America/Denver
BEGIN:DAYLIGHT
TZOFFSETFROM:-0700
TZOFFSETTO:-0600
TZNAME:MDT
DTSTART:20250309T090000
END:DAYLIGHT
BEGIN:STANDARD
TZOFFSETFROM:-0600
TZOFFSETTO:-0700
TZNAME:MST
DTSTART:20251102T080000
END:STANDARD
END:VTIMEZONE
BEGIN:VEVENT
DTSTART;TZID=America/Denver:20250312T110000
DTEND;TZID=America/Denver:20250312T130000
DTSTAMP:20260422T033742
CREATED:20250306T193608Z
LAST-MODIFIED:20250306T193608Z
UID:11061-1741777200-1741784400@www.crms.org
SUMMARY:Oystermister: Alpine
DESCRIPTION:NASTAR race course at Snowmass (take the Village Express lift and ski down Coney Glade). Parents attending: meet at the NASTAR course at 11:00 a.m. \nWhat is Oystermeister? Seven times each school year\, students\, faculty and family members come together for a school-wide\, fun-for-all athletic event. Students pay an entry fee of $1 each to participate and all funds raised support student clubs. Regardless of ability\, we invite the entire CRMS community to join in – and don’t forget your school spirit\, costume\, and friendly competition! \nThe 7 events are: \n\nOpen water pond swim and party\nCampus course cycling time trial\n2.5-mile trail run on Tick Ridge\nRock climbing – bouldering in the CRMS Gym\n5K Nordic ski (skate or classic) at Spring Gulch\nAlpine downhill at the Snowmass Ski Area NASTAR course\nKayaking race starting at River Valley Ranch and ending at CRMS\n\nTo read more about the CRMS Oystermeiser tradition\, visit the CRMS blog.
URL:https://www.crms.org/calendar/oystermister-alpine-3/
CATEGORIES:Community
END:VEVENT
BEGIN:VEVENT
DTSTART;VALUE=DATE:20250314
DTEND;VALUE=DATE:20250315
DTSTAMP:20260422T033742
CREATED:20240229T213737Z
LAST-MODIFIED:20240229T213737Z
UID:9014-1741910400-1741996799@www.crms.org
SUMMARY:End of Trimester 2
DESCRIPTION:
URL:https://www.crms.org/calendar/end-of-trimester-2-2/
CATEGORIES:Community
END:VEVENT
BEGIN:VEVENT
DTSTART;VALUE=DATE:20250315
DTEND;VALUE=DATE:20250331
DTSTAMP:20260422T033742
CREATED:20240229T213826Z
LAST-MODIFIED:20240229T213826Z
UID:9018-1741996800-1743379199@www.crms.org
SUMMARY:Spring Break
DESCRIPTION:
URL:https://www.crms.org/calendar/spring-break-4/
CATEGORIES:Community
END:VEVENT
BEGIN:VEVENT
DTSTART;VALUE=DATE:20250315
DTEND;VALUE=DATE:20250331
DTSTAMP:20260422T033742
CREATED:20240229T214139Z
LAST-MODIFIED:20240229T214139Z
UID:9016-1741996800-1743379199@www.crms.org
SUMMARY:Spring Break
DESCRIPTION:Saturday\, March 15 – Travel Day\nSunday\, March 30 – Travel Day\nMonday\, March 31st – Classes Resume \nFriday\, March 14\, is a full day of classes. Parents may pick up their students after 5:00 p.m. CRMS will arrange for Colorado Transportation Services (CTS) for those students traveling to/from Denver International Airport on Saturday\, March 15\, and returning on Sunday\, March 30. \nTravel itineraries are due to Debbi Fadli\, Front Desk Project/Attendance Manager\, by February 14\, 2025. \n 
URL:https://www.crms.org/calendar/spring-break-5/
CATEGORIES:Community
END:VEVENT
END:VCALENDAR