BEGIN:VCALENDAR
VERSION:2.0
PRODID:-//Colorado Rocky Mountain School - ECPv6.9.0//NONSGML v1.0//EN
CALSCALE:GREGORIAN
METHOD:PUBLISH
X-WR-CALNAME:Colorado Rocky Mountain School
X-ORIGINAL-URL:https://www.crms.org
X-WR-CALDESC:Events for Colorado Rocky Mountain School
REFRESH-INTERVAL;VALUE=DURATION:PT1H
X-Robots-Tag:noindex
X-PUBLISHED-TTL:PT1H
BEGIN:VTIMEZONE
TZID:America/Denver
BEGIN:DAYLIGHT
TZOFFSETFROM:-0700
TZOFFSETTO:-0600
TZNAME:MDT
DTSTART:20240310T090000
END:DAYLIGHT
BEGIN:STANDARD
TZOFFSETFROM:-0600
TZOFFSETTO:-0700
TZNAME:MST
DTSTART:20241103T080000
END:STANDARD
BEGIN:DAYLIGHT
TZOFFSETFROM:-0700
TZOFFSETTO:-0600
TZNAME:MDT
DTSTART:20250309T090000
END:DAYLIGHT
BEGIN:STANDARD
TZOFFSETFROM:-0600
TZOFFSETTO:-0700
TZNAME:MST
DTSTART:20251102T080000
END:STANDARD
END:VTIMEZONE
BEGIN:VEVENT
DTSTART;TZID=America/Denver:20241218T163000
DTEND;TZID=America/Denver:20241218T183000
DTSTAMP:20260422T215253
CREATED:20241202T213056Z
LAST-MODIFIED:20241202T213056Z
UID:10256-1734539400-1734546600@www.crms.org
SUMMARY:Oystermeister: Climb
DESCRIPTION:Wednesday\, December 13\, 4:30 – 6:30 p.m. \nWhat is Oystermeister? Seven times each school year\, students and faculty come together for a school-wide\, fun-for-all athletic event. Students pay an entry fee of $1 each to participate and all funds raised support student clubs. Regardless of ability\, we invite the entire CRMS community to join in – and don’t forget your school spirit\, costume\, and friendly competition! \nThe 7 events are: \n\nOpen water pond swim and party\nCampus course cycling time trial\n2.5-mile trail run on Tick Ridge\nRock climbing – bouldering in the CRMS Gym\n5K Nordic ski (skate or classic) at Spring Gulch\nAlpine downhill at the Snowmass Ski Area NASTAR course\nKayaking race starting at River Valley Ranch and ending at CRMS\n\nTo read more about the CRMS Oystermeiser tradition\, visit the CRMS blog.
URL:https://www.crms.org/calendar/oystermeister-climb-4/
CATEGORIES:Community
END:VEVENT
BEGIN:VEVENT
DTSTART;VALUE=DATE:20241221
DTEND;VALUE=DATE:20250108
DTSTAMP:20260422T215253
CREATED:20240229T213257Z
LAST-MODIFIED:20240229T213340Z
UID:9000-1734739200-1736294399@www.crms.org
SUMMARY:Winter Break
DESCRIPTION:Saturday\, December 21\, 2024 – Travel Day\nTuesday\, January 7\, 2025 – Travel Day (Boarding students return to campus by 7:00 p.m.)\nWednesday\, January 8\, 2025 – Classes Resume \nFriday\, December 2oth is a full day of classes. Parents may pick up their students after 5:00 p.m. CRMS will arrange for Colorado Transportation Services (CTS) for those students traveling to/from Denver International Airport on Saturday\, December 21\, and returning on Tuesday\, January 7. \nTravel itineraries are due to Debbi Fadli\, Front Desk Project/Attendance Manager\, by November 22\, 2024.
URL:https://www.crms.org/calendar/winter-break-4/
CATEGORIES:Community
END:VEVENT
BEGIN:VEVENT
DTSTART;VALUE=DATE:20241221
DTEND;VALUE=DATE:20241222
DTSTAMP:20260422T215253
CREATED:20240229T213503Z
LAST-MODIFIED:20240229T213503Z
UID:9005-1734739200-1734825599@www.crms.org
SUMMARY:Winter Break Travel Day
DESCRIPTION:
URL:https://www.crms.org/calendar/winter-break-travel-day-4/
CATEGORIES:Community
END:VEVENT
END:VCALENDAR