BEGIN:VCALENDAR
VERSION:2.0
PRODID:-//Colorado Rocky Mountain School - ECPv6.9.0//NONSGML v1.0//EN
CALSCALE:GREGORIAN
METHOD:PUBLISH
X-WR-CALNAME:Colorado Rocky Mountain School
X-ORIGINAL-URL:https://www.crms.org
X-WR-CALDESC:Events for Colorado Rocky Mountain School
REFRESH-INTERVAL;VALUE=DURATION:PT1H
X-Robots-Tag:noindex
X-PUBLISHED-TTL:PT1H
BEGIN:VTIMEZONE
TZID:America/Denver
BEGIN:DAYLIGHT
TZOFFSETFROM:-0700
TZOFFSETTO:-0600
TZNAME:MDT
DTSTART:20240310T090000
END:DAYLIGHT
BEGIN:STANDARD
TZOFFSETFROM:-0600
TZOFFSETTO:-0700
TZNAME:MST
DTSTART:20241103T080000
END:STANDARD
END:VTIMEZONE
BEGIN:VEVENT
DTSTART;VALUE=DATE:20241122
DTEND;VALUE=DATE:20241123
DTSTAMP:20260422T175926
CREATED:20240229T212114Z
LAST-MODIFIED:20240229T212114Z
UID:8990-1732233600-1732319999@www.crms.org
SUMMARY:End of Trimester 1
DESCRIPTION:Students free to depart at 4:00 p.m.
URL:https://www.crms.org/calendar/end-of-trimester-1-2/
CATEGORIES:Community
END:VEVENT
BEGIN:VEVENT
DTSTART;VALUE=DATE:20241123
DTEND;VALUE=DATE:20241202
DTSTAMP:20260422T175926
CREATED:20240229T212424Z
LAST-MODIFIED:20240229T212424Z
UID:8992-1732320000-1733097599@www.crms.org
SUMMARY:Thanksgiving Break
DESCRIPTION:Saturday\, November 23\, 2024 – Travel Day\nSunday\, December 1\, 2024 – Travel Day\nMonday\, December 2\, 2024 – Classes Resume \nFriday\, November 22nd\, is a full day of classes. Parents may pick up their students after 4:00 p.m. CRMS will arrange for Colorado Transportation Services (CTS) for those students traveling to/from Denver International Airport on Saturday\, November 23\, and returning on Sunday\, December 1. \nTravel itineraries are due to Debbi Fadli Front Desk Project/Attendance Manager\, by November 1\, 2024.
URL:https://www.crms.org/calendar/thanksgiving-break-4/
CATEGORIES:Community
END:VEVENT
BEGIN:VEVENT
DTSTART;VALUE=DATE:20241123
DTEND;VALUE=DATE:20241124
DTSTAMP:20260422T175926
CREATED:20240229T212527Z
LAST-MODIFIED:20240229T212527Z
UID:8995-1732320000-1732406399@www.crms.org
SUMMARY:Travel Day - Thanksgiving Break
DESCRIPTION:
URL:https://www.crms.org/calendar/travel-day-thanksgiving-break-2/
CATEGORIES:Community
END:VEVENT
END:VCALENDAR