BEGIN:VCALENDAR
VERSION:2.0
PRODID:-//Colorado Rocky Mountain School - ECPv6.9.0//NONSGML v1.0//EN
CALSCALE:GREGORIAN
METHOD:PUBLISH
X-ORIGINAL-URL:https://www.crms.org
X-WR-CALDESC:Events for Colorado Rocky Mountain School
REFRESH-INTERVAL;VALUE=DURATION:PT1H
X-Robots-Tag:noindex
X-PUBLISHED-TTL:PT1H
BEGIN:VTIMEZONE
TZID:America/Denver
BEGIN:DAYLIGHT
TZOFFSETFROM:-0700
TZOFFSETTO:-0600
TZNAME:MDT
DTSTART:20240310T090000
END:DAYLIGHT
BEGIN:STANDARD
TZOFFSETFROM:-0600
TZOFFSETTO:-0700
TZNAME:MST
DTSTART:20241103T080000
END:STANDARD
END:VTIMEZONE
BEGIN:VEVENT
DTSTART;VALUE=DATE:20241031
DTEND;VALUE=DATE:20241101
DTSTAMP:20260422T200636
CREATED:20241003T174751Z
LAST-MODIFIED:20241031T163030Z
UID:9988-1730332800-1730419199@www.crms.org
SUMMARY:Academic Check
DESCRIPTION:Each term\, we set dates for academic checks. This is a time we encourage families to log into Canvas and recognize each student’s academic progress. Our second academic check is Wednesday\, October 31st. \nThe intention of the Canvas Parent portal is so that families can see the status of assignments or grades given. When used well\, an open grade book promotes productive conversations between parents/guardians\, students\, and teachers. Parents should not feel obligated to check their child’s grade status frequently as most students are better off with autonomy and the understanding that they hold responsibility for their academic achievement. Students are expected to use Canvas daily as they complete homework and keep track of assessments. \n*Please note that current grades give us only a small snapshot of a student’s performance and do not reflect their overall progress or final grade. \nCanvas Tip: The default settings for Canvas Notifications can be overwhelming and unneeded. We recommend that you turn down or turn off the notifications and check in whenever you like through the App or web.\nHow to Adjust Canvas Notification Settings
URL:https://www.crms.org/calendar/academic-check-5/
CATEGORIES:Community
END:VEVENT
BEGIN:VEVENT
DTSTART;VALUE=DATE:20241101
DTEND;VALUE=DATE:20241102
DTSTAMP:20260422T200636
CREATED:20240901T215934Z
LAST-MODIFIED:20240901T221053Z
UID:9837-1730419200-1730505599@www.crms.org
SUMMARY:Fantastic Fun Friday: Humans vs. Zombies (Closed Evening)
DESCRIPTION:Fantastic Fun Friday: Humans vs. Zombies\nClosed Evening\n \nBig events are more fun when more people participate\, so this is a closed evening for boarding students and an opportunity for day students to spend a night in the dorms for a fantastic and fun Friday!
URL:https://www.crms.org/calendar/fantastic-fun-friday-humans-vs-zombies/
CATEGORIES:Community
END:VEVENT
BEGIN:VEVENT
DTSTART;VALUE=DATE:20241102
DTEND;VALUE=DATE:20241103
DTSTAMP:20260422T200636
CREATED:20240515T155044Z
LAST-MODIFIED:20240515T155044Z
UID:9287-1730505600-1730591999@www.crms.org
SUMMARY:SAT: Optional
DESCRIPTION:
URL:https://www.crms.org/calendar/sat-optional-7/
CATEGORIES:Community
END:VEVENT
END:VCALENDAR