BEGIN:VCALENDAR
VERSION:2.0
PRODID:-//Colorado Rocky Mountain School - ECPv6.9.0//NONSGML v1.0//EN
CALSCALE:GREGORIAN
METHOD:PUBLISH
X-ORIGINAL-URL:https://www.crms.org
X-WR-CALDESC:Events for Colorado Rocky Mountain School
REFRESH-INTERVAL;VALUE=DURATION:PT1H
X-Robots-Tag:noindex
X-PUBLISHED-TTL:PT1H
BEGIN:VTIMEZONE
TZID:America/Denver
BEGIN:DAYLIGHT
TZOFFSETFROM:-0700
TZOFFSETTO:-0600
TZNAME:MDT
DTSTART:20240310T090000
END:DAYLIGHT
BEGIN:STANDARD
TZOFFSETFROM:-0600
TZOFFSETTO:-0700
TZNAME:MST
DTSTART:20241103T080000
END:STANDARD
END:VTIMEZONE
BEGIN:VEVENT
DTSTART;VALUE=DATE:20240913
DTEND;VALUE=DATE:20240915
DTSTAMP:20260423T043222
CREATED:20240422T171923Z
LAST-MODIFIED:20240422T171923Z
UID:9196-1726185600-1726358399@www.crms.org
SUMMARY:Board of Trustees Meeting
DESCRIPTION:
URL:https://www.crms.org/calendar/board-of-trustees-meeting/
CATEGORIES:Community
END:VEVENT
BEGIN:VEVENT
DTSTART;VALUE=DATE:20240913
DTEND;VALUE=DATE:20240914
DTSTAMP:20260423T043222
CREATED:20240829T233742Z
LAST-MODIFIED:20240829T233742Z
UID:9832-1726185600-1726271999@www.crms.org
SUMMARY:Closed Evening - No Signouts
DESCRIPTION:Friday\, September 13th is a closed evening for all boarding students – no overnight sign-outs. \nAll students will participate in All School Scholarship Work Day the following morning\, and 9th Grade Welcome Weekend begins.
URL:https://www.crms.org/calendar/closed-evening-no-signouts-2/
CATEGORIES:Community
END:VEVENT
BEGIN:VEVENT
DTSTART;VALUE=DATE:20240913
DTEND;VALUE=DATE:20240916
DTSTAMP:20260423T043222
CREATED:20240229T210511Z
LAST-MODIFIED:20240229T210511Z
UID:8977-1726185600-1726444799@www.crms.org
SUMMARY:9th Grade Welcome Weekend
DESCRIPTION:The purpose of the 9th Grade Welcome Weekend is to create connections and bonds between incoming 9th graders. Since the Wilderness Orientation groups are small by design\, students may not have had the opportunity to get to know all of their new classmates before the start of classes.
URL:https://www.crms.org/calendar/9th-grade-welcome-weekend/
CATEGORIES:Community
END:VEVENT
BEGIN:VEVENT
DTSTART;VALUE=DATE:20240914
DTEND;VALUE=DATE:20240915
DTSTAMP:20260423T043222
CREATED:20240229T210222Z
LAST-MODIFIED:20240829T234307Z
UID:8973-1726272000-1726358399@www.crms.org
SUMMARY:All School Scholarship Work Day
DESCRIPTION:All School Scholarship Work Day (required for 9th-12th grade students)\nSaturday\, September 14th\, 9:00 a.m. – 1:00 p.m. \nAll students take part in this day of service. It’s a yearly tradition that unites us as a community; working together to support the\nplace where we learn and live. Please come dressed in clothes that can get dirty or painted\, closed-toe shoes\, sun hat\, gloves\, water\, and sunscreen. It’s going to be a beautiful day!
URL:https://www.crms.org/calendar/scholarship-work-day-9th-11th-graders/
CATEGORIES:Community
END:VEVENT
BEGIN:VEVENT
DTSTART;VALUE=DATE:20240914
DTEND;VALUE=DATE:20240915
DTSTAMP:20260423T043222
CREATED:20240515T154648Z
LAST-MODIFIED:20240912T225423Z
UID:9282-1726272000-1726358399@www.crms.org
SUMMARY:ACT: Primary for 12th Graders
DESCRIPTION:Jossman: Students arrive at 7:45 a.m.
URL:https://www.crms.org/calendar/act-primary-for-12th-graders/
CATEGORIES:Community
END:VEVENT
END:VCALENDAR