BEGIN:VCALENDAR
VERSION:2.0
PRODID:-//Colorado Rocky Mountain School - ECPv6.9.0//NONSGML v1.0//EN
CALSCALE:GREGORIAN
METHOD:PUBLISH
X-ORIGINAL-URL:https://www.crms.org
X-WR-CALDESC:Events for Colorado Rocky Mountain School
REFRESH-INTERVAL;VALUE=DURATION:PT1H
X-Robots-Tag:noindex
X-PUBLISHED-TTL:PT1H
BEGIN:VTIMEZONE
TZID:America/Denver
BEGIN:DAYLIGHT
TZOFFSETFROM:-0700
TZOFFSETTO:-0600
TZNAME:MDT
DTSTART:20240310T090000
END:DAYLIGHT
BEGIN:STANDARD
TZOFFSETFROM:-0600
TZOFFSETTO:-0700
TZNAME:MST
DTSTART:20241103T080000
END:STANDARD
END:VTIMEZONE
BEGIN:VEVENT
DTSTART;VALUE=DATE:20240819
DTEND;VALUE=DATE:20240820
DTSTAMP:20260423T043830
CREATED:20240226T195729Z
LAST-MODIFIED:20240226T195729Z
UID:8947-1724025600-1724111999@www.crms.org
SUMMARY:New International Students and Families Arrive
DESCRIPTION:
URL:https://www.crms.org/calendar/new-international-students-and-families-arrive-2/
CATEGORIES:Community
END:VEVENT
BEGIN:VEVENT
DTSTART;TZID=America/Denver:20240819T170000
DTEND;TZID=America/Denver:20240819T183000
DTSTAMP:20260423T043830
CREATED:20240819T233000Z
LAST-MODIFIED:20240710T152352Z
UID:8946-1724086800-1724092200@www.crms.org
SUMMARY:New International Student & Family Welcome Dinner
DESCRIPTION:
URL:https://www.crms.org/calendar/new-international-student-family-welcome-dinner-2/
CATEGORIES:Community
END:VEVENT
BEGIN:VEVENT
DTSTART;VALUE=DATE:20240820
DTEND;VALUE=DATE:20240821
DTSTAMP:20260423T043830
CREATED:20240820T060000Z
LAST-MODIFIED:20240815T221147Z
UID:8960-1724112000-1724198399@www.crms.org
SUMMARY:New Family Orientation
DESCRIPTION:2024 New Family Orientation & Opening Days Schedule \nNew Family Orientation helps families transition into the school by informing them about the academic\, outdoor\, sports\, and service programs as well as other aspects of student and residential life. It is an opportunity for parents to meet their child’s advisor\, become acquainted with the Wilderness Orientation leader and group\, and connect with other faculty\, administrators\, and staff. Parents will also be able to help their boarding students move into their dorm rooms. During the afternoon\, students will spend time meeting with their Wilderness Orientation groups and begin preparations for the 10-day backpacking trip. At the end of this day\, boarding students will return to the dorms for the evening and day students will go home with their families. All students will meet back on campus the following morning for a full day of on-campus orientation programming and preparations for Wilderness. (This is just for students—there are no parent activities on this day.) On the third day\, all new students will depart on their Wilderness trip and embark on this incredible adventure together before officially starting the school year! \n 
URL:https://www.crms.org/calendar/new-family-orientation-3/
CATEGORIES:Community
END:VEVENT
BEGIN:VEVENT
DTSTART;VALUE=DATE:20240821
DTEND;VALUE=DATE:20240822
DTSTAMP:20260423T043830
CREATED:20240229T205634Z
LAST-MODIFIED:20240229T205634Z
UID:8963-1724198400-1724284799@www.crms.org
SUMMARY:New Student Orientation
DESCRIPTION:
URL:https://www.crms.org/calendar/new-student-orientation-4/
CATEGORIES:Community
END:VEVENT
BEGIN:VEVENT
DTSTART;VALUE=DATE:20240822
DTEND;VALUE=DATE:20240901
DTSTAMP:20260423T043830
CREATED:20240822T060000Z
LAST-MODIFIED:20240815T184006Z
UID:8965-1724284800-1725148799@www.crms.org
SUMMARY:Wilderness Orientation
DESCRIPTION:Wilderness groups (all new students) depart on Thursday\, August 22\, and return on Saturday\, August 31.
URL:https://www.crms.org/calendar/wilderness-orientation-2/
CATEGORIES:Community
END:VEVENT
BEGIN:VEVENT
DTSTART;VALUE=DATE:20240824
DTEND;VALUE=DATE:20240825
DTSTAMP:20260423T043830
CREATED:20240515T154419Z
LAST-MODIFIED:20240515T154419Z
UID:9278-1724457600-1724543999@www.crms.org
SUMMARY:SAT: Optional
DESCRIPTION:
URL:https://www.crms.org/calendar/sat-optional-6/
CATEGORIES:Community
END:VEVENT
END:VCALENDAR