BEGIN:VCALENDAR
VERSION:2.0
PRODID:-//Colorado Rocky Mountain School - ECPv6.9.0//NONSGML v1.0//EN
CALSCALE:GREGORIAN
METHOD:PUBLISH
X-WR-CALNAME:Colorado Rocky Mountain School
X-ORIGINAL-URL:https://www.crms.org
X-WR-CALDESC:Events for Colorado Rocky Mountain School
REFRESH-INTERVAL;VALUE=DURATION:PT1H
X-Robots-Tag:noindex
X-PUBLISHED-TTL:PT1H
BEGIN:VTIMEZONE
TZID:America/Denver
BEGIN:DAYLIGHT
TZOFFSETFROM:-0700
TZOFFSETTO:-0600
TZNAME:MDT
DTSTART:20240310T090000
END:DAYLIGHT
BEGIN:STANDARD
TZOFFSETFROM:-0600
TZOFFSETTO:-0700
TZNAME:MST
DTSTART:20241103T080000
END:STANDARD
END:VTIMEZONE
BEGIN:VEVENT
DTSTART;VALUE=DATE:20240604
DTEND;VALUE=DATE:20240607
DTSTAMP:20260423T160241
CREATED:20230228T213820Z
LAST-MODIFIED:20230228T213820Z
UID:7187-1717459200-1717718399@www.crms.org
SUMMARY:Underclassmen Exams
DESCRIPTION:
URL:https://www.crms.org/calendar/underclassmen-exams-2/
CATEGORIES:Community
END:VEVENT
BEGIN:VEVENT
DTSTART;TZID=America/Denver:20240606T173000
DTEND;TZID=America/Denver:20240606T190000
DTSTAMP:20260423T160241
CREATED:20240607T000000Z
LAST-MODIFIED:20240523T221802Z
UID:7582-1717695000-1717700400@www.crms.org
SUMMARY:Awards Dinner: Formal
DESCRIPTION:This dinner is open to CRMS students and faculty only. Parents of award winners will be notified. Formal Dinner attire.
URL:https://www.crms.org/calendar/awards-dinner-formal-2/
CATEGORIES:Community
END:VEVENT
BEGIN:VEVENT
DTSTART;VALUE=DATE:20240607
DTEND;VALUE=DATE:20240608
DTSTAMP:20260423T160241
CREATED:20230228T213842Z
LAST-MODIFIED:20230228T213842Z
UID:7189-1717718400-1717804799@www.crms.org
SUMMARY:Senior Symposium
DESCRIPTION:
URL:https://www.crms.org/calendar/senior-symposium-4/
CATEGORIES:Community
END:VEVENT
BEGIN:VEVENT
DTSTART;VALUE=DATE:20240608
DTEND;VALUE=DATE:20240609
DTSTAMP:20260423T160241
CREATED:20240608T060000Z
LAST-MODIFIED:20240226T215808Z
UID:7191-1717804800-1717891199@www.crms.org
SUMMARY:Commencement
DESCRIPTION:Congratulations to Class of 2o24 graduates and family on this significant milestone! Colorado Rocky Mountain School faculty and staff are excited to welcome you and your family to campus in June for this beautiful occasion in honor of the Class of 2024. \nFamily members are invited to attend the Senior Symposium presentations\, Family Reception\, Coffee House\, Senior Breakfast\, Commencement Ceremony\, and Luncheon. \nQuestions? Contact Danika Davis\, Alumni & Parent Relations Manager\, (970) 963-2562 x136
URL:https://www.crms.org/calendar/commencement-4/
CATEGORIES:Community
END:VEVENT
END:VCALENDAR