BEGIN:VCALENDAR
VERSION:2.0
PRODID:-//Colorado Rocky Mountain School - ECPv6.9.0//NONSGML v1.0//EN
CALSCALE:GREGORIAN
METHOD:PUBLISH
X-ORIGINAL-URL:https://www.crms.org
X-WR-CALDESC:Events for Colorado Rocky Mountain School
REFRESH-INTERVAL;VALUE=DURATION:PT1H
X-Robots-Tag:noindex
X-PUBLISHED-TTL:PT1H
BEGIN:VTIMEZONE
TZID:America/Denver
BEGIN:DAYLIGHT
TZOFFSETFROM:-0700
TZOFFSETTO:-0600
TZNAME:MDT
DTSTART:20240310T090000
END:DAYLIGHT
BEGIN:STANDARD
TZOFFSETFROM:-0600
TZOFFSETTO:-0700
TZNAME:MST
DTSTART:20241103T080000
END:STANDARD
END:VTIMEZONE
BEGIN:VEVENT
DTSTART;VALUE=DATE:20240506
DTEND;VALUE=DATE:20240511
DTSTAMP:20260424T041654
CREATED:20230228T213610Z
LAST-MODIFIED:20230228T213610Z
UID:7178-1714953600-1715385599@www.crms.org
SUMMARY:AP Exams
DESCRIPTION:
URL:https://www.crms.org/calendar/ap-exams-3/
CATEGORIES:Community
END:VEVENT
BEGIN:VEVENT
DTSTART;VALUE=DATE:20240508
DTEND;VALUE=DATE:20240511
DTSTAMP:20260424T041654
CREATED:20230228T213636Z
LAST-MODIFIED:20230228T213636Z
UID:7180-1715126400-1715385599@www.crms.org
SUMMARY:Senior Exams
DESCRIPTION:
URL:https://www.crms.org/calendar/senior-exams-4/
CATEGORIES:Community
END:VEVENT
BEGIN:VEVENT
DTSTART;VALUE=DATE:20240508
DTEND;VALUE=DATE:20240509
DTSTAMP:20260424T041654
CREATED:20240508T060000Z
LAST-MODIFIED:20240502T201528Z
UID:8780-1715126400-1715212799@www.crms.org
SUMMARY:Academic Check
DESCRIPTION:Each term\, we set dates for academic checks. This is a time we encourage families to log into Canvas and recognize each student’s academic progress. Our third academic check is Wednesday\, May 8th. \nThe intention of the Canvas Parent portal is so that families can see the status of assignments or grades given. When used well\, an open grade book promotes productive conversations between parents/guardians\, students\, and teachers. Parents should not feel obligated to check their child’s grade status frequently as most students are better off with autonomy and the understanding that they hold responsibility for their academic achievement. Students are expected to use Canvas daily as they complete homework and keep track of assessments. \n*Please note that current grades give us only a small snapshot of a student’s performance and do not reflect their overall progress or final grade. \nCanvas Tip: The default settings for Canvas Notifications can be overwhelming and unneeded. We recommend that you turn down or turn off the notifications and check in whenever you like through the App or web.\nHow to Adjust Canvas Notification Settings
URL:https://www.crms.org/calendar/academic-check-4/
CATEGORIES:Community
END:VEVENT
BEGIN:VEVENT
DTSTART;VALUE=DATE:20240510
DTEND;VALUE=DATE:20240512
DTSTAMP:20260424T041654
CREATED:20230124T161849Z
LAST-MODIFIED:20230905T164927Z
UID:7001-1715299200-1715471999@www.crms.org
SUMMARY:Board of Trustees Meeting
DESCRIPTION:
URL:https://www.crms.org/calendar/bot-meeting-3/
CATEGORIES:Community
END:VEVENT
BEGIN:VEVENT
DTSTART;TZID=America/Denver:20240510T174500
DTEND;TZID=America/Denver:20240510T203000
DTSTAMP:20260424T041654
CREATED:20240511T000000Z
LAST-MODIFIED:20240507T203151Z
UID:7578-1715363100-1715373000@www.crms.org
SUMMARY:Senior Formal Dinner
DESCRIPTION:5:45 p.m. Arrival\n6:00 – 8:30 p.m. Dinner \nThe graduating class will kick off the end-of-year festivities with Senior Dinner (formal dress). \nAttendance is required for 12th graders.
URL:https://www.crms.org/calendar/senior-formal-dinner-2/
CATEGORIES:Community
END:VEVENT
END:VCALENDAR