BEGIN:VCALENDAR
VERSION:2.0
PRODID:-//Colorado Rocky Mountain School - ECPv6.9.0//NONSGML v1.0//EN
CALSCALE:GREGORIAN
METHOD:PUBLISH
X-WR-CALNAME:Colorado Rocky Mountain School
X-ORIGINAL-URL:https://www.crms.org
X-WR-CALDESC:Events for Colorado Rocky Mountain School
REFRESH-INTERVAL;VALUE=DURATION:PT1H
X-Robots-Tag:noindex
X-PUBLISHED-TTL:PT1H
BEGIN:VTIMEZONE
TZID:America/Denver
BEGIN:DAYLIGHT
TZOFFSETFROM:-0700
TZOFFSETTO:-0600
TZNAME:MDT
DTSTART:20240310T090000
END:DAYLIGHT
BEGIN:STANDARD
TZOFFSETFROM:-0600
TZOFFSETTO:-0700
TZNAME:MST
DTSTART:20241103T080000
END:STANDARD
END:VTIMEZONE
BEGIN:VEVENT
DTSTART;TZID=America/Denver:20240220T173000
DTEND;TZID=America/Denver:20240220T190000
DTSTAMP:20260424T085551
CREATED:20230807T185202Z
LAST-MODIFIED:20230821T172704Z
UID:7570-1708450200-1708455600@www.crms.org
SUMMARY:Formal Dinner: Interim Arts & Crafts Show
DESCRIPTION:5:30 p.m. Interim Arts & Crafts Show\n6:00 p.m. Dinner
URL:https://www.crms.org/calendar/formal-dinner-interim-arts-crafts-show/
CATEGORIES:Community
END:VEVENT
END:VCALENDAR