BEGIN:VCALENDAR
VERSION:2.0
PRODID:-//Colorado Rocky Mountain School - ECPv6.9.0//NONSGML v1.0//EN
CALSCALE:GREGORIAN
METHOD:PUBLISH
X-ORIGINAL-URL:https://www.crms.org
X-WR-CALDESC:Events for Colorado Rocky Mountain School
REFRESH-INTERVAL;VALUE=DURATION:PT1H
X-Robots-Tag:noindex
X-PUBLISHED-TTL:PT1H
BEGIN:VTIMEZONE
TZID:America/Denver
BEGIN:DAYLIGHT
TZOFFSETFROM:-0700
TZOFFSETTO:-0600
TZNAME:MDT
DTSTART:20240310T090000
END:DAYLIGHT
BEGIN:STANDARD
TZOFFSETFROM:-0600
TZOFFSETTO:-0700
TZNAME:MST
DTSTART:20241103T080000
END:STANDARD
END:VTIMEZONE
BEGIN:VEVENT
DTSTART;VALUE=DATE:20240205
DTEND;VALUE=DATE:20240217
DTSTAMP:20260424T085601
CREATED:20230228T212944Z
LAST-MODIFIED:20230228T212944Z
UID:7161-1707091200-1708127999@www.crms.org
SUMMARY:Interim
DESCRIPTION:
URL:https://www.crms.org/calendar/interim-3/
CATEGORIES:Community
END:VEVENT
BEGIN:VEVENT
DTSTART;TZID=America/Denver:20240213T183000
DTEND;TZID=America/Denver:20240213T193000
DTSTAMP:20260424T085601
CREATED:20240208T201840Z
LAST-MODIFIED:20240208T201840Z
UID:8842-1707849000-1707852600@www.crms.org
SUMMARY:Parent Night (Virtual): The CRMS Garden-Kitchen Collaboration
DESCRIPTION:Tuesday\, February 13th – 6:30 p.m. MT on Zoom \nJoin us for a virtual conversation with Heather McDermott\, CRMS Director of the Garden Program\, and Bryan Garneau\, CRMS Director of Food Service\, on their unique collaboration to create a healthy\, sustainable source of food for our school community. \nPlease register in advance for the virtual event on Zoom. \n 
URL:https://www.crms.org/calendar/virtual-event-parent-night/
LOCATION:Virtual
CATEGORIES:Community
END:VEVENT
BEGIN:VEVENT
DTSTART;VALUE=DATE:20240216
DTEND;VALUE=DATE:20240217
DTSTAMP:20260424T085601
CREATED:20230124T161823Z
LAST-MODIFIED:20230905T164948Z
UID:6999-1708041600-1708127999@www.crms.org
SUMMARY:Board of Trustees Meeting (virtual)
DESCRIPTION:
URL:https://www.crms.org/calendar/bot-meeting-virtual/
CATEGORIES:Community
END:VEVENT
BEGIN:VEVENT
DTSTART;VALUE=DATE:20240216
DTEND;VALUE=DATE:20240217
DTSTAMP:20260424T085601
CREATED:20230228T213103Z
LAST-MODIFIED:20230228T213103Z
UID:7163-1708041600-1708127999@www.crms.org
SUMMARY:Interim Presentation of Learning
DESCRIPTION:
URL:https://www.crms.org/calendar/interim-presentation-of-learning/
CATEGORIES:Community
END:VEVENT
END:VCALENDAR