BEGIN:VCALENDAR
VERSION:2.0
PRODID:-//Colorado Rocky Mountain School - ECPv6.9.0//NONSGML v1.0//EN
CALSCALE:GREGORIAN
METHOD:PUBLISH
X-WR-CALNAME:Colorado Rocky Mountain School
X-ORIGINAL-URL:https://www.crms.org
X-WR-CALDESC:Events for Colorado Rocky Mountain School
REFRESH-INTERVAL;VALUE=DURATION:PT1H
X-Robots-Tag:noindex
X-PUBLISHED-TTL:PT1H
BEGIN:VTIMEZONE
TZID:America/Denver
BEGIN:DAYLIGHT
TZOFFSETFROM:-0700
TZOFFSETTO:-0600
TZNAME:MDT
DTSTART:20230312T090000
END:DAYLIGHT
BEGIN:STANDARD
TZOFFSETFROM:-0600
TZOFFSETTO:-0700
TZNAME:MST
DTSTART:20231105T080000
END:STANDARD
END:VTIMEZONE
BEGIN:VEVENT
DTSTART;VALUE=DATE:20231127
DTEND;VALUE=DATE:20231128
DTSTAMP:20260424T104428
CREATED:20230228T212734Z
LAST-MODIFIED:20230228T212734Z
UID:7154-1701043200-1701129599@www.crms.org
SUMMARY:Trimester 2 and Winter Schedule Begins
DESCRIPTION:
URL:https://www.crms.org/calendar/trimester-2-and-winter-schedule-begins/
CATEGORIES:Community
END:VEVENT
BEGIN:VEVENT
DTSTART;VALUE=DATE:20231201
DTEND;VALUE=DATE:20231203
DTSTAMP:20260424T104428
CREATED:20230124T161758Z
LAST-MODIFIED:20230905T165019Z
UID:6997-1701388800-1701561599@www.crms.org
SUMMARY:Board of Trustees Meeting
DESCRIPTION:
URL:https://www.crms.org/calendar/bot-meeting-2/
CATEGORIES:Community
END:VEVENT
BEGIN:VEVENT
DTSTART;VALUE=DATE:20231201
DTEND;VALUE=DATE:20231202
DTSTAMP:20260424T104428
CREATED:20231121T193427Z
LAST-MODIFIED:20231121T193427Z
UID:8441-1701388800-1701475199@www.crms.org
SUMMARY:"Sign In" Weekend
DESCRIPTION:“Sign-In” Weekend #2: Casino Night \nBig events are more fun when more people participate\, so this is a closed evening for boarding students and an opportunity for day students to spend a night in the dorms for a night of fun\, including casino games! Day students who wish to spend the night on campus need to talk to a boarding student who can host them\, and then the two of them need to contact BJ Sbarra\, Director of Residential Life\, to submit their request. Space is limited\, so if you are interested in participating\, don’t hesitate to sign up!
URL:https://www.crms.org/calendar/sign-in-weekend-2/
CATEGORIES:Community
END:VEVENT
END:VCALENDAR