BEGIN:VCALENDAR
VERSION:2.0
PRODID:-//Colorado Rocky Mountain School - ECPv6.9.0//NONSGML v1.0//EN
CALSCALE:GREGORIAN
METHOD:PUBLISH
X-ORIGINAL-URL:https://www.crms.org
X-WR-CALDESC:Events for Colorado Rocky Mountain School
REFRESH-INTERVAL;VALUE=DURATION:PT1H
X-Robots-Tag:noindex
X-PUBLISHED-TTL:PT1H
BEGIN:VTIMEZONE
TZID:America/Denver
BEGIN:DAYLIGHT
TZOFFSETFROM:-0700
TZOFFSETTO:-0600
TZNAME:MDT
DTSTART:20230312T090000
END:DAYLIGHT
BEGIN:STANDARD
TZOFFSETFROM:-0600
TZOFFSETTO:-0700
TZNAME:MST
DTSTART:20231105T080000
END:STANDARD
END:VTIMEZONE
BEGIN:VEVENT
DTSTART;TZID=America/Denver:20231108T163000
DTEND;TZID=America/Denver:20231108T183000
DTSTAMP:20260424T192419
CREATED:20231024T225719Z
LAST-MODIFIED:20231024T225824Z
UID:8288-1699461000-1699468200@www.crms.org
SUMMARY:Oystermeister: Run
DESCRIPTION:Wednesday\, November 8\, 4:00 – 5:30 p.m. \nWhat is Oystermeister? Seven times each school year\, students and faculty come together for a school-wide\, fun-for-all athletic event. Students pay an entry fee of $1 each to participate and all funds raised support student clubs. Regardless of ability\, we invite the entire CRMS community to join in – and don’t forget your school spirit\, costume\, and friendly competition! \nThe 7 events are: \n\nOpen water pond swim and party\nCampus course cycling time trial\n2.5-mile trail run on Tick Ridge\nRock climbing – bouldering in the CRMS Gym\n5K Nordic ski (skate or classic) at Spring Gulch\nAlpine downhill at the Snowmass Ski Area NASTAR course\nKayaking race starting at River Valley Ranch and ending at CRMS\n\nTo read more about the CRMS Oystermeiser tradition\, visit the CRMS blog.
URL:https://www.crms.org/calendar/oystermeister-run-2/
CATEGORIES:Community
END:VEVENT
BEGIN:VEVENT
DTSTART;VALUE=DATE:20231110
DTEND;VALUE=DATE:20231111
DTSTAMP:20260424T192419
CREATED:20230228T212547Z
LAST-MODIFIED:20231109T212416Z
UID:7148-1699574400-1699660799@www.crms.org
SUMMARY:Interim & Q2 Active Scholarship Deadline
DESCRIPTION:Interim & 2nd Quarter Active Scholarships\nDue November 10 at 5:00 p.m. MT \nCRMS provides need-based assistance to help ease the financial burden for both Interim and quarterly active or trip fees. \nInterim Scholarships: All students are welcome to apply\, but preference will be given to students currently receiving need-based financial aid.\nPlease apply here. \n2nd Quarter Active Scholarships: Any student who has received financial aid for tuition is welcome to apply. Active scholarships are only applied toward participation fees and do not support equipment purchases\, ski passes\, travel expenses\, etc.\nPlease apply here. \nIf you have any questions\, please contact Molly Dorais\, Director of Enrollment & Tuition Assistance.
URL:https://www.crms.org/calendar/q2-active-scholarship-deadline-2/
CATEGORIES:Community
END:VEVENT
END:VCALENDAR