BEGIN:VCALENDAR
VERSION:2.0
PRODID:-//Colorado Rocky Mountain School - ECPv6.9.0//NONSGML v1.0//EN
CALSCALE:GREGORIAN
METHOD:PUBLISH
X-ORIGINAL-URL:https://www.crms.org
X-WR-CALDESC:Events for Colorado Rocky Mountain School
REFRESH-INTERVAL;VALUE=DURATION:PT1H
X-Robots-Tag:noindex
X-PUBLISHED-TTL:PT1H
BEGIN:VTIMEZONE
TZID:America/Denver
BEGIN:DAYLIGHT
TZOFFSETFROM:-0700
TZOFFSETTO:-0600
TZNAME:MDT
DTSTART:20230312T090000
END:DAYLIGHT
BEGIN:STANDARD
TZOFFSETFROM:-0600
TZOFFSETTO:-0700
TZNAME:MST
DTSTART:20231105T080000
END:STANDARD
END:VTIMEZONE
BEGIN:VEVENT
DTSTART;VALUE=DATE:20231030
DTEND;VALUE=DATE:20231031
DTSTAMP:20260424T192421
CREATED:20231024T161509Z
LAST-MODIFIED:20231024T161515Z
UID:8281-1698624000-1698710399@www.crms.org
SUMMARY:First Day of 2nd Quarter Active
DESCRIPTION:
URL:https://www.crms.org/calendar/first-day-of-2nd-quarter-active/
CATEGORIES:Community
END:VEVENT
BEGIN:VEVENT
DTSTART;VALUE=DATE:20231101
DTEND;VALUE=DATE:20231102
DTSTAMP:20260424T192421
CREATED:20231024T161627Z
LAST-MODIFIED:20231024T161627Z
UID:8283-1698796800-1698883199@www.crms.org
SUMMARY:Last Day to Drop Academic Classes
DESCRIPTION:
URL:https://www.crms.org/calendar/last-day-to-drop-academic-classes/
CATEGORIES:Community
END:VEVENT
BEGIN:VEVENT
DTSTART;TZID=America/Denver:20231101T160000
DTEND;TZID=America/Denver:20231101T180000
DTSTAMP:20260424T192421
CREATED:20231031T174952Z
LAST-MODIFIED:20231031T174952Z
UID:8306-1698854400-1698861600@www.crms.org
SUMMARY:"The Finance Camp" Presentation
DESCRIPTION:Wednesday\, November 1\, 4-6pm at TACAW \nThe Finance Camp\, a local investment mentorship program\, will be hosting a one-night free presentation for all Roaring Fork Valley high school students and parents on Wednesday\, November 1st from 4:00 – 6:00 p.m. at TACAW in Basalt. \nIn order to attend\, students will need to: \n\nRegister for the event (required) – click this link to register\nIf you need transportation\, sign up for the CRMS bus with Debbi at the Front Desk.\nSpeak with your Period F teacher for approval to leave class early. A bus will depart from the Bar Fork at 3:40 p.m.\n\nPlease contact Jennifer Ogilby with any questions.
URL:https://www.crms.org/calendar/the-finance-camp-presentation/
CATEGORIES:academic,Community
END:VEVENT
BEGIN:VEVENT
DTSTART;VALUE=DATE:20231103
DTEND;VALUE=DATE:20231104
DTSTAMP:20260424T192421
CREATED:20231024T161832Z
LAST-MODIFIED:20231031T174624Z
UID:8285-1698969600-1699055999@www.crms.org
SUMMARY:"Sign In" Weekend
DESCRIPTION:“Sign-In” Weekend #1: All School Glow-in-the-Dark Capture the Flag  \nComing up the weekend after Family Weekend is our first “Sign-In” event of the school year. Big events are more fun when more people participate\, so this is a closed evening for boarding students and an opportunity for day students to spend a night in the dorms for a night of fun\, including an all-campus game of glow-in-the-dark Capture the Flag! Day students who wish to spend the night on campus need to talk to a boarding student who can host them\, and then the two of them need to contact BJ Sbarra\, Director of Residential Life\, to submit their request. Space is limited\, so if you are interested in participating\, don’t hesitate to sign up!
URL:https://www.crms.org/calendar/sign-in-weekend/
CATEGORIES:Community
END:VEVENT
BEGIN:VEVENT
DTSTART;TZID=America/Denver:20231103T110000
DTEND;TZID=America/Denver:20231103T130000
DTSTAMP:20260424T192421
CREATED:20231011T044813Z
LAST-MODIFIED:20231011T044813Z
UID:8141-1699009200-1699016400@www.crms.org
SUMMARY:Flu Shot Clinic
DESCRIPTION:Friday\, November 3\, 11:00 a.m. – 1:00 p.m. in the Bar Fork \nCRMS will hold its annual flu shot clinic offered by Garfield County Public Health\, which is open to all students and staff. \nIf you opted in for the flu shot via your health forms\, your student just needs to show up. \nIf you did not indicate you wanted a flu shot for your student but now want one\, please contact Micki Kibler / (970) 963-3761 by November 1. \nCost: $25 for the flu shot/$30 for the nasal mist\, charged to your student’s account. \n*Public Health is not able to offer COVID shots; parents can sign their student up for COVID shots at City Market\, as an option.
URL:https://www.crms.org/calendar/flu-shot-clinic/
CATEGORIES:Community
END:VEVENT
END:VCALENDAR