BEGIN:VCALENDAR
VERSION:2.0
PRODID:-//Colorado Rocky Mountain School - ECPv6.9.0//NONSGML v1.0//EN
CALSCALE:GREGORIAN
METHOD:PUBLISH
X-ORIGINAL-URL:https://www.crms.org
X-WR-CALDESC:Events for Colorado Rocky Mountain School
REFRESH-INTERVAL;VALUE=DURATION:PT1H
X-Robots-Tag:noindex
X-PUBLISHED-TTL:PT1H
BEGIN:VTIMEZONE
TZID:America/Denver
BEGIN:DAYLIGHT
TZOFFSETFROM:-0700
TZOFFSETTO:-0600
TZNAME:MDT
DTSTART:20230312T090000
END:DAYLIGHT
BEGIN:STANDARD
TZOFFSETFROM:-0600
TZOFFSETTO:-0700
TZNAME:MST
DTSTART:20231105T080000
END:STANDARD
END:VTIMEZONE
BEGIN:VEVENT
DTSTART;VALUE=DATE:20231008
DTEND;VALUE=DATE:20231011
DTSTAMP:20260425T093655
CREATED:20230228T210652Z
LAST-MODIFIED:20230228T210652Z
UID:7141-1696723200-1696982399@www.crms.org
SUMMARY:College Visit Days for Seniors
DESCRIPTION:
URL:https://www.crms.org/calendar/college-visit-days-for-seniors/
CATEGORIES:Community
END:VEVENT
BEGIN:VEVENT
DTSTART;VALUE=DATE:20231009
DTEND;VALUE=DATE:20231011
DTSTAMP:20260425T093655
CREATED:20230228T210714Z
LAST-MODIFIED:20231005T034807Z
UID:7143-1696809600-1696982399@www.crms.org
SUMMARY:Wellness Days
DESCRIPTION:Annually\, Wellness Days provides a shift in our academic schedule to provide the necessary space for us to address topics essential to students’ overall well-being. This year’s seminars include healthy relationships and consent\, mental health\, and substance use education with Soundcheck Prevention Network. CRMS has provided quality education around substance use and abuse through professional substance use educators for the past 20 years. Read more about Soundcheck’s services here. \nSpoken word educator\, Meta Sarmiento\, will also be conducting imagery workshops on joy and happiness. \nIn addition to these seminars\, there will be Advisor Group lunches\, “Quad Games” and additional Soundcheck programming in the evening\, and Tuesday Night Bouldering. 12th-grade students not on college visits will participate in a relaxing hike off-campus. \nThe special schedule for Wellness Days is posted in Canvas. \nPlease contact Nancy Draina\, Academic Dean\, or Ashley Smith\, Director of Counseling\, with any questions.
URL:https://www.crms.org/calendar/wellness-days-2/
CATEGORIES:Community
END:VEVENT
BEGIN:VEVENT
DTSTART;TZID=America/Denver:20231010T183000
DTEND;TZID=America/Denver:20231010T193000
DTSTAMP:20260425T093655
CREATED:20231005T040908Z
LAST-MODIFIED:20231005T041135Z
UID:4106-1696962600-1696966200@www.crms.org
SUMMARY:Virtual Event: 11th Grade Parent College Counseling Night
DESCRIPTION:Betsy Bingham-Johns\, Director of College Counseling\, will host discussions of the college process for parents on zoom while allowing plenty of time for questions and answers. Please contact Betsy Bingham-Johns with questions. \n11th Grade Parent Zoom: Tuesday\, October 10 at 6:30 p.m. MT.\nPlease register in advance. \n 
URL:https://www.crms.org/calendar/virtual-event-11th-grade-parent-college-counseling-night/
CATEGORIES:Community
END:VEVENT
END:VCALENDAR