BEGIN:VCALENDAR
VERSION:2.0
PRODID:-//Colorado Rocky Mountain School - ECPv6.9.0//NONSGML v1.0//EN
CALSCALE:GREGORIAN
METHOD:PUBLISH
X-WR-CALNAME:Colorado Rocky Mountain School
X-ORIGINAL-URL:https://www.crms.org
X-WR-CALDESC:Events for Colorado Rocky Mountain School
REFRESH-INTERVAL;VALUE=DURATION:PT1H
X-Robots-Tag:noindex
X-PUBLISHED-TTL:PT1H
BEGIN:VTIMEZONE
TZID:America/Denver
BEGIN:DAYLIGHT
TZOFFSETFROM:-0700
TZOFFSETTO:-0600
TZNAME:MDT
DTSTART:20250309T090000
END:DAYLIGHT
BEGIN:STANDARD
TZOFFSETFROM:-0600
TZOFFSETTO:-0700
TZNAME:MST
DTSTART:20251102T080000
END:STANDARD
END:VTIMEZONE
BEGIN:VEVENT
DTSTART;TZID=America/Denver:20250818T170000
DTEND;TZID=America/Denver:20250818T183000
DTSTAMP:20260422T162553
CREATED:20250115T200910Z
LAST-MODIFIED:20250115T200910Z
UID:10554-1755536400-1755541800@www.crms.org
SUMMARY:New International Student & Family Welcome Dinner
DESCRIPTION:
URL:https://www.crms.org/calendar/new-international-student-family-welcome-dinner-3/
CATEGORIES:Community
END:VEVENT
BEGIN:VEVENT
DTSTART;VALUE=DATE:20250819
DTEND;VALUE=DATE:20250820
DTSTAMP:20260422T162553
CREATED:20250115T200646Z
LAST-MODIFIED:20250115T200646Z
UID:10539-1755561600-1755647999@www.crms.org
SUMMARY:New Family Orientation
DESCRIPTION:New Family Orientation helps families transition into the school by informing them about the academic\, outdoor\, sports\, and service programs as well as other aspects of student and residential life. It is an opportunity for parents to meet their child’s advisor\, become acquainted with the Wilderness Orientation leader and group\, and connect with other faculty\, administrators\, and staff. Parents will also be able to help their boarding students move into their dorm rooms. During the afternoon\, students will spend time meeting with their Wilderness Orientation groups and begin preparations for the 10-day backpacking trip. At the end of this day\, boarding students will return to the dorms for the evening and day students will go home with their families. All students will meet back on campus the following morning for a full day of on-campus orientation programming and preparations for Wilderness. (This is just for students—there are no parent activities on this day.) On the third day\, all new students will depart on their Wilderness trip and embark on this incredible adventure together before officially starting the school year! \n 
URL:https://www.crms.org/calendar/new-family-orientation-4/
CATEGORIES:Community
END:VEVENT
BEGIN:VEVENT
DTSTART;VALUE=DATE:20250820
DTEND;VALUE=DATE:20250821
DTSTAMP:20260422T162553
CREATED:20250115T200705Z
LAST-MODIFIED:20250115T200705Z
UID:10540-1755648000-1755734399@www.crms.org
SUMMARY:New Student Orientation
DESCRIPTION:
URL:https://www.crms.org/calendar/new-student-orientation-5/
CATEGORIES:Community
END:VEVENT
BEGIN:VEVENT
DTSTART;VALUE=DATE:20250821
DTEND;VALUE=DATE:20250831
DTSTAMP:20260422T162553
CREATED:20250115T200546Z
LAST-MODIFIED:20250115T200546Z
UID:10541-1755734400-1756598399@www.crms.org
SUMMARY:Wilderness Orientation
DESCRIPTION:Wilderness groups (all new students) depart on Thursday\, August 21\, and return on Saturday\, August 30.
URL:https://www.crms.org/calendar/wilderness-orientation-3/
CATEGORIES:Community
END:VEVENT
BEGIN:VEVENT
DTSTART;VALUE=DATE:20250823
DTEND;VALUE=DATE:20250824
DTSTAMP:20260422T162553
CREATED:20250612T203728Z
LAST-MODIFIED:20250802T222548Z
UID:11483-1755907200-1755993599@www.crms.org
SUMMARY:SAT: Optional
DESCRIPTION:
URL:https://www.crms.org/calendar/sat-optional-9/
CATEGORIES:Community
END:VEVENT
BEGIN:VEVENT
DTSTART;VALUE=DATE:20250827
DTEND;VALUE=DATE:20250828
DTSTAMP:20260422T162553
CREATED:20250612T204033Z
LAST-MODIFIED:20250612T204033Z
UID:11485-1756252800-1756339199@www.crms.org
SUMMARY:Student Dorm Heads Arrive
DESCRIPTION:Student Dorm Heads arrive by 6:00 p.m. and move into the dorms. \nDorm Head Training is Thursday\, August 28 – Friday\, August 29.
URL:https://www.crms.org/calendar/student-dorm-heads-arrive-2/
CATEGORIES:Community
END:VEVENT
BEGIN:VEVENT
DTSTART;VALUE=DATE:20250830
DTEND;VALUE=DATE:20250831
DTSTAMP:20260422T162553
CREATED:20250115T201131Z
LAST-MODIFIED:20250115T201131Z
UID:10555-1756512000-1756598399@www.crms.org
SUMMARY:Returning International Students Arrive
DESCRIPTION:International students may move into the dorms.
URL:https://www.crms.org/calendar/returning-international-students-arrive-4/
CATEGORIES:Community
END:VEVENT
BEGIN:VEVENT
DTSTART;VALUE=DATE:20250831
DTEND;VALUE=DATE:20250901
DTSTAMP:20260422T162553
CREATED:20250115T201213Z
LAST-MODIFIED:20250805T201040Z
UID:10558-1756598400-1756684799@www.crms.org
SUMMARY:Returning Boarding Students Arrive
DESCRIPTION:Move-in is on Sunday\, August 31st.\nStudents should arrive between 10:00 AM – 2:00 PM\, and check in at the Welcome Center to receive dorm assignments and keys.
URL:https://www.crms.org/calendar/returning-boarding-students-arrive-5/
CATEGORIES:Community
END:VEVENT
BEGIN:VEVENT
DTSTART;VALUE=DATE:20250901
DTEND;VALUE=DATE:20250902
DTSTAMP:20260422T162553
CREATED:20250115T201247Z
LAST-MODIFIED:20250115T201247Z
UID:10560-1756684800-1756771199@www.crms.org
SUMMARY:First Day of Classes
DESCRIPTION:Labor Day – First Day of Classes
URL:https://www.crms.org/calendar/first-day-of-classes-4/
CATEGORIES:Community
END:VEVENT
BEGIN:VEVENT
DTSTART;TZID=America/Denver:20250901T170000
DTEND;TZID=America/Denver:20250901T190000
DTSTAMP:20260422T162553
CREATED:20250115T201358Z
LAST-MODIFIED:20250728T163011Z
UID:10562-1756746000-1756753200@www.crms.org
SUMMARY:Convocation and Formal Dinner
DESCRIPTION:All students and faculty are required to attend. \n5:00 p.m. Convocation\n5:15 p.m. Formal Dinner (Advisory & Senior Class Photos)
URL:https://www.crms.org/calendar/convocation-and-formal-dinner-3/
CATEGORIES:Community
END:VEVENT
BEGIN:VEVENT
DTSTART;TZID=America/Denver:20250902T083000
DTEND;TZID=America/Denver:20250902T093000
DTSTAMP:20260422T162553
CREATED:20250814T223405Z
LAST-MODIFIED:20250814T223705Z
UID:11928-1756801800-1756805400@www.crms.org
SUMMARY:Day Families: New Parent Orientation Meeting
DESCRIPTION:Day Parent Meeting:\nTuesday\, September 2\, 8:30 AM\nBar Fork Upper Level \nTo warmly welcome our new families and help you feel connected from the very start\, we will be hosting Parent Orientation Meetings on September 2nd (in person for day families and on Zoom for boarding families). These gatherings are an important part of our onboarding process and a wonderful opportunity to meet other parents\, learn more about our community\, and get your questions answered. We ask that all new parents plan to attend—your presence helps us build a strong\, supportive community. \nPlease contact Katie Bailey\, Alumni & Parent Relations Manager\, with any questions. \n 
URL:https://www.crms.org/calendar/new-parent-orientation-meeting-day-students/
CATEGORIES:Community
END:VEVENT
BEGIN:VEVENT
DTSTART;TZID=America/Denver:20250902T180000
DTEND;TZID=America/Denver:20250902T190000
DTSTAMP:20260422T162553
CREATED:20250814T223523Z
LAST-MODIFIED:20250814T223740Z
UID:11930-1756836000-1756839600@www.crms.org
SUMMARY:Boarding Families: New Parent Orientation Meeting
DESCRIPTION:Boarding Parent Meeting:\nTuesday\, September 2\, 6:00 PM\nZoom – check back soon for the link \nTo warmly welcome our new families and help you feel connected from the very start\, we will be hosting Parent Orientation Meetings on September 2nd (in person for day families and on Zoom for boarding families). These gatherings are an important part of our onboarding process and a wonderful opportunity to meet other parents\, learn more about our community\, and get your questions answered. We ask that all new parents plan to attend—your presence helps us build a strong\, supportive community. \nPlease contact Katie Bailey\, Alumni & Parent Relations Manager\, with any questions. \n 
URL:https://www.crms.org/calendar/new-parent-orientation-meeting-boarding-students/
CATEGORIES:Community
END:VEVENT
BEGIN:VEVENT
DTSTART;VALUE=DATE:20250905
DTEND;VALUE=DATE:20250906
DTSTAMP:20260422T162553
CREATED:20250728T153358Z
LAST-MODIFIED:20250901T211434Z
UID:11758-1757030400-1757116799@www.crms.org
SUMMARY:Closed Evening
DESCRIPTION:Correction: Friday\, September 5th is a closed evening for all boarding students. \n 
URL:https://www.crms.org/calendar/closed-evening-no-sign-outs-for-act-test-takers/
CATEGORIES:Community
END:VEVENT
BEGIN:VEVENT
DTSTART;VALUE=DATE:20250906
DTEND;VALUE=DATE:20250907
DTSTAMP:20260422T162553
CREATED:20250613T160445Z
LAST-MODIFIED:20250613T160445Z
UID:11503-1757116800-1757203199@www.crms.org
SUMMARY:ACT: Primary for 12th Graders
DESCRIPTION:Jossman: Students arrive at 7:45 a.m.
URL:https://www.crms.org/calendar/act-primary-for-12th-graders-2/
CATEGORIES:Community
END:VEVENT
BEGIN:VEVENT
DTSTART;TZID=America/Denver:20250909T083000
DTEND;TZID=America/Denver:20250909T091500
DTSTAMP:20260422T162553
CREATED:20250910T203322Z
LAST-MODIFIED:20250910T203322Z
UID:12099-1757406600-1757409300@www.crms.org
SUMMARY:Parent Meeting: Hosting Boarding Students
DESCRIPTION:Parent Meeting: Hosting Boarding Students\nTuesday\, September 9\, 8:30 – 9:15 AM\nBar Fork – Upper Level Conference Room \nIf you are interested in hosting a boarding student for an overnight at your home\, it is required that you attend one of our Hosting Boarding Students meetings. Once a month throughout the first semester\, we welcome you to partner with us to learn about the school’s expectations around hosting boarding students and to create a caring network for the students and families we serve. Participation in this meeting is mandatory before you can host a boarding student. If you miss this one\, please join us for the next one!      \nPlease contact Katie Bailey\, Alumni & Parent Relations Manager\, with any questions. \n 
URL:https://www.crms.org/calendar/parent-meeting-hosting-boarding-students-2/
CATEGORIES:Community
END:VEVENT
BEGIN:VEVENT
DTSTART;TZID=America/Denver:20250910T173000
DTEND;TZID=America/Denver:20250910T193000
DTSTAMP:20260422T162553
CREATED:20250828T191550Z
LAST-MODIFIED:20250828T191617Z
UID:11992-1757525400-1757532600@www.crms.org
SUMMARY:Fall Senior Dinner
DESCRIPTION:Fall Senior Dinner – Hell Roaring Ranch\n12853 Highway 133\, Carbondale\, CO\n5:30 – 7:30 p.m. \nThe graduating class will kick off the year with a special Senior Dinner (casual dress) at Hell Roaring Ranch.
URL:https://www.crms.org/calendar/fall-senior-dinner/
CATEGORIES:Community
END:VEVENT
BEGIN:VEVENT
DTSTART;VALUE=DATE:20250912
DTEND;VALUE=DATE:20250913
DTSTAMP:20260422T162553
CREATED:20250728T164400Z
LAST-MODIFIED:20250728T164436Z
UID:11793-1757635200-1757721599@www.crms.org
SUMMARY:Closed Evening
DESCRIPTION:No sign-outs.
URL:https://www.crms.org/calendar/closed-evening-no-sign-outs-for-sat-test-takers/
CATEGORIES:Community
END:VEVENT
BEGIN:VEVENT
DTSTART;VALUE=DATE:20250912
DTEND;VALUE=DATE:20250915
DTSTAMP:20260422T162553
CREATED:20250115T201947Z
LAST-MODIFIED:20250115T201947Z
UID:10565-1757635200-1757894399@www.crms.org
SUMMARY:9th Grade Welcome Weekend
DESCRIPTION:The purpose of the 9th Grade Welcome Weekend is to create connections and bonds between incoming 9th graders. Since the Wilderness Orientation groups are small by design\, students may not have had the opportunity to get to know all of their new classmates before the start of classes.
URL:https://www.crms.org/calendar/9th-grade-welcome-weekend-2/
CATEGORIES:Community
END:VEVENT
BEGIN:VEVENT
DTSTART;VALUE=DATE:20250913
DTEND;VALUE=DATE:20250915
DTSTAMP:20260422T162553
CREATED:20250115T201918Z
LAST-MODIFIED:20250828T205311Z
UID:10564-1757721600-1757894399@www.crms.org
SUMMARY:Student Outdoor Leadership Workshop 1
DESCRIPTION:For 10th and 11th-grade students. \nMore details to come soon! \n 
URL:https://www.crms.org/calendar/college-counseling-leadership-initiatives-weekend-for-12th-graders-2/
CATEGORIES:Community
END:VEVENT
BEGIN:VEVENT
DTSTART;VALUE=DATE:20250913
DTEND;VALUE=DATE:20250914
DTSTAMP:20260422T162553
CREATED:20250613T160645Z
LAST-MODIFIED:20250910T165808Z
UID:11505-1757721600-1757807999@www.crms.org
SUMMARY:SAT: Primary for 12th Graders
DESCRIPTION:Jossman: Students should arrive at 7:45 a.m.
URL:https://www.crms.org/calendar/sat-primary-for-12th-graders/
CATEGORIES:Community
END:VEVENT
BEGIN:VEVENT
DTSTART;VALUE=DATE:20250913
DTEND;VALUE=DATE:20250914
DTSTAMP:20260422T162553
CREATED:20250115T202012Z
LAST-MODIFIED:20250829T171656Z
UID:10566-1757721600-1757807999@www.crms.org
SUMMARY:All School Scholarship Work Day
DESCRIPTION:All School Scholarship Work Day (required for 9th-12th grade students)\nSaturday\, September 13th\, 8:45 a.m. – 1:00 p.m. \nAll students take part in this day of service. It’s a yearly tradition that unites us as a community; working together to support the\nplace where we learn and live. Please come dressed in clothes that can get dirty or painted\, closed-toe shoes\, sun hat\, gloves\, water\, and sunscreen. It’s going to be a beautiful day!
URL:https://www.crms.org/calendar/all-school-scholarship-work-day/
CATEGORIES:Community
END:VEVENT
BEGIN:VEVENT
DTSTART;VALUE=DATE:20250917
DTEND;VALUE=DATE:20250918
DTSTAMP:20260422T162553
CREATED:20250728T142841Z
LAST-MODIFIED:20250820T153210Z
UID:11732-1758067200-1758153599@www.crms.org
SUMMARY:Oystermeister: Pond Swim
DESCRIPTION:Wednesday\, September 17\, 2025\nMeet at the Kayak Pond \nWhat is Oystermeister? Seven times each school year\, students and faculty come together for a school-wide\, fun-for-all athletic event. Students pay an entry fee of $1 each to participate and all funds raised support student clubs. Regardless of ability\, we invite the entire CRMS community to join in – and don’t forget your school spirit\, costume\, and friendly competition! \nThe 7 events are: \n\nOpen water pond swim and party\n2.5-mile trail run on Tick Ridge\nCampus course cycling time trial\nRock climbing – bouldering in the CRMS Gym\n5K Nordic ski (skate or classic) at Spring Gulch\nAlpine downhill at the Snowmass Ski Area NASTAR course\nKayaking race starting at River Valley Ranch and ending at CRMS\n\nTo read more about the CRMS Oystermeiser tradition\, visit the CRMS blog.
URL:https://www.crms.org/calendar/oystermeister-pond-swim-4/
CATEGORIES:Community
END:VEVENT
BEGIN:VEVENT
DTSTART;TZID=America/Denver:20250918T081500
DTEND;TZID=America/Denver:20250918T094500
DTSTAMP:20260422T162553
CREATED:20250910T201643Z
LAST-MODIFIED:20250910T201643Z
UID:12091-1758183300-1758188700@www.crms.org
SUMMARY:Parent Social: Coffee & Walk
DESCRIPTION:Please join us on Thursday\, September 18th\, for coffee and a walk with other CRMS parents. Feel free to pop by and say hello\, even if you can’t make the walk. \nCoffee: 8:15 – 8:45 AM \nWalk on the Rio Grand Trail: 8:45 – 9:45 AM \nWe will meet at the Bar Fork on the upper level.
URL:https://www.crms.org/calendar/parent-social-coffee-walk/
CATEGORIES:Community
END:VEVENT
BEGIN:VEVENT
DTSTART;VALUE=DATE:20250919
DTEND;VALUE=DATE:20250921
DTSTAMP:20260422T162553
CREATED:20250110T171045Z
LAST-MODIFIED:20250110T171045Z
UID:10455-1758240000-1758412799@www.crms.org
SUMMARY:Board of Trustees Meeting
DESCRIPTION:
URL:https://www.crms.org/calendar/board-of-trustees-meeting-4/
CATEGORIES:Community
END:VEVENT
BEGIN:VEVENT
DTSTART;VALUE=DATE:20250919
DTEND;VALUE=DATE:20250920
DTSTAMP:20260422T162553
CREATED:20250910T164228Z
LAST-MODIFIED:20250910T171631Z
UID:12071-1758240000-1758326399@www.crms.org
SUMMARY:Q1 Active Scholarship Deadline
DESCRIPTION:1st Quarter Active Scholarships\nDue September 19\, 2025 at 5:00 p.m. MT \nCRMS provides need-based assistance to help ease the financial burden for quarterly active or trip fees. Any student who has received financial aid for tuition is welcome to apply. Active scholarships are only applied toward participation fees and do not support equipment purchases\, ski passes\, travel expenses\, etc.\nPlease apply here. \nIf you have any questions\, please contact Molly Dorais\, Director of Enrollment & Tuition Assistance.
URL:https://www.crms.org/calendar/q1-active-scholarships-deadline-2/
CATEGORIES:Community
END:VEVENT
BEGIN:VEVENT
DTSTART;VALUE=DATE:20250929
DTEND;VALUE=DATE:20251004
DTSTAMP:20260422T162553
CREATED:20250115T202123Z
LAST-MODIFIED:20250115T202123Z
UID:10568-1759104000-1759535999@www.crms.org
SUMMARY:Fall Trip
DESCRIPTION:Students will receive more information and register for their Fall Trip choices in September. All students in level 1 actives (rock climbing\, mountain biking\, and kayaking) will automatically be placed on a level 1 trip. \n*Please contact the school if your student will be observing Yom Kippur so that we can discuss available options.  \nPlease contact Renée Thibodeaux\, Outdoor Program Director\, with any questions. 
URL:https://www.crms.org/calendar/fall-trip-5/
CATEGORIES:Community
END:VEVENT
BEGIN:VEVENT
DTSTART;TZID=America/Denver:20250930T170000
DTEND;TZID=America/Denver:20250930T174500
DTSTAMP:20260422T162553
CREATED:20250910T202605Z
LAST-MODIFIED:20250925T205915Z
UID:12097-1759251600-1759254300@www.crms.org
SUMMARY:Parent Meeting: Hosting Boarding Students
DESCRIPTION:Parent Meeting: Hosting Boarding Students\nTuesday\, September 30\, 5:00 – 5:45 PM\nBar Fork – Upper Level Conference Room \nIf you are interested in hosting a boarding student for an overnight at your home\, it is required that you attend one of our Hosting Boarding Students meetings. Once a month throughout the first semester\, we welcome you to partner with us to learn about the school’s expectations around hosting boarding students and to create a caring network for the students and families we serve. Participation in this meeting is mandatory before you can host a boarding student. If you miss this one\, please join us for the next one!      \nPlease contact Katie Bailey\, Alumni & Parent Relations Manager\, with any questions. \n 
URL:https://www.crms.org/calendar/parent-meeting-hosting-boarding-students/
CATEGORIES:Community
END:VEVENT
BEGIN:VEVENT
DTSTART;VALUE=DATE:20251003
DTEND;VALUE=DATE:20251004
DTSTAMP:20260422T162553
CREATED:20250728T153601Z
LAST-MODIFIED:20250728T153601Z
UID:11760-1759449600-1759535999@www.crms.org
SUMMARY:Closed Evening for 12th Graders
DESCRIPTION:Friday\, October 3rd is a closed evening for 12th-grade students.\nNo overnight sign-outs.
URL:https://www.crms.org/calendar/closed-evening-for-12th-graders/
CATEGORIES:Community
END:VEVENT
BEGIN:VEVENT
DTSTART;VALUE=DATE:20251004
DTEND;VALUE=DATE:20251008
DTSTAMP:20260422T162553
CREATED:20250115T202201Z
LAST-MODIFIED:20250115T202201Z
UID:10569-1759536000-1759881599@www.crms.org
SUMMARY:College Visit Days for 12th Graders
DESCRIPTION:
URL:https://www.crms.org/calendar/college-visit-days-for-12th-graders-2/
CATEGORIES:Community
END:VEVENT
BEGIN:VEVENT
DTSTART;VALUE=DATE:20251004
DTEND;VALUE=DATE:20251005
DTSTAMP:20260422T162553
CREATED:20250802T222752Z
LAST-MODIFIED:20250802T222752Z
UID:11822-1759536000-1759622399@www.crms.org
SUMMARY:SAT: Optional
DESCRIPTION:
URL:https://www.crms.org/calendar/sat-optional-11/
CATEGORIES:Community
END:VEVENT
END:VCALENDAR