BEGIN:VCALENDAR
VERSION:2.0
PRODID:-//Colorado Rocky Mountain School - ECPv6.9.0//NONSGML v1.0//EN
CALSCALE:GREGORIAN
METHOD:PUBLISH
X-ORIGINAL-URL:https://www.crms.org
X-WR-CALDESC:Events for Colorado Rocky Mountain School
REFRESH-INTERVAL;VALUE=DURATION:PT1H
X-Robots-Tag:noindex
X-PUBLISHED-TTL:PT1H
BEGIN:VTIMEZONE
TZID:America/Denver
BEGIN:DAYLIGHT
TZOFFSETFROM:-0700
TZOFFSETTO:-0600
TZNAME:MDT
DTSTART:20210314T090000
END:DAYLIGHT
BEGIN:STANDARD
TZOFFSETFROM:-0600
TZOFFSETTO:-0700
TZNAME:MST
DTSTART:20211107T080000
END:STANDARD
BEGIN:DAYLIGHT
TZOFFSETFROM:-0700
TZOFFSETTO:-0600
TZNAME:MDT
DTSTART:20220313T090000
END:DAYLIGHT
BEGIN:STANDARD
TZOFFSETFROM:-0600
TZOFFSETTO:-0700
TZNAME:MST
DTSTART:20221106T080000
END:STANDARD
END:VTIMEZONE
BEGIN:VEVENT
DTSTART;TZID=America/Denver:20220205T080000
DTEND;TZID=America/Denver:20220205T120000
DTSTAMP:20260425T074131
CREATED:20211112T201611Z
LAST-MODIFIED:20211112T201911Z
UID:5428-1644048000-1644062400@www.crms.org
SUMMARY:SAT Practice Test. Required for Juniors
DESCRIPTION:
URL:https://www.crms.org/calendar/sat-practice-test-required-for-juniors/
CATEGORIES:Community
END:VEVENT
BEGIN:VEVENT
DTSTART;TZID=America/Denver:20220204T190000
DTEND;TZID=America/Denver:20220204T203000
DTSTAMP:20260425T074131
CREATED:20211228T224408Z
LAST-MODIFIED:20220110T213258Z
UID:5560-1644001200-1644006600@www.crms.org
SUMMARY:Winter Band Concert
DESCRIPTION:
URL:https://www.crms.org/calendar/winter-band-concert-and-art-show/
CATEGORIES:Community
END:VEVENT
BEGIN:VEVENT
DTSTART;VALUE=DATE:20220114
DTEND;VALUE=DATE:20220115
DTSTAMP:20260425T074131
CREATED:20210707T153737Z
LAST-MODIFIED:20210707T153737Z
UID:4930-1642118400-1642204799@www.crms.org
SUMMARY:Q3 Active Scholarship Application Due
DESCRIPTION:This application is for students who would like to participate in an Active Curriculum program and would like to apply for scholarship assistance to defray some of the expenses associated with the particular offering. All students are welcome to apply\, but preference will be given to students currently receiving need-based financial aid. A new request must be filled out each quarter. \nhttps://forms.gle/1mXaTQixa8NGy1qG8
URL:https://www.crms.org/calendar/q3-active-scholarship-application-due/
CATEGORIES:Community
END:VEVENT
BEGIN:VEVENT
DTSTART;TZID=America/Denver:20220107T120000
DTEND;TZID=America/Denver:20220107T170000
DTSTAMP:20260425T074131
CREATED:20211209T222548Z
LAST-MODIFIED:20211209T222548Z
UID:5521-1641556800-1641574800@www.crms.org
SUMMARY:1st Day of Winter Active
DESCRIPTION:All students will depart for the mountain after lunch. Please come prepared with all of your gear.
URL:https://www.crms.org/calendar/1st-day-of-winter-active/
CATEGORIES:Community
END:VEVENT
BEGIN:VEVENT
DTSTART;TZID=America/Denver:20220106T160500
DTEND;TZID=America/Denver:20220106T170000
DTSTAMP:20260425T074131
CREATED:20211209T222424Z
LAST-MODIFIED:20211209T222424Z
UID:5519-1641485100-1641488400@www.crms.org
SUMMARY:Snow Gear Check
DESCRIPTION:All students will meet with their respective groups (Ski\, Snowboard\, Snowshoe) to go over the gear needed for their activity. All gear can be stored in Base Camp. Lockers are available. Students should supply their own locks.
URL:https://www.crms.org/calendar/snow-gear-check/
CATEGORIES:Community
END:VEVENT
BEGIN:VEVENT
DTSTART;TZID=America/Denver:20220105T160000
DTEND;TZID=America/Denver:20220105T170000
DTSTAMP:20260425T074131
CREATED:20211209T222247Z
LAST-MODIFIED:20211209T222247Z
UID:5517-1641398400-1641402000@www.crms.org
SUMMARY:Snow orientation for all students
DESCRIPTION:Students will meet in the Barn to have a snow orientation.
URL:https://www.crms.org/calendar/snow-orientation-for-all-students/
CATEGORIES:Community
END:VEVENT
BEGIN:VEVENT
DTSTART;VALUE=DATE:20220105
DTEND;VALUE=DATE:20220106
DTSTAMP:20260425T074131
CREATED:20210315T185404Z
LAST-MODIFIED:20210315T185404Z
UID:4310-1641340800-1641427199@www.crms.org
SUMMARY:Classes Begin
DESCRIPTION:
URL:https://www.crms.org/calendar/classes-begin-2/
CATEGORIES:Community
END:VEVENT
BEGIN:VEVENT
DTSTART;VALUE=DATE:20220104
DTEND;VALUE=DATE:20220105
DTSTAMP:20260425T074131
CREATED:20210315T185335Z
LAST-MODIFIED:20210315T185335Z
UID:4308-1641254400-1641340799@www.crms.org
SUMMARY:Boarding Students Return
DESCRIPTION:
URL:https://www.crms.org/calendar/boarding-students-return/
CATEGORIES:Community
END:VEVENT
BEGIN:VEVENT
DTSTART;VALUE=DATE:20211211
DTEND;VALUE=DATE:20211212
DTSTAMP:20260425T074131
CREATED:20210315T185251Z
LAST-MODIFIED:20210315T185251Z
UID:4306-1639180800-1639267199@www.crms.org
SUMMARY:Winter Break Begins
DESCRIPTION:
URL:https://www.crms.org/calendar/winter-break-begins/
CATEGORIES:Community
END:VEVENT
BEGIN:VEVENT
DTSTART;VALUE=DATE:20211208
DTEND;VALUE=DATE:20211211
DTSTAMP:20260425T074131
CREATED:20210315T185219Z
LAST-MODIFIED:20210315T185219Z
UID:4304-1638921600-1639180799@www.crms.org
SUMMARY:Exams - Special Schedule
DESCRIPTION:
URL:https://www.crms.org/calendar/exams-special-schedule/
CATEGORIES:Community
END:VEVENT
BEGIN:VEVENT
DTSTART;VALUE=DATE:20211203
DTEND;VALUE=DATE:20211205
DTSTAMP:20260425T074131
CREATED:20210824T190905Z
LAST-MODIFIED:20210824T190905Z
UID:5140-1638489600-1638662399@www.crms.org
SUMMARY:Board of Trustee Meeting
DESCRIPTION:
URL:https://www.crms.org/calendar/board-of-trustee-meeting-3/
CATEGORIES:Community
END:VEVENT
BEGIN:VEVENT
DTSTART;VALUE=DATE:20211130
DTEND;VALUE=DATE:20211201
DTSTAMP:20260425T074131
CREATED:20211124T152851Z
LAST-MODIFIED:20211124T152959Z
UID:5458-1638230400-1638316799@www.crms.org
SUMMARY:Giving Tuesday @ CRMS
DESCRIPTION:Join donors from around the world in supporting your favorite non-profits! You can make an impact on CRMS students by making a gift to: \n\nScholarships & Financial Aid\nOutdoor Program\n[HS]2 Summer Program\nWhere CRMS needs funding most (Unrestricted)\n\nGive now
URL:https://www.crms.org/calendar/giving-tuesday-crms/
CATEGORIES:Community
END:VEVENT
BEGIN:VEVENT
DTSTART;VALUE=DATE:20211129
DTEND;VALUE=DATE:20211130
DTSTAMP:20260425T074131
CREATED:20210315T184405Z
LAST-MODIFIED:20210315T184405Z
UID:4302-1638144000-1638230399@www.crms.org
SUMMARY:Classes Resume
DESCRIPTION:
URL:https://www.crms.org/calendar/classes-resume/
CATEGORIES:Community
END:VEVENT
BEGIN:VEVENT
DTSTART;VALUE=DATE:20211125
DTEND;VALUE=DATE:20211126
DTSTAMP:20260425T074131
CREATED:20210804T191519Z
LAST-MODIFIED:20210804T191519Z
UID:5073-1637798400-1637884799@www.crms.org
SUMMARY:Thanksgiving Community Dinner
DESCRIPTION:
URL:https://www.crms.org/calendar/thanksgiving-community-dinner-2/
CATEGORIES:Community
END:VEVENT
BEGIN:VEVENT
DTSTART;VALUE=DATE:20211125
DTEND;VALUE=DATE:20211127
DTSTAMP:20260425T074131
CREATED:20210315T184246Z
LAST-MODIFIED:20210315T184246Z
UID:4298-1637798400-1637971199@www.crms.org
SUMMARY:No Classes or Active
DESCRIPTION:
URL:https://www.crms.org/calendar/no-classes-or-active-3/
CATEGORIES:Community
END:VEVENT
BEGIN:VEVENT
DTSTART;VALUE=DATE:20211124
DTEND;VALUE=DATE:20211125
DTSTAMP:20260425T074131
CREATED:20210315T184214Z
LAST-MODIFIED:20210315T184214Z
UID:4296-1637712000-1637798399@www.crms.org
SUMMARY:No Active\, Special Schedule
DESCRIPTION:
URL:https://www.crms.org/calendar/no-active-special-schedule/
CATEGORIES:Community
END:VEVENT
BEGIN:VEVENT
DTSTART;TZID=America/Denver:20211119T151500
DTEND;TZID=America/Denver:20211119T161500
DTSTAMP:20260425T074131
CREATED:20210804T175346Z
LAST-MODIFIED:20210804T175346Z
UID:5052-1637334900-1637338500@www.crms.org
SUMMARY:Oystermeister: Climb
DESCRIPTION:Oystermeister is a series of competitive events throughout the year. The series\, which attracts approximately 60-120 participants\, offers a diverse lineup of events. They include rock climbing/bouldering; a 2.5-mile trail run on Tick Ridge; 250-meter swim; a 5K Nordic ski (skate or classic) at Spring Gulch; an alpine downhill at the Snowmass Ski Area NASTAR course; a cycling time trial to Dry Park Road; and finally\, a downriver kayaking race starting at River Valley Ranch and ending at CRMS.
URL:https://www.crms.org/calendar/oystermeister-climb/
CATEGORIES:Community
END:VEVENT
BEGIN:VEVENT
DTSTART;VALUE=DATE:20211112
DTEND;VALUE=DATE:20211113
DTSTAMP:20260425T074131
CREATED:20211108T231352Z
LAST-MODIFIED:20211108T231352Z
UID:5416-1636675200-1636761599@www.crms.org
SUMMARY:Interim Scholarship Application Due
DESCRIPTION:This application is for students who would like Interim scholarship assistance to defray some of the expenses associated with the particular offering. All students are welcome to apply\, but preference will be given to students currently receiving need-based financial aid. Click here to access the application.
URL:https://www.crms.org/calendar/interim-scholarship-application-due/
CATEGORIES:Community
END:VEVENT
BEGIN:VEVENT
DTSTART;VALUE=DATE:20211108
DTEND;VALUE=DATE:20211110
DTSTAMP:20260425T074131
CREATED:20210315T184028Z
LAST-MODIFIED:20210729T201904Z
UID:4290-1636329600-1636502399@www.crms.org
SUMMARY:Wellness Days
DESCRIPTION:CRMS students will be participating in various seminars and presentations throughout these two days that will address all areas of wellness for our students.
URL:https://www.crms.org/calendar/fcd-wellness/
CATEGORIES:Community
END:VEVENT
BEGIN:VEVENT
DTSTART;TZID=America/Denver:20211106T130000
DTEND;TZID=America/Denver:20211106T160000
DTSTAMP:20260425T074131
CREATED:20211022T164546Z
LAST-MODIFIED:20211022T164546Z
UID:5376-1636203600-1636214400@www.crms.org
SUMMARY:Coffee House
DESCRIPTION:
URL:https://www.crms.org/calendar/coffee-house-2/
CATEGORIES:Community
END:VEVENT
BEGIN:VEVENT
DTSTART;VALUE=DATE:20211106
DTEND;VALUE=DATE:20211107
DTSTAMP:20260425T074131
CREATED:20210505T170652Z
LAST-MODIFIED:20210505T170652Z
UID:4719-1636156800-1636243199@www.crms.org
SUMMARY:SAT Testing Date
DESCRIPTION:The SAT will be offered at CRMS.
URL:https://www.crms.org/calendar/sat-testing-date-3/
CATEGORIES:Community
END:VEVENT
BEGIN:VEVENT
DTSTART;VALUE=DATE:20211105
DTEND;VALUE=DATE:20211107
DTSTAMP:20260425T074131
CREATED:20211027T201154Z
LAST-MODIFIED:20211027T201154Z
UID:5399-1636070400-1636243199@www.crms.org
SUMMARY:OysterBASH Online Auction
DESCRIPTION:You can help support the CRMS Arts & Active programs by participating in OysterBASH\, our annual silent auction. This year’s auction will be hosted online with in-person viewing of selected items during Family Weekend. Most of the silent auction items are created by our talented CRMS faculty\, students\, and alumni. Bid & win online through 5:00 p.m. on November 6th at http://OysterBASH21.givesmart.com \n\n 
URL:https://www.crms.org/calendar/oysterbash-online-auction/
CATEGORIES:Community
END:VEVENT
BEGIN:VEVENT
DTSTART;VALUE=DATE:20211105
DTEND;VALUE=DATE:20211108
DTSTAMP:20260425T074131
CREATED:20210315T183937Z
LAST-MODIFIED:20210315T183937Z
UID:4288-1636070400-1636329599@www.crms.org
SUMMARY:Family Weekend
DESCRIPTION:
URL:https://www.crms.org/calendar/family-weekend/
CATEGORIES:Community
END:VEVENT
BEGIN:VEVENT
DTSTART;VALUE=DATE:20211029
DTEND;VALUE=DATE:20211030
DTSTAMP:20260425T074131
CREATED:20210707T153655Z
LAST-MODIFIED:20210707T153655Z
UID:4928-1635465600-1635551999@www.crms.org
SUMMARY:Q2 Active Scholarship Application Due
DESCRIPTION:This application is for students who would like to participate in an Active Curriculum program and would like to apply for scholarship assistance to defray some of the expenses associated with the particular offering. All students are welcome to apply\, but preference will be given to students currently receiving need-based financial aid. A new request must be filled out each quarter. \nhttps://forms.gle/1mXaTQixa8NGy1qG8
URL:https://www.crms.org/calendar/q2-active-scholarship-application-due/
CATEGORIES:Community
END:VEVENT
BEGIN:VEVENT
DTSTART;VALUE=DATE:20211023
DTEND;VALUE=DATE:20211024
DTSTAMP:20260425T074131
CREATED:20210816T165623Z
LAST-MODIFIED:20210816T165623Z
UID:5120-1634947200-1635033599@www.crms.org
SUMMARY:ACT Test
DESCRIPTION:
URL:https://www.crms.org/calendar/act-test/
CATEGORIES:Community
END:VEVENT
BEGIN:VEVENT
DTSTART;TZID=America/Denver:20211021T151500
DTEND;TZID=America/Denver:20211021T161500
DTSTAMP:20260425T074131
CREATED:20210804T175303Z
LAST-MODIFIED:20211013T160323Z
UID:5050-1634829300-1634832900@www.crms.org
SUMMARY:Oystermeister: Bike
DESCRIPTION:Oystermeister is a series of competitive events throughout the year. The series\, which attracts approximately 60-120 participants\, offers a diverse lineup of events. They include rock climbing/bouldering; a 2.5-mile trail run on Tick Ridge; 250-meter swim; a 5K Nordic ski (skate or classic) at Spring Gulch; an alpine downhill at the Snowmass Ski Area NASTAR course; a cycling time trial to Dry Park Road; and finally\, a downriver kayaking race starting at River Valley Ranch and ending at CRMS.
URL:https://www.crms.org/calendar/oystermeister-bike/
CATEGORIES:Community
END:VEVENT
BEGIN:VEVENT
DTSTART;TZID=America/Denver:20211016T080000
DTEND;TZID=America/Denver:20211016T120000
DTSTAMP:20260425T074131
CREATED:20210315T183709Z
LAST-MODIFIED:20210929T191448Z
UID:4284-1634371200-1634385600@www.crms.org
SUMMARY:PSAT. Required for 10th and 11th grades
DESCRIPTION:
URL:https://www.crms.org/calendar/primary-psat/
CATEGORIES:Community
END:VEVENT
BEGIN:VEVENT
DTSTART;VALUE=DATE:20211015
DTEND;VALUE=DATE:20211016
DTSTAMP:20260425T074131
CREATED:20210315T183623Z
LAST-MODIFIED:20210315T183623Z
UID:4282-1634256000-1634342399@www.crms.org
SUMMARY:End of 1st Quarter
DESCRIPTION:
URL:https://www.crms.org/calendar/end-of-1st-quarter/
CATEGORIES:Community
END:VEVENT
BEGIN:VEVENT
DTSTART;VALUE=DATE:20211012
DTEND;VALUE=DATE:20211013
DTSTAMP:20260425T074131
CREATED:20210315T183557Z
LAST-MODIFIED:20210927T171150Z
UID:4280-1633996800-1634083199@www.crms.org
SUMMARY:Special Schedule
DESCRIPTION:Special Schedule
URL:https://www.crms.org/calendar/special-schedule/
CATEGORIES:Community
END:VEVENT
BEGIN:VEVENT
DTSTART;TZID=America/Denver:20211011T170000
DTEND;TZID=America/Denver:20211011T190000
DTSTAMP:20260425T074131
CREATED:20210804T191449Z
LAST-MODIFIED:20210927T170614Z
UID:5071-1633971600-1633978800@www.crms.org
SUMMARY:Community Harvest Dinner
DESCRIPTION:
URL:https://www.crms.org/calendar/community-harvest-dinner/
CATEGORIES:Community
END:VEVENT
END:VCALENDAR