BEGIN:VCALENDAR
VERSION:2.0
PRODID:-//Colorado Rocky Mountain School - ECPv6.9.0//NONSGML v1.0//EN
CALSCALE:GREGORIAN
METHOD:PUBLISH
X-ORIGINAL-URL:https://www.crms.org
X-WR-CALDESC:Events for Colorado Rocky Mountain School
REFRESH-INTERVAL;VALUE=DURATION:PT1H
X-Robots-Tag:noindex
X-PUBLISHED-TTL:PT1H
BEGIN:VTIMEZONE
TZID:America/Denver
BEGIN:DAYLIGHT
TZOFFSETFROM:-0700
TZOFFSETTO:-0600
TZNAME:MDT
DTSTART:20240310T090000
END:DAYLIGHT
BEGIN:STANDARD
TZOFFSETFROM:-0600
TZOFFSETTO:-0700
TZNAME:MST
DTSTART:20241103T080000
END:STANDARD
BEGIN:DAYLIGHT
TZOFFSETFROM:-0700
TZOFFSETTO:-0600
TZNAME:MDT
DTSTART:20250309T090000
END:DAYLIGHT
BEGIN:STANDARD
TZOFFSETFROM:-0600
TZOFFSETTO:-0700
TZNAME:MST
DTSTART:20251102T080000
END:STANDARD
END:VTIMEZONE
BEGIN:VEVENT
DTSTART;TZID=America/Denver:20240930T183000
DTEND;TZID=America/Denver:20240930T193000
DTSTAMP:20260423T015501
CREATED:20240813T170923Z
LAST-MODIFIED:20240813T170923Z
UID:9702-1727721000-1727724600@www.crms.org
SUMMARY:Virtual Event: 12th Grade Parent College Counseling Night
DESCRIPTION:Monday\, September 30th at 6:30 p.m. MT.\nPlease register in advance. \nBetsy Bingham-Johns\, Director of College Counseling\, will host discussions of the college process for parents on zoom while allowing plenty of time for questions and answers. Please contact Betsy Bingham-Johns with questions. \nLearn where your 12th grader is in the college counseling process and what work they will do in the 24-25 school year with Betsy Bingham-Johns\, Director of College Counseling. This session will be recorded if you cannot attend online live.
URL:https://www.crms.org/calendar/virtual-event-12th-grade-parent-college-counseling-night/
CATEGORIES:Community
END:VEVENT
BEGIN:VEVENT
DTSTART;TZID=America/Denver:20241001T183000
DTEND;TZID=America/Denver:20241001T193000
DTSTAMP:20260423T015501
CREATED:20240813T171056Z
LAST-MODIFIED:20240813T171056Z
UID:9704-1727807400-1727811000@www.crms.org
SUMMARY:Virtual Event: 11th Grade Parent College Counseling Night
DESCRIPTION:Tuesday\, October 1st at 6:30 p.m. MT.\nPlease register in advance. \nBetsy Bingham-Johns\, Director of College Counseling\, will host discussions of the college process for parents on zoom while allowing plenty of time for questions and answers. Please contact Betsy Bingham-Johns with questions. \nLearn where your 11th grader is in the college counseling process and what work they will do in the 24-25 school year with Betsy Bingham-Johns\, Director of College Counseling. This session will be recorded if you cannot attend online live. \n 
URL:https://www.crms.org/calendar/virtual-event-11th-grade-parent-college-counseling-night-2/
CATEGORIES:Community
END:VEVENT
BEGIN:VEVENT
DTSTART;VALUE=DATE:20241004
DTEND;VALUE=DATE:20241005
DTSTAMP:20260423T015501
CREATED:20240829T183710Z
LAST-MODIFIED:20240829T183710Z
UID:9830-1728000000-1728086399@www.crms.org
SUMMARY:Closed Evening for 12th-Grade SAT Participants
DESCRIPTION:Friday\, October 4th is a closed evening for 12th-grade students who are taking the SAT test on Saturday\, October 5th. No overnight sign-outs.
URL:https://www.crms.org/calendar/closed-evening-for-12th-grade-sat-participants-2/
CATEGORIES:Community
END:VEVENT
BEGIN:VEVENT
DTSTART;VALUE=DATE:20241005
DTEND;VALUE=DATE:20241006
DTSTAMP:20260423T015501
CREATED:20240515T154249Z
LAST-MODIFIED:20240515T154805Z
UID:9276-1728086400-1728172799@www.crms.org
SUMMARY:SAT: Primary for 12th Graders
DESCRIPTION:
URL:https://www.crms.org/calendar/sat-primary-for-seniors-3/
CATEGORIES:Community
END:VEVENT
BEGIN:VEVENT
DTSTART;VALUE=DATE:20241006
DTEND;VALUE=DATE:20241007
DTSTAMP:20260423T015501
CREATED:20240229T210751Z
LAST-MODIFIED:20240229T210751Z
UID:8981-1728172800-1728259199@www.crms.org
SUMMARY:Colorado Western Slope College Fair
DESCRIPTION:Sunday\, October 6\, 10:00 a.m. – 2:00 p.m.\nAspen School District Campus \nRequired for 11th and 12th-grade students\nHighly recommended for 10th-grade students. \nTransportation: Boarding students will be provided with bus transportation; day students must get to the fair on their own. Students may take public transport back to CRMS if they have communicated with their teacher/driver. \nMeet college and university admissions officers from 250+ schools\, and choose from 30+ interactive workshop sessions and college planning resources. Workshops for families too! \nPlease contact Betsy Bingham-Johns\, Director of College Counseling\, with questions.
URL:https://www.crms.org/calendar/colorado-western-slope-college-fair/
CATEGORIES:Community
END:VEVENT
BEGIN:VEVENT
DTSTART;VALUE=DATE:20241006
DTEND;VALUE=DATE:20241009
DTSTAMP:20260423T015501
CREATED:20240229T210950Z
LAST-MODIFIED:20240229T210950Z
UID:8984-1728172800-1728431999@www.crms.org
SUMMARY:College Visit Days for 12th Graders
DESCRIPTION:
URL:https://www.crms.org/calendar/college-visit-days-for-12th-graders/
CATEGORIES:Community
END:VEVENT
BEGIN:VEVENT
DTSTART;VALUE=DATE:20241007
DTEND;VALUE=DATE:20241009
DTSTAMP:20260423T015501
CREATED:20240229T211530Z
LAST-MODIFIED:20240229T211530Z
UID:8986-1728259200-1728431999@www.crms.org
SUMMARY:Wellness Days
DESCRIPTION:
URL:https://www.crms.org/calendar/wellness-days-3/
CATEGORIES:Community
END:VEVENT
BEGIN:VEVENT
DTSTART;TZID=America/Denver:20241008T180000
DTEND;TZID=America/Denver:20241008T193000
DTSTAMP:20260423T015501
CREATED:20250115T202304Z
LAST-MODIFIED:20250115T202304Z
UID:10572-1728410400-1728415800@www.crms.org
SUMMARY:Harvest Dinner: Formal
DESCRIPTION:
URL:https://www.crms.org/calendar/harvest-dinner-formal-3/
CATEGORIES:Community
END:VEVENT
BEGIN:VEVENT
DTSTART;TZID=America/Denver:20241008T183000
DTEND;TZID=America/Denver:20241008T193000
DTSTAMP:20260423T015501
CREATED:20240813T171229Z
LAST-MODIFIED:20240813T171229Z
UID:9706-1728412200-1728415800@www.crms.org
SUMMARY:Virtual Event: 9th/10th Grade Parent College Counseling Night
DESCRIPTION:Tuesday\, October 8th at 6:30 p.m. MT.\nPlease register in advance. \nBetsy Bingham-Johns\, Director of College Counseling\, will host discussions of the college process for parents on zoom while allowing plenty of time for questions and answers. Please contact Betsy Bingham-Johns with questions. \n  \n 
URL:https://www.crms.org/calendar/virtual-event-9th-10th-grade-parent-college-counseling-night-2/
CATEGORIES:Community
END:VEVENT
BEGIN:VEVENT
DTSTART;VALUE=DATE:20241009
DTEND;VALUE=DATE:20241010
DTSTAMP:20260423T015501
CREATED:20241003T173948Z
LAST-MODIFIED:20241003T173948Z
UID:9987-1728432000-1728518399@www.crms.org
SUMMARY:Academic Check
DESCRIPTION:Each term\, we set dates for academic checks. This is a time we encourage families to log into Canvas and recognize each student’s academic progress. Our first academic check is Wednesday\, October 9th. \nThe intention of the Canvas Parent portal is so that families can see the status of assignments or grades given. When used well\, an open grade book promotes productive conversations between parents/guardians\, students\, and teachers. Parents should not feel obligated to check their child’s grade status frequently as most students are better off with autonomy and the understanding that they hold responsibility for their academic achievement. Students are expected to use Canvas daily as they complete homework and keep track of assessments. \n*Please note that current grades give us only a small snapshot of a student’s performance and do not reflect their overall progress or final grade. \nCanvas Tip: The default settings for Canvas Notifications can be overwhelming and unneeded. We recommend that you turn down or turn off the notifications and check in whenever you like through the App or web.\nHow to Adjust Canvas Notification Settings
URL:https://www.crms.org/calendar/academic-check/
CATEGORIES:Community
END:VEVENT
BEGIN:VEVENT
DTSTART;TZID=America/Denver:20241014T183000
DTEND;TZID=America/Denver:20241014T193000
DTSTAMP:20260423T015501
CREATED:20241010T184550Z
LAST-MODIFIED:20241010T184550Z
UID:10014-1728930600-1728934200@www.crms.org
SUMMARY:Virtual Event: College Financial Aid
DESCRIPTION:Monday\, October 14th at 6:30 p.m. MT.\nPlease register in advance. \nCRMS College Counselor Betsy Bingham-Johns will share insight on planning and preparing for financial aid for your college student. Please contact Betsy Bingham-Johns with questions. \n  \n 
URL:https://www.crms.org/calendar/college-financial-aid/
CATEGORIES:Community
END:VEVENT
BEGIN:VEVENT
DTSTART;VALUE=DATE:20241017
DTEND;VALUE=DATE:20241020
DTSTAMP:20260423T015501
CREATED:20241017T060000Z
LAST-MODIFIED:20241015T214343Z
UID:8988-1729123200-1729382399@www.crms.org
SUMMARY:Family Weekend
DESCRIPTION:RSVP for Family Weekend \nFamily Weekend is an annual event that brings family members to campus. The purpose of the weekend is to give students and their families an opportunity to be together in the school community and to meet with teachers and advisors\, visit classes and Student-Led Conferences\, listen to speakers on parenting and college counseling topics\, and participate in the life of the school. \nHighlighting the weekend is the CRMS Coffee House (the student talent show) as well as other fun fall programming. \nThis year\, published author and college admissions expert\, Becky Munsterer Sabky\, will join the program\, and we have re-envisioned the weekend to allow families to spend more time with their student and take full advantage of the CRMS experience. \nView the 2024 Family Weekend Schedule
URL:https://www.crms.org/calendar/family-weekend-4/
CATEGORIES:Community
END:VEVENT
BEGIN:VEVENT
DTSTART;VALUE=DATE:20241026
DTEND;VALUE=DATE:20241027
DTSTAMP:20260423T015501
CREATED:20240515T154853Z
LAST-MODIFIED:20240515T154853Z
UID:9285-1729900800-1729987199@www.crms.org
SUMMARY:ACT: Optional
DESCRIPTION:
URL:https://www.crms.org/calendar/act-optional-2/
CATEGORIES:Community
END:VEVENT
BEGIN:VEVENT
DTSTART;VALUE=DATE:20241031
DTEND;VALUE=DATE:20241101
DTSTAMP:20260423T015501
CREATED:20241003T174751Z
LAST-MODIFIED:20241031T163030Z
UID:9988-1730332800-1730419199@www.crms.org
SUMMARY:Academic Check
DESCRIPTION:Each term\, we set dates for academic checks. This is a time we encourage families to log into Canvas and recognize each student’s academic progress. Our second academic check is Wednesday\, October 31st. \nThe intention of the Canvas Parent portal is so that families can see the status of assignments or grades given. When used well\, an open grade book promotes productive conversations between parents/guardians\, students\, and teachers. Parents should not feel obligated to check their child’s grade status frequently as most students are better off with autonomy and the understanding that they hold responsibility for their academic achievement. Students are expected to use Canvas daily as they complete homework and keep track of assessments. \n*Please note that current grades give us only a small snapshot of a student’s performance and do not reflect their overall progress or final grade. \nCanvas Tip: The default settings for Canvas Notifications can be overwhelming and unneeded. We recommend that you turn down or turn off the notifications and check in whenever you like through the App or web.\nHow to Adjust Canvas Notification Settings
URL:https://www.crms.org/calendar/academic-check-5/
CATEGORIES:Community
END:VEVENT
BEGIN:VEVENT
DTSTART;VALUE=DATE:20241101
DTEND;VALUE=DATE:20241102
DTSTAMP:20260423T015501
CREATED:20240901T215934Z
LAST-MODIFIED:20240901T221053Z
UID:9837-1730419200-1730505599@www.crms.org
SUMMARY:Fantastic Fun Friday: Humans vs. Zombies (Closed Evening)
DESCRIPTION:Fantastic Fun Friday: Humans vs. Zombies\nClosed Evening\n \nBig events are more fun when more people participate\, so this is a closed evening for boarding students and an opportunity for day students to spend a night in the dorms for a fantastic and fun Friday!
URL:https://www.crms.org/calendar/fantastic-fun-friday-humans-vs-zombies/
CATEGORIES:Community
END:VEVENT
BEGIN:VEVENT
DTSTART;VALUE=DATE:20241102
DTEND;VALUE=DATE:20241103
DTSTAMP:20260423T015501
CREATED:20240515T155044Z
LAST-MODIFIED:20240515T155044Z
UID:9287-1730505600-1730591999@www.crms.org
SUMMARY:SAT: Optional
DESCRIPTION:
URL:https://www.crms.org/calendar/sat-optional-7/
CATEGORIES:Community
END:VEVENT
BEGIN:VEVENT
DTSTART;TZID=America/Denver:20241113T163000
DTEND;TZID=America/Denver:20241113T173000
DTSTAMP:20260423T015501
CREATED:20241024T205743Z
LAST-MODIFIED:20241108T154548Z
UID:10099-1731515400-1731519000@www.crms.org
SUMMARY:Oystermeister: Run
DESCRIPTION:Wednesday\, November 13\, 4:30 – 5:30 p.m. \nWhat is Oystermeister? Seven times each school year\, students and faculty come together for a school-wide\, fun-for-all athletic event. Students pay an entry fee of $1 each to participate and all funds raised support student clubs. Regardless of ability\, we invite the entire CRMS community to join in – and don’t forget your school spirit\, costume\, and friendly competition! \nThe 7 events are: \n\nOpen water pond swim and party\nCampus course cycling time trial\n2.5-mile trail run on Tick Ridge\nRock climbing – bouldering in the CRMS Gym\n5K Nordic ski (skate or classic) at Spring Gulch\nAlpine downhill at the Snowmass Ski Area NASTAR course\nKayaking race starting at River Valley Ranch and ending at CRMS\n\nTo read more about the CRMS Oystermeiser tradition\, visit the CRMS blog.
URL:https://www.crms.org/calendar/oystermeister-run-3/
CATEGORIES:Community
END:VEVENT
BEGIN:VEVENT
DTSTART;VALUE=DATE:20241122
DTEND;VALUE=DATE:20241123
DTSTAMP:20260423T015502
CREATED:20240229T212114Z
LAST-MODIFIED:20240229T212114Z
UID:8990-1732233600-1732319999@www.crms.org
SUMMARY:End of Trimester 1
DESCRIPTION:Students free to depart at 4:00 p.m.
URL:https://www.crms.org/calendar/end-of-trimester-1-2/
CATEGORIES:Community
END:VEVENT
BEGIN:VEVENT
DTSTART;VALUE=DATE:20241123
DTEND;VALUE=DATE:20241202
DTSTAMP:20260423T015502
CREATED:20240229T212424Z
LAST-MODIFIED:20240229T212424Z
UID:8992-1732320000-1733097599@www.crms.org
SUMMARY:Thanksgiving Break
DESCRIPTION:Saturday\, November 23\, 2024 – Travel Day\nSunday\, December 1\, 2024 – Travel Day\nMonday\, December 2\, 2024 – Classes Resume \nFriday\, November 22nd\, is a full day of classes. Parents may pick up their students after 4:00 p.m. CRMS will arrange for Colorado Transportation Services (CTS) for those students traveling to/from Denver International Airport on Saturday\, November 23\, and returning on Sunday\, December 1. \nTravel itineraries are due to Debbi Fadli Front Desk Project/Attendance Manager\, by November 1\, 2024.
URL:https://www.crms.org/calendar/thanksgiving-break-4/
CATEGORIES:Community
END:VEVENT
BEGIN:VEVENT
DTSTART;VALUE=DATE:20241123
DTEND;VALUE=DATE:20241124
DTSTAMP:20260423T015502
CREATED:20240229T212527Z
LAST-MODIFIED:20240229T212527Z
UID:8995-1732320000-1732406399@www.crms.org
SUMMARY:Travel Day - Thanksgiving Break
DESCRIPTION:
URL:https://www.crms.org/calendar/travel-day-thanksgiving-break-2/
CATEGORIES:Community
END:VEVENT
BEGIN:VEVENT
DTSTART;VALUE=DATE:20241201
DTEND;VALUE=DATE:20241202
DTSTAMP:20260423T015502
CREATED:20240229T212554Z
LAST-MODIFIED:20240229T212554Z
UID:8994-1733011200-1733097599@www.crms.org
SUMMARY:Travel Day - Thanksgiving Break
DESCRIPTION:
URL:https://www.crms.org/calendar/travel-day-thanksgiving-break-3/
CATEGORIES:Community
END:VEVENT
BEGIN:VEVENT
DTSTART;VALUE=DATE:20241202
DTEND;VALUE=DATE:20241203
DTSTAMP:20260423T015502
CREATED:20240229T212807Z
LAST-MODIFIED:20240229T212807Z
UID:8998-1733097600-1733183999@www.crms.org
SUMMARY:Classes Resume - Trimester 2 Begins
DESCRIPTION:
URL:https://www.crms.org/calendar/classes-resume-trimester-2-begins/
CATEGORIES:Community
END:VEVENT
BEGIN:VEVENT
DTSTART;TZID=America/Denver:20241204T173000
DTEND;TZID=America/Denver:20241204T200000
DTSTAMP:20260423T015502
CREATED:20241128T201750Z
LAST-MODIFIED:20241128T201750Z
UID:10238-1733333400-1733342400@www.crms.org
SUMMARY:Formal Dinner: Art Show & Winter Band Concert
DESCRIPTION:5:30 p.m. Visual Arts Show\n6:00 p.m. Dinner\n7:00 p.m. Band Concert
URL:https://www.crms.org/calendar/formal-dinner-art-show-winter-band-concert-2/
CATEGORIES:Community
END:VEVENT
BEGIN:VEVENT
DTSTART;VALUE=DATE:20241206
DTEND;VALUE=DATE:20241208
DTSTAMP:20260423T015502
CREATED:20240422T172305Z
LAST-MODIFIED:20240422T172305Z
UID:9199-1733443200-1733615999@www.crms.org
SUMMARY:Board of Trustees Meeting
DESCRIPTION:
URL:https://www.crms.org/calendar/board-of-trustees-meeting-2/
CATEGORIES:Community
END:VEVENT
BEGIN:VEVENT
DTSTART;VALUE=DATE:20241206
DTEND;VALUE=DATE:20241207
DTSTAMP:20260423T015502
CREATED:20240901T220208Z
LAST-MODIFIED:20240901T220312Z
UID:9839-1733443200-1733529599@www.crms.org
SUMMARY:Fantastic Fun Friday: Casino Night (Closed Evening)
DESCRIPTION:Fantastic Fun Friday: Casino Night\nClosed Evening \nBig events are more fun when more people participate\, so this is a closed evening for boarding students and an opportunity for day students to spend a night in the dorms for a fantastic and fun Friday!
URL:https://www.crms.org/calendar/fantastic-fun-friday-casino-night/
CATEGORIES:Community
END:VEVENT
BEGIN:VEVENT
DTSTART;TZID=America/Denver:20241218T163000
DTEND;TZID=America/Denver:20241218T183000
DTSTAMP:20260423T015502
CREATED:20241202T213056Z
LAST-MODIFIED:20241202T213056Z
UID:10256-1734539400-1734546600@www.crms.org
SUMMARY:Oystermeister: Climb
DESCRIPTION:Wednesday\, December 13\, 4:30 – 6:30 p.m. \nWhat is Oystermeister? Seven times each school year\, students and faculty come together for a school-wide\, fun-for-all athletic event. Students pay an entry fee of $1 each to participate and all funds raised support student clubs. Regardless of ability\, we invite the entire CRMS community to join in – and don’t forget your school spirit\, costume\, and friendly competition! \nThe 7 events are: \n\nOpen water pond swim and party\nCampus course cycling time trial\n2.5-mile trail run on Tick Ridge\nRock climbing – bouldering in the CRMS Gym\n5K Nordic ski (skate or classic) at Spring Gulch\nAlpine downhill at the Snowmass Ski Area NASTAR course\nKayaking race starting at River Valley Ranch and ending at CRMS\n\nTo read more about the CRMS Oystermeiser tradition\, visit the CRMS blog.
URL:https://www.crms.org/calendar/oystermeister-climb-4/
CATEGORIES:Community
END:VEVENT
BEGIN:VEVENT
DTSTART;VALUE=DATE:20241221
DTEND;VALUE=DATE:20250108
DTSTAMP:20260423T015502
CREATED:20240229T213257Z
LAST-MODIFIED:20240229T213340Z
UID:9000-1734739200-1736294399@www.crms.org
SUMMARY:Winter Break
DESCRIPTION:Saturday\, December 21\, 2024 – Travel Day\nTuesday\, January 7\, 2025 – Travel Day (Boarding students return to campus by 7:00 p.m.)\nWednesday\, January 8\, 2025 – Classes Resume \nFriday\, December 2oth is a full day of classes. Parents may pick up their students after 5:00 p.m. CRMS will arrange for Colorado Transportation Services (CTS) for those students traveling to/from Denver International Airport on Saturday\, December 21\, and returning on Tuesday\, January 7. \nTravel itineraries are due to Debbi Fadli\, Front Desk Project/Attendance Manager\, by November 22\, 2024.
URL:https://www.crms.org/calendar/winter-break-4/
CATEGORIES:Community
END:VEVENT
BEGIN:VEVENT
DTSTART;VALUE=DATE:20241221
DTEND;VALUE=DATE:20241222
DTSTAMP:20260423T015502
CREATED:20240229T213503Z
LAST-MODIFIED:20240229T213503Z
UID:9005-1734739200-1734825599@www.crms.org
SUMMARY:Winter Break Travel Day
DESCRIPTION:
URL:https://www.crms.org/calendar/winter-break-travel-day-4/
CATEGORIES:Community
END:VEVENT
BEGIN:VEVENT
DTSTART;VALUE=DATE:20250107
DTEND;VALUE=DATE:20250108
DTSTAMP:20260423T015502
CREATED:20240229T213422Z
LAST-MODIFIED:20240229T213422Z
UID:9001-1736208000-1736294399@www.crms.org
SUMMARY:Winter Break Travel Day
DESCRIPTION:Boarding students should be back on campus by 7:00 p.m.
URL:https://www.crms.org/calendar/winter-break-travel-day-3/
CATEGORIES:Community
END:VEVENT
BEGIN:VEVENT
DTSTART;VALUE=DATE:20250108
DTEND;VALUE=DATE:20250109
DTSTAMP:20260423T015502
CREATED:20240229T213548Z
LAST-MODIFIED:20240229T213548Z
UID:9007-1736294400-1736380799@www.crms.org
SUMMARY:Classes Resume
DESCRIPTION:Special Schedule for the week of January 9 – 12\, 2024.
URL:https://www.crms.org/calendar/classes-resume-5/
CATEGORIES:Community
END:VEVENT
END:VCALENDAR