BEGIN:VCALENDAR
VERSION:2.0
PRODID:-//Colorado Rocky Mountain School - ECPv6.9.0//NONSGML v1.0//EN
CALSCALE:GREGORIAN
METHOD:PUBLISH
X-ORIGINAL-URL:https://www.crms.org
X-WR-CALDESC:Events for Colorado Rocky Mountain School
REFRESH-INTERVAL;VALUE=DURATION:PT1H
X-Robots-Tag:noindex
X-PUBLISHED-TTL:PT1H
BEGIN:VTIMEZONE
TZID:America/Denver
BEGIN:DAYLIGHT
TZOFFSETFROM:-0700
TZOFFSETTO:-0600
TZNAME:MDT
DTSTART:20270314T090000
END:DAYLIGHT
BEGIN:STANDARD
TZOFFSETFROM:-0600
TZOFFSETTO:-0700
TZNAME:MST
DTSTART:20271107T080000
END:STANDARD
END:VTIMEZONE
BEGIN:VEVENT
DTSTART;VALUE=DATE:20270601
DTEND;VALUE=DATE:20270604
DTSTAMP:20260420T092955
CREATED:20260305T215418Z
LAST-MODIFIED:20260305T215418Z
UID:13051-1811808000-1812067199@www.crms.org
SUMMARY:Underclassmen Exams
DESCRIPTION:
URL:https://www.crms.org/calendar/underclassmen-exams-5/
CATEGORIES:Community
END:VEVENT
BEGIN:VEVENT
DTSTART;TZID=America/Denver:20270603T173000
DTEND;TZID=America/Denver:20270603T190000
DTSTAMP:20260420T092955
CREATED:20260305T215515Z
LAST-MODIFIED:20260305T215515Z
UID:13053-1812043800-1812049200@www.crms.org
SUMMARY:Awards Dinner: Formal
DESCRIPTION:This dinner is open to CRMS students and faculty only. Parents of award winners will be notified. Formal Dinner attire.
URL:https://www.crms.org/calendar/awards-dinner-formal-5/
CATEGORIES:Community
END:VEVENT
END:VCALENDAR