BEGIN:VCALENDAR
VERSION:2.0
PRODID:-//Colorado Rocky Mountain School - ECPv6.9.0//NONSGML v1.0//EN
CALSCALE:GREGORIAN
METHOD:PUBLISH
X-ORIGINAL-URL:https://www.crms.org
X-WR-CALDESC:Events for Colorado Rocky Mountain School
REFRESH-INTERVAL;VALUE=DURATION:PT1H
X-Robots-Tag:noindex
X-PUBLISHED-TTL:PT1H
BEGIN:VTIMEZONE
TZID:America/Denver
BEGIN:DAYLIGHT
TZOFFSETFROM:-0700
TZOFFSETTO:-0600
TZNAME:MDT
DTSTART:20270314T090000
END:DAYLIGHT
BEGIN:STANDARD
TZOFFSETFROM:-0600
TZOFFSETTO:-0700
TZNAME:MST
DTSTART:20271107T080000
END:STANDARD
END:VTIMEZONE
BEGIN:VEVENT
DTSTART;VALUE=DATE:20270505
DTEND;VALUE=DATE:20270508
DTSTAMP:20260420T093041
CREATED:20260305T214255Z
LAST-MODIFIED:20260305T214255Z
UID:13030-1809475200-1809734399@www.crms.org
SUMMARY:Senior Exams
DESCRIPTION:
URL:https://www.crms.org/calendar/senior-exams-7/
CATEGORIES:Community
END:VEVENT
BEGIN:VEVENT
DTSTART;VALUE=DATE:20270507
DTEND;VALUE=DATE:20270509
DTSTAMP:20260420T093041
CREATED:20251014T162153Z
LAST-MODIFIED:20251014T162153Z
UID:12264-1809648000-1809820799@www.crms.org
SUMMARY:Board of Trustees Meeting
DESCRIPTION:
URL:https://www.crms.org/calendar/board-of-trustees-meeting-9/
CATEGORIES:Community
END:VEVENT
BEGIN:VEVENT
DTSTART;TZID=America/Denver:20270507T180000
DTEND;TZID=America/Denver:20270507T193000
DTSTAMP:20260420T093041
CREATED:20260305T214820Z
LAST-MODIFIED:20260305T214820Z
UID:13040-1809712800-1809718200@www.crms.org
SUMMARY:Senior Formal Dinner (Required for 11th & 12th)
DESCRIPTION:6:00 p.m. Arrival & photos\n6:15 – 7:30 p.m. Dinner \nThe graduating class will kick off the end-of-year festivities with Senior Dinner (formal dress). \nAttendance is required for 11th & 12th graders.
URL:https://www.crms.org/calendar/senior-formal-dinner-required-for-11th-12th/
CATEGORIES:Community
END:VEVENT
END:VCALENDAR