BEGIN:VCALENDAR
VERSION:2.0
PRODID:-//Colorado Rocky Mountain School - ECPv6.9.0//NONSGML v1.0//EN
CALSCALE:GREGORIAN
METHOD:PUBLISH
X-WR-CALNAME:Colorado Rocky Mountain School
X-ORIGINAL-URL:https://www.crms.org
X-WR-CALDESC:Events for Colorado Rocky Mountain School
REFRESH-INTERVAL;VALUE=DURATION:PT1H
X-Robots-Tag:noindex
X-PUBLISHED-TTL:PT1H
BEGIN:VTIMEZONE
TZID:America/Denver
BEGIN:DAYLIGHT
TZOFFSETFROM:-0700
TZOFFSETTO:-0600
TZNAME:MDT
DTSTART:20240310T090000
END:DAYLIGHT
BEGIN:STANDARD
TZOFFSETFROM:-0600
TZOFFSETTO:-0700
TZNAME:MST
DTSTART:20241103T080000
END:STANDARD
END:VTIMEZONE
BEGIN:VEVENT
DTSTART;VALUE=DATE:20240902
DTEND;VALUE=DATE:20240903
DTSTAMP:20260423T013543
CREATED:20240229T210008Z
LAST-MODIFIED:20240229T210015Z
UID:8971-1725235200-1725321599@www.crms.org
SUMMARY:First Day of Classes
DESCRIPTION:Labor Day – First Day of Classes
URL:https://www.crms.org/calendar/first-day-of-classes-3/
CATEGORIES:Community
END:VEVENT
BEGIN:VEVENT
DTSTART;TZID=America/Denver:20240902T170000
DTEND;TZID=America/Denver:20240902T190000
DTSTAMP:20260423T013543
CREATED:20240226T195538Z
LAST-MODIFIED:20240827T171307Z
UID:8944-1725296400-1725303600@www.crms.org
SUMMARY:Convocation and Formal Dinner
DESCRIPTION:All students and faculty are required to attend. \n5:00 p.m. Convocation in the Barn\n5:45 p.m. Formal Dinner
URL:https://www.crms.org/calendar/convocation-and-formal-dinner-2/
CATEGORIES:Community
END:VEVENT
END:VCALENDAR