BEGIN:VCALENDAR
VERSION:2.0
PRODID:-//Colorado Rocky Mountain School - ECPv6.9.0//NONSGML v1.0//EN
CALSCALE:GREGORIAN
METHOD:PUBLISH
X-WR-CALNAME:Colorado Rocky Mountain School
X-ORIGINAL-URL:https://www.crms.org
X-WR-CALDESC:Events for Colorado Rocky Mountain School
REFRESH-INTERVAL;VALUE=DURATION:PT1H
X-Robots-Tag:noindex
X-PUBLISHED-TTL:PT1H
BEGIN:VTIMEZONE
TZID:America/Denver
BEGIN:DAYLIGHT
TZOFFSETFROM:-0700
TZOFFSETTO:-0600
TZNAME:MDT
DTSTART:20230312T090000
END:DAYLIGHT
BEGIN:STANDARD
TZOFFSETFROM:-0600
TZOFFSETTO:-0700
TZNAME:MST
DTSTART:20231105T080000
END:STANDARD
END:VTIMEZONE
BEGIN:VEVENT
DTSTART;TZID=America/Denver:20231215T180000
DTEND;TZID=America/Denver:20231215T193000
DTSTAMP:20260424T123351
CREATED:20231127T195425Z
LAST-MODIFIED:20231127T195425Z
UID:8454-1702663200-1702668600@www.crms.org
SUMMARY:Film Screening & Q&A: Relentless Ride
DESCRIPTION:Film Screening: Relentless Ride\nFollowed by a Q&A \nFree & open to the public; students and families are encouraged to attend. \n \n  \n 
URL:https://www.crms.org/calendar/film-screening-qa-relentless-ride/
LOCATION:The Barn
CATEGORIES:Community
END:VEVENT
END:VCALENDAR