BEGIN:VCALENDAR
VERSION:2.0
PRODID:-//Colorado Rocky Mountain School - ECPv6.9.0//NONSGML v1.0//EN
CALSCALE:GREGORIAN
METHOD:PUBLISH
X-WR-CALNAME:Colorado Rocky Mountain School
X-ORIGINAL-URL:https://www.crms.org
X-WR-CALDESC:Events for Colorado Rocky Mountain School
REFRESH-INTERVAL;VALUE=DURATION:PT1H
X-Robots-Tag:noindex
X-PUBLISHED-TTL:PT1H
BEGIN:VTIMEZONE
TZID:America/Denver
BEGIN:DAYLIGHT
TZOFFSETFROM:-0700
TZOFFSETTO:-0600
TZNAME:MDT
DTSTART:20230312T090000
END:DAYLIGHT
BEGIN:STANDARD
TZOFFSETFROM:-0600
TZOFFSETTO:-0700
TZNAME:MST
DTSTART:20231105T080000
END:STANDARD
END:VTIMEZONE
BEGIN:VEVENT
DTSTART;VALUE=DATE:20231118
DTEND;VALUE=DATE:20231127
DTSTAMP:20260424T141352
CREATED:20230228T212706Z
LAST-MODIFIED:20230906T185125Z
UID:7152-1700265600-1701043199@www.crms.org
SUMMARY:Thanksgiving Break
DESCRIPTION:Saturday\, November 18\, 2023 – Travel Day\nSunday\, November 26\, 2023 – Travel Day\nMonday\, November 27\, 2023 – Classes Resume \nFriday\, November 17th\, is a full day of classes. Parents may pick up their students after 5:00 p.m. CRMS will arrange for Colorado Transportation Services (CTS) for those students traveling to/from Denver International Airport on Saturday\, November 18\, and returning on Sunday\, November 26. \nTravel itineraries are due to Debbi Fadli Front Desk Project/Attendance Manager\, by November 1\, 2023.
URL:https://www.crms.org/calendar/thanksgiving-break-3/
CATEGORIES:Community
END:VEVENT
END:VCALENDAR