BEGIN:VCALENDAR
VERSION:2.0
PRODID:-//Colorado Rocky Mountain School - ECPv6.9.0//NONSGML v1.0//EN
CALSCALE:GREGORIAN
METHOD:PUBLISH
X-WR-CALNAME:Colorado Rocky Mountain School
X-ORIGINAL-URL:https://www.crms.org
X-WR-CALDESC:Events for Colorado Rocky Mountain School
REFRESH-INTERVAL;VALUE=DURATION:PT1H
X-Robots-Tag:noindex
X-PUBLISHED-TTL:PT1H
BEGIN:VTIMEZONE
TZID:America/Denver
BEGIN:DAYLIGHT
TZOFFSETFROM:-0700
TZOFFSETTO:-0600
TZNAME:MDT
DTSTART:20230312T090000
END:DAYLIGHT
BEGIN:STANDARD
TZOFFSETFROM:-0600
TZOFFSETTO:-0700
TZNAME:MST
DTSTART:20231105T080000
END:STANDARD
END:VTIMEZONE
BEGIN:VEVENT
DTSTART;VALUE=DATE:20231115
DTEND;VALUE=DATE:20231118
DTSTAMP:20260424T141405
CREATED:20231024T234230Z
LAST-MODIFIED:20231024T234230Z
UID:8297-1700006400-1700265599@www.crms.org
SUMMARY:End of Term 1: Assessments
DESCRIPTION:
URL:https://www.crms.org/calendar/end-of-term-1-assessments-2/
CATEGORIES:Community
END:VEVENT
BEGIN:VEVENT
DTSTART;TZID=America/Denver:20231115T180000
DTEND;TZID=America/Denver:20231115T190000
DTSTAMP:20260424T141405
CREATED:20230807T175926Z
LAST-MODIFIED:20230821T172910Z
UID:7564-1700071200-1700074800@www.crms.org
SUMMARY:Formal Dinner
DESCRIPTION:
URL:https://www.crms.org/calendar/formal-dinner-6/
CATEGORIES:Community
END:VEVENT
END:VCALENDAR